Back to Multiple platform build/check report for BioC 3.15
ABCDEF[G]HIJKLMNOPQRSTUVWXYZ

This page was generated on 2022-01-24 11:05:47 -0500 (Mon, 24 Jan 2022).

HostnameOSArch (*)R versionInstalled pkgs
nebbiolo1Linux (Ubuntu 20.04.4 LTS)x86_64R Under development (unstable) (2022-01-05 r81451) -- "Unsuffered Consequences" 4163
riesling1Windows Server 2019 Standardx64R Under development (unstable) (2021-11-21 r81221) -- "Unsuffered Consequences" 4058
palomino3Windows Server 2022 Datacenterx64R Under development (unstable) (2021-12-21 r81400 ucrt) -- "Unsuffered Consequences" 4000
merida1macOS 10.14.6 Mojavex86_64R Under development (unstable) (2022-01-05 r81451) -- "Unsuffered Consequences" 4117
Click on any hostname to see more info about the system (e.g. compilers)      (*) as reported by 'uname -p', except on Windows and Mac OS X

CHECK results for geneplotter on nebbiolo1


To the developers/maintainers of the geneplotter package:
- Please allow up to 24 hours (and sometimes 48 hours) for your latest push to git@git.bioconductor.org:packages/geneplotter.git to
reflect on this report. See How and When does the builder pull? When will my changes propagate? here for more information.
- Make sure to use the following settings in order to reproduce any error or warning you see on this page.

raw results

Package 727/2075HostnameOS / ArchINSTALLBUILDCHECKBUILD BIN
geneplotter 1.73.0  (landing page)
Bioconductor Package Maintainer
Snapshot Date: 2022-01-23 13:55:15 -0500 (Sun, 23 Jan 2022)
git_url: https://git.bioconductor.org/packages/geneplotter
git_branch: master
git_last_commit: a1bbcd2
git_last_commit_date: 2021-10-26 11:45:33 -0500 (Tue, 26 Oct 2021)
nebbiolo1Linux (Ubuntu 20.04.4 LTS) / x86_64  OK    OK    OK  UNNEEDED, same version is already published
riesling1Windows Server 2019 Standard / x64  OK    OK    OK    OK  
palomino3Windows Server 2022 Datacenter / x64  OK    OK    OK    OK  NO, package depends on 'Biobase' which is not available
merida1macOS 10.14.6 Mojave / x86_64  OK    OK    OK    OK  UNNEEDED, same version is already published

Summary

Package: geneplotter
Version: 1.73.0
Command: /home/biocbuild/bbs-3.15-bioc/R/bin/R CMD check --install=check:geneplotter.install-out.txt --library=/home/biocbuild/bbs-3.15-bioc/R/library --no-vignettes --timings geneplotter_1.73.0.tar.gz
StartedAt: 2022-01-23 19:51:41 -0500 (Sun, 23 Jan 2022)
EndedAt: 2022-01-23 19:53:28 -0500 (Sun, 23 Jan 2022)
EllapsedTime: 107.1 seconds
RetCode: 0
Status:   OK  
CheckDir: geneplotter.Rcheck
Warnings: 0

Command output

##############################################################################
##############################################################################
###
### Running command:
###
###   /home/biocbuild/bbs-3.15-bioc/R/bin/R CMD check --install=check:geneplotter.install-out.txt --library=/home/biocbuild/bbs-3.15-bioc/R/library --no-vignettes --timings geneplotter_1.73.0.tar.gz
###
##############################################################################
##############################################################################


* using log directory ‘/home/biocbuild/bbs-3.15-bioc/meat/geneplotter.Rcheck’
* using R Under development (unstable) (2022-01-05 r81451)
* using platform: x86_64-pc-linux-gnu (64-bit)
* using session charset: UTF-8
* using option ‘--no-vignettes’
* checking for file ‘geneplotter/DESCRIPTION’ ... OK
* this is package ‘geneplotter’ version ‘1.73.0’
* checking package namespace information ... OK
* checking package dependencies ... OK
* checking if this is a source package ... OK
* checking if there is a namespace ... OK
* checking for hidden files and directories ... OK
* checking for portable file names ... OK
* checking for sufficient/correct file permissions ... OK
* checking whether package ‘geneplotter’ can be installed ... OK
* checking installed package size ... OK
* checking package directory ... OK
* checking ‘build’ directory ... OK
* checking DESCRIPTION meta-information ... NOTE
Malformed Description field: should contain one or more complete sentences.
* checking top-level files ... OK
* checking for left-over files ... OK
* checking index information ... OK
* checking package subdirectories ... OK
* checking R files for non-ASCII characters ... OK
* checking R files for syntax errors ... OK
* checking whether the package can be loaded ... OK
* checking whether the package can be loaded with stated dependencies ... OK
* checking whether the package can be unloaded cleanly ... OK
* checking whether the namespace can be loaded with stated dependencies ... OK
* checking whether the namespace can be unloaded cleanly ... OK
* checking dependencies in R code ... NOTE
'library' or 'require' call to ‘annotate’ which was already attached by Depends.
  Please remove these calls from your code.
'library' or 'require' call to ‘Rgraphviz’ in package code.
  Please use :: or requireNamespace() instead.
  See section 'Suggested packages' in the 'Writing R Extensions' manual.
Package in Depends field not imported from: ‘lattice’
  These packages need to be imported from (in the NAMESPACE file)
  for when this namespace is loaded but not attached.
* checking S3 generic/method consistency ... OK
* checking replacement functions ... OK
* checking foreign function calls ... OK
* checking R code for possible problems ... NOTE
plotExpressionGraph: no visible global function definition for
  ‘selectMethod’
Undefined global functions or variables:
  selectMethod
Consider adding
  importFrom("methods", "selectMethod")
to your NAMESPACE file (and ensure that your DESCRIPTION Imports field
contains 'methods').
* checking Rd files ... OK
* checking Rd metadata ... OK
* checking Rd cross-references ... NOTE
Unknown package ‘prada’ in Rd xrefs
* checking for missing documentation entries ... OK
* checking for code/documentation mismatches ... OK
* checking Rd \usage sections ... OK
* checking Rd contents ... OK
* checking for unstated dependencies in examples ... OK
* checking contents of ‘data’ directory ... OK
* checking data for non-ASCII characters ... OK
* checking data for ASCII and uncompressed saves ... OK
* checking files in ‘vignettes’ ... OK
* checking examples ... OK
* checking for unstated dependencies in vignettes ... OK
* checking package vignettes in ‘inst/doc’ ... OK
* checking running R code from vignettes ... SKIPPED
* checking re-building of vignette outputs ... SKIPPED
* checking PDF version of manual ... OK
* DONE

Status: 4 NOTEs
See
  ‘/home/biocbuild/bbs-3.15-bioc/meat/geneplotter.Rcheck/00check.log’
for details.



Installation output

geneplotter.Rcheck/00install.out

##############################################################################
##############################################################################
###
### Running command:
###
###   /home/biocbuild/bbs-3.15-bioc/R/bin/R CMD INSTALL geneplotter
###
##############################################################################
##############################################################################


* installing to library ‘/home/biocbuild/bbs-3.15-bioc/R/library’
* installing *source* package ‘geneplotter’ ...
** using staged installation
** R
** data
** inst
** byte-compile and prepare package for lazy loading
** help
*** installing help indices
** building package indices
** installing vignettes
** testing if installed package can be loaded from temporary location
** testing if installed package can be loaded from final location
** testing if installed package keeps a record of temporary installation path
* DONE (geneplotter)

Tests output


Example timings

geneplotter.Rcheck/geneplotter-Ex.timings

nameusersystemelapsed
GetColor0.0020.0010.002
Makesense1.5950.0471.643
alongChrom0.8410.0430.885
amplicon.plot000
cColor0.9370.0831.021
cPlot0.9940.0311.026
cScale0.8830.0080.891
eset133a0.1430.0000.143
groupedHeatmap0.0160.0030.020
histStack0.0140.0010.014
imageMap0.0670.0160.083
make.chromOrd0.1420.0080.151
multiecdf0.0420.0080.050
openHtmlPage0.0010.0000.001
plotChr1.4020.2921.694
plotExpressionGraph0.7530.0240.785
plotMA0.0310.0000.031
savepng0.1020.0000.102