Back to Multiple platform build/check report for BioC 3.17
ABCDEF[G]HIJKLMNOPQRSTUVWXYZ

This page was generated on 2022-12-09 11:05:47 -0500 (Fri, 09 Dec 2022).

HostnameOSArch (*)R versionInstalled pkgs
nebbiolo1Linux (Ubuntu 22.04.1 LTS)x86_64R Under development (unstable) (2022-11-30 r83393) -- "Unsuffered Consequences" 4449
palomino3Windows Server 2022 Datacenterx64R Under development (unstable) (2022-11-30 r83393 ucrt) -- "Unsuffered Consequences" 4194
merida1macOS 10.14.6 Mojavex86_64R Under development (unstable) (2022-11-30 r83393) -- "Unsuffered Consequences" 4237
Click on any hostname to see more info about the system (e.g. compilers)      (*) as reported by 'uname -p', except on Windows and Mac OS X

BUILD results for GA4GHclient on nebbiolo1


To the developers/maintainers of the GA4GHclient package:
- Please allow up to 24 hours (and sometimes 48 hours) for your latest push to git@git.bioconductor.org:packages/GA4GHclient.git to
reflect on this report. See How and When does the builder pull? When will my changes propagate? for more information.
- Make sure to use the following settings in order to reproduce any error or warning you see on this page.

raw results

Package 714/2155HostnameOS / ArchINSTALLBUILDCHECKBUILD BIN
GA4GHclient 1.23.0  (landing page)
Welliton Souza
Snapshot Date: 2022-12-08 14:00:20 -0500 (Thu, 08 Dec 2022)
git_url: https://git.bioconductor.org/packages/GA4GHclient
git_branch: master
git_last_commit: 74319af
git_last_commit_date: 2022-11-01 11:15:24 -0500 (Tue, 01 Nov 2022)
nebbiolo1Linux (Ubuntu 22.04.1 LTS) / x86_64  OK    OK    OK  UNNEEDED, same version is already published
palomino3Windows Server 2022 Datacenter / x64  OK    OK    OK    OK  NO, package depends on 'GenomicRanges' which is not available
merida1macOS 10.14.6 Mojave / x86_64  OK    OK    OK    OK  NO, package depends on 'VariantAnnotation' which is not available

Summary

Package: GA4GHclient
Version: 1.23.0
Command: /home/biocbuild/bbs-3.17-bioc/R/bin/R CMD build --keep-empty-dirs --no-resave-data GA4GHclient
StartedAt: 2022-12-08 16:34:22 -0500 (Thu, 08 Dec 2022)
EndedAt: 2022-12-08 16:35:42 -0500 (Thu, 08 Dec 2022)
EllapsedTime: 80.3 seconds
RetCode: 0
Status:   OK  
PackageFile: GA4GHclient_1.23.0.tar.gz
PackageFileSize: 624 KiB

Command output

##############################################################################
##############################################################################
###
### Running command:
###
###   /home/biocbuild/bbs-3.17-bioc/R/bin/R CMD build --keep-empty-dirs --no-resave-data GA4GHclient
###
##############################################################################
##############################################################################


* checking for file ‘GA4GHclient/DESCRIPTION’ ... OK
* preparing ‘GA4GHclient’:
* checking DESCRIPTION meta-information ... OK
* installing the package to build vignettes
* creating vignettes ... OK
* checking for LF line-endings in source and make files and shell scripts
* checking for empty or unneeded directories
Omitted ‘LazyData’ from DESCRIPTION
  NB: this package now depends on R (>= 3.5.0)
  WARNING: Added dependency on R >= 3.5.0 because serialized objects in
  serialize/load version 3 cannot be read in older versions of R.
  File(s) containing such objects:
    ‘GA4GHclient/inst/extdata/vignette.rda’
* building ‘GA4GHclient_1.23.0.tar.gz’