Back to Multiple platform build/check report for BioC 3.17: simplified long |
|
This page was generated on 2023-02-06 11:05:24 -0500 (Mon, 06 Feb 2023).
Hostname | OS | Arch (*) | R version | Installed pkgs |
---|---|---|---|---|
nebbiolo1 | Linux (Ubuntu 22.04.1 LTS) | x86_64 | R Under development (unstable) (2023-01-10 r83596) -- "Unsuffered Consequences" | 4483 |
palomino3 | Windows Server 2022 Datacenter | x64 | R Under development (unstable) (2023-01-10 r83596 ucrt) -- "Unsuffered Consequences" | 4249 |
merida1 | macOS 10.14.6 Mojave | x86_64 | R Under development (unstable) (2023-01-10 r83596) -- "Unsuffered Consequences" | 4272 |
Click on any hostname to see more info about the system (e.g. compilers) (*) as reported by 'uname -p', except on Windows and Mac OS X |
To the developers/maintainers of the Repitools package: - Please allow up to 24 hours (and sometimes 48 hours) for your latest push to git@git.bioconductor.org:packages/Repitools.git to reflect on this report. See How and When does the builder pull? When will my changes propagate? for more information. - Make sure to use the following settings in order to reproduce any error or warning you see on this page. |
Package 1637/2164 | Hostname | OS / Arch | INSTALL | BUILD | CHECK | BUILD BIN | ||||||||
Repitools 1.45.0 (landing page) Mark Robinson
| nebbiolo1 | Linux (Ubuntu 22.04.1 LTS) / x86_64 | OK | OK | WARNINGS | ![]() | ||||||||
palomino3 | Windows Server 2022 Datacenter / x64 | OK | OK | WARNINGS | OK | ![]() | ||||||||
merida1 | macOS 10.14.6 Mojave / x86_64 | OK | OK | WARNINGS | OK | ![]() | ||||||||
Package: Repitools |
Version: 1.45.0 |
Command: /home/biocbuild/bbs-3.17-bioc/R/bin/R CMD INSTALL Repitools |
StartedAt: 2023-02-05 15:32:33 -0500 (Sun, 05 Feb 2023) |
EndedAt: 2023-02-05 15:33:19 -0500 (Sun, 05 Feb 2023) |
EllapsedTime: 45.6 seconds |
RetCode: 0 |
Status: OK |
############################################################################## ############################################################################## ### ### Running command: ### ### /home/biocbuild/bbs-3.17-bioc/R/bin/R CMD INSTALL Repitools ### ############################################################################## ############################################################################## * installing to library ‘/home/biocbuild/bbs-3.17-bioc/R/library’ * installing *source* package ‘Repitools’ ... ** using staged installation ** libs using C compiler: ‘gcc (Ubuntu 11.3.0-1ubuntu1~22.04) 11.3.0’ gcc -I"/home/biocbuild/bbs-3.17-bioc/R/include" -DNDEBUG -I/usr/local/include -D R_NO_REMAP -I. -fpic -g -O2 -Wall -c const.c -o const.o gcc -I"/home/biocbuild/bbs-3.17-bioc/R/include" -DNDEBUG -I/usr/local/include -D R_NO_REMAP -I. -fpic -g -O2 -Wall -c hyp2f1.c -o hyp2f1.o gcc -I"/home/biocbuild/bbs-3.17-bioc/R/include" -DNDEBUG -I/usr/local/include -D R_NO_REMAP -I. -fpic -g -O2 -Wall -c mtherr.c -o mtherr.o gcc -shared -L/home/biocbuild/bbs-3.17-bioc/R/lib -L/usr/local/lib -o Repitools.so const.o hyp2f1.o mtherr.o -L/home/biocbuild/bbs-3.17-bioc/R/lib -lR installing to /home/biocbuild/bbs-3.17-bioc/R/library/00LOCK-Repitools/00new/Repitools/libs ** R ** data ** inst ** byte-compile and prepare package for lazy loading ** help *** installing help indices ** building package indices ** installing vignettes ** testing if installed package can be loaded from temporary location ** checking absolute paths in shared objects and dynamic libraries ** testing if installed package can be loaded from final location ** testing if installed package keeps a record of temporary installation path * DONE (Repitools)