Back to Multiple platform build/check report for BioC 3.17:   simplified   long
ABCDEFGHIJKLMNOPQR[S]TUVWXYZ

This page was generated on 2023-02-07 11:06:28 -0500 (Tue, 07 Feb 2023).

HostnameOSArch (*)R versionInstalled pkgs
nebbiolo1Linux (Ubuntu 22.04.1 LTS)x86_64R Under development (unstable) (2023-01-10 r83596) -- "Unsuffered Consequences" 4483
palomino3Windows Server 2022 Datacenterx64R Under development (unstable) (2023-01-10 r83596 ucrt) -- "Unsuffered Consequences" 4249
merida1macOS 10.14.6 Mojavex86_64R Under development (unstable) (2023-01-10 r83596) -- "Unsuffered Consequences" 4272
Click on any hostname to see more info about the system (e.g. compilers)      (*) as reported by 'uname -p', except on Windows and Mac OS X

CHECK results for splatter on palomino3


To the developers/maintainers of the splatter package:
- Please allow up to 24 hours (and sometimes 48 hours) for your latest push to git@git.bioconductor.org:packages/splatter.git to
reflect on this report. See How and When does the builder pull? When will my changes propagate? for more information.
- Make sure to use the following settings in order to reproduce any error or warning you see on this page.

raw results

Package 1931/2164HostnameOS / ArchINSTALLBUILDCHECKBUILD BIN
splatter 1.23.1  (landing page)
Luke Zappia
Snapshot Date: 2023-02-06 14:00:21 -0500 (Mon, 06 Feb 2023)
git_url: https://git.bioconductor.org/packages/splatter
git_branch: master
git_last_commit: ccedee1
git_last_commit_date: 2023-01-30 05:06:52 -0500 (Mon, 30 Jan 2023)
nebbiolo1Linux (Ubuntu 22.04.1 LTS) / x86_64  OK    OK    OK  UNNEEDED, same version is already published
palomino3Windows Server 2022 Datacenter / x64  OK    OK    OK    OK  UNNEEDED, same version is already published
merida1macOS 10.14.6 Mojave / x86_64  OK    OK    OK    OK  UNNEEDED, same version is already published

Summary

Package: splatter
Version: 1.23.1
Command: F:\biocbuild\bbs-3.17-bioc\R\bin\R.exe CMD check --no-multiarch --install=check:splatter.install-out.txt --library=F:\biocbuild\bbs-3.17-bioc\R\library --no-vignettes --timings splatter_1.23.1.tar.gz
StartedAt: 2023-02-07 06:45:45 -0500 (Tue, 07 Feb 2023)
EndedAt: 2023-02-07 06:54:26 -0500 (Tue, 07 Feb 2023)
EllapsedTime: 520.6 seconds
RetCode: 0
Status:   OK  
CheckDir: splatter.Rcheck
Warnings: 0

Command output

##############################################################################
##############################################################################
###
### Running command:
###
###   F:\biocbuild\bbs-3.17-bioc\R\bin\R.exe CMD check --no-multiarch --install=check:splatter.install-out.txt --library=F:\biocbuild\bbs-3.17-bioc\R\library --no-vignettes --timings splatter_1.23.1.tar.gz
###
##############################################################################
##############################################################################


* using log directory 'F:/biocbuild/bbs-3.17-bioc/meat/splatter.Rcheck'
* using R Under development (unstable) (2023-01-10 r83596 ucrt)
* using platform: x86_64-w64-mingw32 (64-bit)
* R was compiled by
    gcc.exe (GCC) 12.2.0
    GNU Fortran (GCC) 12.2.0
* running under: Windows Server x64 (build 20348)
* using session charset: UTF-8
* using option '--no-vignettes'
* checking for file 'splatter/DESCRIPTION' ... OK
* checking extension type ... Package
* this is package 'splatter' version '1.23.1'
* package encoding: UTF-8
* checking package namespace information ... OK
* checking package dependencies ... OK
* checking if this is a source package ... OK
* checking if there is a namespace ... OK
* checking for hidden files and directories ... OK
* checking for portable file names ... OK
* checking whether package 'splatter' can be installed ... OK
* checking installed package size ... OK
* checking package directory ... OK
* checking 'build' directory ... OK
* checking DESCRIPTION meta-information ... OK
* checking top-level files ... OK
* checking for left-over files ... OK
* checking index information ... OK
* checking package subdirectories ... OK
* checking R files for non-ASCII characters ... OK
* checking R files for syntax errors ... OK
* checking whether the package can be loaded ... OK
* checking whether the package can be loaded with stated dependencies ... OK
* checking whether the package can be unloaded cleanly ... OK
* checking whether the namespace can be loaded with stated dependencies ... OK
* checking whether the namespace can be unloaded cleanly ... OK
* checking dependencies in R code ... OK
* checking S3 generic/method consistency ... OK
* checking replacement functions ... OK
* checking foreign function calls ... OK
* checking R code for possible problems ... OK
* checking Rd files ... OK
* checking Rd metadata ... OK
* checking Rd cross-references ... OK
* checking for missing documentation entries ... OK
* checking for code/documentation mismatches ... OK
* checking Rd \usage sections ... OK
* checking Rd contents ... OK
* checking for unstated dependencies in examples ... OK
* checking files in 'vignettes' ... OK
* checking examples ... OK
Examples with CPU (user + system) or elapsed time > 5s
                  user system elapsed
scDDEstimate     28.87   0.41   29.31
kersplatEstimate  6.67   0.09    6.79
splatEstimate     5.67   0.07    5.75
splatPopEstimate  5.64   0.02    5.66
mockBulkeQTL      4.91   0.42    5.33
* checking for unstated dependencies in 'tests' ... OK
* checking tests ...
  Running 'spelling.R'
  Running 'testthat.R'
 OK
* checking for unstated dependencies in vignettes ... OK
* checking package vignettes in 'inst/doc' ... OK
* checking running R code from vignettes ... SKIPPED
* checking re-building of vignette outputs ... SKIPPED
* checking PDF version of manual ... OK
* DONE

Status: OK


Installation output

splatter.Rcheck/00install.out

##############################################################################
##############################################################################
###
### Running command:
###
###   F:\biocbuild\bbs-3.17-bioc\R\bin\R.exe CMD INSTALL splatter
###
##############################################################################
##############################################################################


* installing to library 'F:/biocbuild/bbs-3.17-bioc/R/library'
* installing *source* package 'splatter' ...
** using staged installation
** R
** inst
** byte-compile and prepare package for lazy loading
** help
*** installing help indices
** building package indices
** installing vignettes
** testing if installed package can be loaded from temporary location
** testing if installed package can be loaded from final location
** testing if installed package keeps a record of temporary installation path
* DONE (splatter)

Tests output

splatter.Rcheck/tests/spelling.Rout


R Under development (unstable) (2023-01-10 r83596 ucrt) -- "Unsuffered Consequences"
Copyright (C) 2023 The R Foundation for Statistical Computing
Platform: x86_64-w64-mingw32/x64 (64-bit)

R is free software and comes with ABSOLUTELY NO WARRANTY.
You are welcome to redistribute it under certain conditions.
Type 'license()' or 'licence()' for distribution details.

R is a collaborative project with many contributors.
Type 'contributors()' for more information and
'citation()' on how to cite R or R packages in publications.

Type 'demo()' for some demos, 'help()' for on-line help, or
'help.start()' for an HTML browser interface to help.
Type 'q()' to quit R.

> if(requireNamespace('spelling', quietly = TRUE))
+   spelling::spell_check_test(vignettes = TRUE, error = FALSE,
+                              skip_on_cran = TRUE)
NULL
> 
> proc.time()
   user  system elapsed 
   0.10    0.07    0.20 

splatter.Rcheck/tests/testthat.Rout


R Under development (unstable) (2023-01-10 r83596 ucrt) -- "Unsuffered Consequences"
Copyright (C) 2023 The R Foundation for Statistical Computing
Platform: x86_64-w64-mingw32/x64 (64-bit)

R is free software and comes with ABSOLUTELY NO WARRANTY.
You are welcome to redistribute it under certain conditions.
Type 'license()' or 'licence()' for distribution details.

R is a collaborative project with many contributors.
Type 'contributors()' for more information and
'citation()' on how to cite R or R packages in publications.

Type 'demo()' for some demos, 'help()' for on-line help, or
'help.start()' for an HTML browser interface to help.
Type 'q()' to quit R.

> # setting R_TESTS to empty string because of
> # https://github.com/hadley/testthat/issues/144
> # revert this when that issue in R is fixed.
> Sys.setenv("R_TESTS" = "")
> 
> library(testthat)
> library(splatter)
Loading required package: SingleCellExperiment
Loading required package: SummarizedExperiment
Loading required package: MatrixGenerics
Loading required package: matrixStats

Attaching package: 'MatrixGenerics'

The following objects are masked from 'package:matrixStats':

    colAlls, colAnyNAs, colAnys, colAvgsPerRowSet, colCollapse,
    colCounts, colCummaxs, colCummins, colCumprods, colCumsums,
    colDiffs, colIQRDiffs, colIQRs, colLogSumExps, colMadDiffs,
    colMads, colMaxs, colMeans2, colMedians, colMins, colOrderStats,
    colProds, colQuantiles, colRanges, colRanks, colSdDiffs, colSds,
    colSums2, colTabulates, colVarDiffs, colVars, colWeightedMads,
    colWeightedMeans, colWeightedMedians, colWeightedSds,
    colWeightedVars, rowAlls, rowAnyNAs, rowAnys, rowAvgsPerColSet,
    rowCollapse, rowCounts, rowCummaxs, rowCummins, rowCumprods,
    rowCumsums, rowDiffs, rowIQRDiffs, rowIQRs, rowLogSumExps,
    rowMadDiffs, rowMads, rowMaxs, rowMeans2, rowMedians, rowMins,
    rowOrderStats, rowProds, rowQuantiles, rowRanges, rowRanks,
    rowSdDiffs, rowSds, rowSums2, rowTabulates, rowVarDiffs, rowVars,
    rowWeightedMads, rowWeightedMeans, rowWeightedMedians,
    rowWeightedSds, rowWeightedVars

Loading required package: GenomicRanges
Loading required package: stats4
Loading required package: BiocGenerics

Attaching package: 'BiocGenerics'

The following objects are masked from 'package:stats':

    IQR, mad, sd, var, xtabs

The following objects are masked from 'package:base':

    Filter, Find, Map, Position, Reduce, anyDuplicated, aperm, append,
    as.data.frame, basename, cbind, colnames, dirname, do.call,
    duplicated, eval, evalq, get, grep, grepl, intersect, is.unsorted,
    lapply, mapply, match, mget, order, paste, pmax, pmax.int, pmin,
    pmin.int, rank, rbind, rownames, sapply, setdiff, sort, table,
    tapply, union, unique, unsplit, which.max, which.min

Loading required package: S4Vectors

Attaching package: 'S4Vectors'

The following objects are masked from 'package:base':

    I, expand.grid, unname

Loading required package: IRanges

Attaching package: 'IRanges'

The following object is masked from 'package:grDevices':

    windows

Loading required package: GenomeInfoDb
Loading required package: Biobase
Welcome to Bioconductor

    Vignettes contain introductory material; view with
    'browseVignettes()'. To cite Bioconductor, see
    'citation("Biobase")', and for packages 'citation("pkgname")'.


Attaching package: 'Biobase'

The following object is masked from 'package:MatrixGenerics':

    rowMedians

The following objects are masked from 'package:matrixStats':

    anyMissing, rowMedians

> 
> test_check("splatter")
-----------------------------------------------------
MCMC sampler has been started: 20000 iterations to go.
-----------------------------------------------------
-----------------------------------------------------
End of Burn-in period.
-----------------------------------------------------
 
-----------------------------------------------------
-----------------------------------------------------
All 20000 MCMC iterations have been completed.
-----------------------------------------------------
-----------------------------------------------------
 
-----------------------------------------------------
Please see below a summary of the overall acceptance rates.
-----------------------------------------------------
 
Minimum acceptance rate among mu[i]'s: 0.216267
Average acceptance rate among mu[i]'s: 0.447751
Maximum acceptance rate among mu[i]'s: 0.581867
 
 
Minimum acceptance rate among delta[i]'s: 0.373467
Average acceptance rate among delta[i]'s: 0.446514
Maximum acceptance rate among delta[i]'s: 0.498
 
 
Acceptance rate for phi (joint): 0.455867
 
 
Minimum acceptance rate among nu[j]'s: 0.3964
Average acceptance rate among nu[j]'s: 0.450696
Maximum acceptance rate among nu[j]'s: 0.506933
 
 
Minimum acceptance rate among theta[k]'s: 0.431867
Average acceptance rate among theta[k]'s: 0.431867
Maximum acceptance rate among theta[k]'s: 0.431867
 
-----------------------------------------------------
 
-----------------------------------------------------
MCMC sampler has been started: 20000 iterations to go.
-----------------------------------------------------
-----------------------------------------------------
End of Burn-in period.
-----------------------------------------------------
 
-----------------------------------------------------
-----------------------------------------------------
All 20000 MCMC iterations have been completed.
-----------------------------------------------------
-----------------------------------------------------
 
-----------------------------------------------------
Please see below a summary of the overall acceptance rates.
-----------------------------------------------------
 
Minimum acceptance rate among mu[i]'s: 0.167067
Average acceptance rate among mu[i]'s: 0.436682
Maximum acceptance rate among mu[i]'s: 0.578267
 
 
Minimum acceptance rate among delta[i]'s: 0.395933
Average acceptance rate among delta[i]'s: 0.454213
Maximum acceptance rate among delta[i]'s: 0.515067
 
 
Minimum acceptance rate among nu[jk]'s: 0.370533
Average acceptance rate among nu[jk]'s: 0.451502
Maximum acceptance rate among nu[jk]'s: 0.492467
 
 
Minimum acceptance rate among theta[k]'s: 0.4586
Average acceptance rate among theta[k]'s: 0.464833
Maximum acceptance rate among theta[k]'s: 0.471067
 
 
-----------------------------------------------------
 
[ FAIL 0 | WARN 14 | SKIP 0 | PASS 184 ]

[ FAIL 0 | WARN 14 | SKIP 0 | PASS 184 ]
> 
> proc.time()
   user  system elapsed 
 242.82    6.67  249.68 

Example timings

splatter.Rcheck/splatter-Ex.timings

nameusersystemelapsed
BASiCSEstimate000
BASiCSSimulate4.710.264.97
addGeneLengths0.420.020.44
compareSCEs2.790.122.92
diffSCEs2.570.022.58
getParam000
getParams000
kersplatEstimate6.670.096.79
kersplatSample1.780.121.90
kersplatSetup0.190.000.19
kersplatSimulate000
listSims0.030.000.03
lun2Estimate000
lun2Simulate0.400.020.42
lunEstimate1.180.001.17
lunSimulate0.370.020.39
makeCompPanel000
makeDiffPanel000
makeOverallPanel000
mfaEstimate0.110.010.15
mfaSimulate0.540.030.58
minimiseSCE1.530.051.58
mockBulkMatrix000
mockBulkeQTL4.910.425.33
mockEmpiricalSet2.550.242.78
mockGFF0.010.000.01
mockVCF0.130.000.13
newParams0.010.000.01
phenoEstimate0.820.030.85
phenoSimulate1.170.061.25
scDDEstimate28.87 0.4129.31
scDDSimulate000
setParam000
setParams0.050.000.05
simpleEstimate0.50.00.5
simpleSimulate0.510.000.52
sparseDCEstimate0.830.060.89
sparseDCSimulate1.830.051.87
splatEstimate5.670.075.75
splatPopEstimate5.640.025.66
splatPopQuantNorm0.020.000.01
splatPopSimulate000
splatPopSimulateMeans000
splatPopSimulateSC000
splatSimulate0.830.030.86
summariseDiff2.500.032.53
zinbEstimate3.200.053.25
zinbSimulate0.170.000.17