Back to Multiple platform build/check report for BioC 3.19:   simplified   long
ABCDEFGHIJKL[M]NOPQRSTUVWXYZ

This page was generated on 2024-03-04 11:40:44 -0500 (Mon, 04 Mar 2024).

HostnameOSArch (*)R versionInstalled pkgs
nebbiolo1Linux (Ubuntu 22.04.3 LTS)x86_64R Under development (unstable) (2024-01-16 r85808) -- "Unsuffered Consequences" 4676
palomino3Windows Server 2022 Datacenterx64R Under development (unstable) (2024-01-14 r85805 ucrt) -- "Unsuffered Consequences" 4414
merida1macOS 12.7.1 Montereyx86_64R Under development (unstable) (2024-01-16 r85808) -- "Unsuffered Consequences" 4441
kunpeng2Linux (openEuler 22.03 LTS-SP1)aarch64R Under development (unstable) (2024-01-16 r85812) -- "Unsuffered Consequences" 4417
Click on any hostname to see more info about the system (e.g. compilers)      (*) as reported by 'uname -p', except on Windows and Mac OS X

Package 1291/2251HostnameOS / ArchINSTALLBUILDCHECKBUILD BIN
monaLisa 1.9.0  (landing page)
Michael Stadler
Snapshot Date: 2024-03-01 14:00:22 -0500 (Fri, 01 Mar 2024)
git_url: https://git.bioconductor.org/packages/monaLisa
git_branch: devel
git_last_commit: f0d6458
git_last_commit_date: 2023-11-01 05:14:49 -0500 (Wed, 01 Nov 2023)
nebbiolo1Linux (Ubuntu 22.04.3 LTS) / x86_64  OK    OK    OK  UNNEEDED, same version is already published
palomino3Windows Server 2022 Datacenter / x64  OK    OK    OK    OK  UNNEEDED, same version is already published
merida1macOS 12.7.1 Monterey / x86_64  OK    OK    OK    OK  UNNEEDED, same version is already published
kunpeng2Linux (openEuler 22.03 LTS-SP1) / aarch64  OK    OK    OK  

BUILD results for monaLisa on kunpeng2


To the developers/maintainers of the monaLisa package:
- Allow up to 24 hours (and sometimes 48 hours) for your latest push to git@git.bioconductor.org:packages/monaLisa.git to reflect on this report. See Troubleshooting Build Report for more information.
- Use the following Renviron settings to reproduce errors and warnings.
- If 'R CMD check' started to fail recently on the Linux builder(s) over a missing dependency, add the missing dependency to 'Suggests:' in your DESCRIPTION file. See Renviron.bioc for more information.
- See Martin Grigorov's blog post for how to debug Linux ARM64 related issues on a x86_64 host.

raw results


Summary

Package: monaLisa
Version: 1.9.0
Command: /home/biocbuild/R/R-devel_2024-01-16_r85812/bin/R CMD build --keep-empty-dirs --no-resave-data monaLisa
StartedAt: 2024-03-02 00:30:37 -0000 (Sat, 02 Mar 2024)
EndedAt: 2024-03-02 00:36:45 -0000 (Sat, 02 Mar 2024)
EllapsedTime: 368.5 seconds
RetCode: 0
Status:   OK  
PackageFile: monaLisa_1.9.0.tar.gz
PackageFileSize: 5.209 MiB

Command output

##############################################################################
##############################################################################
###
### Running command:
###
###   /home/biocbuild/R/R-devel_2024-01-16_r85812/bin/R CMD build --keep-empty-dirs --no-resave-data monaLisa
###
##############################################################################
##############################################################################


* checking for file ‘monaLisa/DESCRIPTION’ ... OK
* preparing ‘monaLisa’:
* checking DESCRIPTION meta-information ... OK
* installing the package to build vignettes
* creating vignettes ... OK
* checking for LF line-endings in source and make files and shell scripts
* checking for empty or unneeded directories
Omitted ‘LazyData’ from DESCRIPTION
* building ‘monaLisa_1.9.0.tar.gz’