Back to Multiple platform build/check report for BioC 3.17
ABCDEFGH[I]JKLMNOPQRSTUVWXYZ

This page was generated on 2023-02-01 11:05:42 -0500 (Wed, 01 Feb 2023).

HostnameOSArch (*)R versionInstalled pkgs
nebbiolo1Linux (Ubuntu 22.04.1 LTS)x86_64R Under development (unstable) (2023-01-10 r83596) -- "Unsuffered Consequences" 4483
palomino3Windows Server 2022 Datacenterx64R Under development (unstable) (2023-01-10 r83596 ucrt) -- "Unsuffered Consequences" 4249
merida1macOS 10.14.6 Mojavex86_64R Under development (unstable) (2023-01-10 r83596) -- "Unsuffered Consequences" 4272
Click on any hostname to see more info about the system (e.g. compilers)      (*) as reported by 'uname -p', except on Windows and Mac OS X

BUILD results for icetea on nebbiolo1


To the developers/maintainers of the icetea package:
- Please allow up to 24 hours (and sometimes 48 hours) for your latest push to git@git.bioconductor.org:packages/icetea.git to
reflect on this report. See How and When does the builder pull? When will my changes propagate? for more information.
- Make sure to use the following settings in order to reproduce any error or warning you see on this page.

raw results

Package 932/2164HostnameOS / ArchINSTALLBUILDCHECKBUILD BIN
icetea 1.17.0  (landing page)
Vivek Bhardwaj
Snapshot Date: 2023-01-31 14:00:20 -0500 (Tue, 31 Jan 2023)
git_url: https://git.bioconductor.org/packages/icetea
git_branch: master
git_last_commit: 52ec073
git_last_commit_date: 2022-11-01 11:18:00 -0500 (Tue, 01 Nov 2022)
nebbiolo1Linux (Ubuntu 22.04.1 LTS) / x86_64  OK    OK    OK  UNNEEDED, same version is already published
palomino3Windows Server 2022 Datacenter / x64  OK    OK    OK    OK  UNNEEDED, same version is already published
merida1macOS 10.14.6 Mojave / x86_64  OK    OK    OK    OK  UNNEEDED, same version is already published

Summary

Package: icetea
Version: 1.17.0
Command: /home/biocbuild/bbs-3.17-bioc/R/bin/R CMD build --keep-empty-dirs --no-resave-data icetea
StartedAt: 2023-01-31 16:46:00 -0500 (Tue, 31 Jan 2023)
EndedAt: 2023-01-31 16:47:56 -0500 (Tue, 31 Jan 2023)
EllapsedTime: 116.7 seconds
RetCode: 0
Status:   OK  
PackageFile: icetea_1.17.0.tar.gz
PackageFileSize: 738.9 KiB

Command output

##############################################################################
##############################################################################
###
### Running command:
###
###   /home/biocbuild/bbs-3.17-bioc/R/bin/R CMD build --keep-empty-dirs --no-resave-data icetea
###
##############################################################################
##############################################################################


* checking for file ‘icetea/DESCRIPTION’ ... OK
* preparing ‘icetea’:
* checking DESCRIPTION meta-information ... OK
* installing the package to build vignettes
* creating vignettes ... OK
* checking for LF line-endings in source and make files and shell scripts
* checking for empty or unneeded directories
* building ‘icetea_1.17.0.tar.gz’