Back to Multiple platform build/check report for BioC 3.19:   simplified   long
ABCDEFG[H]IJKLMNOPQRSTUVWXYZ

This page was generated on 2024-02-22 12:48:38 -0500 (Thu, 22 Feb 2024).

HostnameOSArch (*)R versionInstalled pkgs
nebbiolo1Linux (Ubuntu 22.04.3 LTS)x86_64R Under development (unstable) (2024-01-16 r85808) -- "Unsuffered Consequences" 4657
palomino3Windows Server 2022 Datacenterx64R Under development (unstable) (2024-01-14 r85805 ucrt) -- "Unsuffered Consequences" 4397
Click on any hostname to see more info about the system (e.g. compilers)      (*) as reported by 'uname -p', except on Windows and Mac OS X

Package 943/2244HostnameOS / ArchINSTALLBUILDCHECKBUILD BIN
HiCDOC 1.5.1  (landing page)
Maign√© √Člise
Snapshot Date: 2024-02-21 14:10:10 -0500 (Wed, 21 Feb 2024)
git_url: https://git.bioconductor.org/packages/HiCDOC
git_branch: devel
git_last_commit: cc36ead
git_last_commit_date: 2024-02-19 03:51:18 -0500 (Mon, 19 Feb 2024)
nebbiolo1Linux (Ubuntu 22.04.3 LTS) / x86_64  OK    OK    OK  UNNEEDED, same version is already published
palomino3Windows Server 2022 Datacenter / x64  OK    OK    OK    OK  UNNEEDED, same version is already published

BUILD results for HiCDOC on palomino3


To the developers/maintainers of the HiCDOC package:
- Allow up to 24 hours (and sometimes 48 hours) for your latest push to git@git.bioconductor.org:packages/HiCDOC.git to reflect on this report. See Troubleshooting Build Report for more information.
- Use the following Renviron settings to reproduce errors and warnings.
- If 'R CMD check' started to fail recently on the Linux builder(s) over a missing dependency, add the missing dependency to 'Suggests:' in your DESCRIPTION file. See Renviron.bioc for more information.

raw results


Summary

Package: HiCDOC
Version: 1.5.1
Command: chmod a+r HiCDOC -R && F:\biocbuild\bbs-3.19-bioc\R\bin\R.exe CMD build --keep-empty-dirs --no-resave-data HiCDOC
StartedAt: 2024-02-21 20:07:33 -0500 (Wed, 21 Feb 2024)
EndedAt: 2024-02-21 20:10:26 -0500 (Wed, 21 Feb 2024)
EllapsedTime: 173.1 seconds
RetCode: 0
Status:   OK  
PackageFile: HiCDOC_1.5.1.tar.gz
PackageFileSize: 2.989 MiB

Command output

##############################################################################
##############################################################################
###
### Running command:
###
###   chmod a+r HiCDOC -R && F:\biocbuild\bbs-3.19-bioc\R\bin\R.exe CMD build --keep-empty-dirs --no-resave-data HiCDOC
###
##############################################################################
##############################################################################


* checking for file 'HiCDOC/DESCRIPTION' ... OK
* preparing 'HiCDOC':
* checking DESCRIPTION meta-information ... OK
* cleaning src
* installing the package to build vignettes
* creating vignettes ... OK
* cleaning src
* checking for LF line-endings in source and make files and shell scripts
* checking for empty or unneeded directories
* looking to see if a 'data/datalist' file should be added
* building 'HiCDOC_1.5.1.tar.gz'