Back to Multiple platform build/check report for BioC 3.15
ABCDEFGH[I]JKLMNOPQRSTUVWXYZ

This page was generated on 2022-01-26 11:06:12 -0500 (Wed, 26 Jan 2022).

HostnameOSArch (*)R versionInstalled pkgs
nebbiolo1Linux (Ubuntu 20.04.4 LTS)x86_64R Under development (unstable) (2022-01-05 r81451) -- "Unsuffered Consequences" 4164
riesling1Windows Server 2019 Standardx64R Under development (unstable) (2021-11-21 r81221) -- "Unsuffered Consequences" 4059
palomino3Windows Server 2022 Datacenterx64R Under development (unstable) (2021-12-21 r81400 ucrt) -- "Unsuffered Consequences" 4001
merida1macOS 10.14.6 Mojavex86_64R Under development (unstable) (2022-01-05 r81451) -- "Unsuffered Consequences" 4118
Click on any hostname to see more info about the system (e.g. compilers)      (*) as reported by 'uname -p', except on Windows and Mac OS X

CHECK results for infercnv on nebbiolo1


To the developers/maintainers of the infercnv package:
- Please allow up to 24 hours (and sometimes 48 hours) for your latest push to git@git.bioconductor.org:packages/infercnv.git to
reflect on this report. See How and When does the builder pull? When will my changes propagate? here for more information.
- Make sure to use the following settings in order to reproduce any error or warning you see on this page.

raw results

Package 929/2075HostnameOS / ArchINSTALLBUILDCHECKBUILD BIN
infercnv 1.11.1  (landing page)
Christophe Georgescu
Snapshot Date: 2022-01-25 13:55:17 -0500 (Tue, 25 Jan 2022)
git_url: https://git.bioconductor.org/packages/infercnv
git_branch: master
git_last_commit: bc68968
git_last_commit_date: 2021-11-08 13:30:08 -0500 (Mon, 08 Nov 2021)
nebbiolo1Linux (Ubuntu 20.04.4 LTS) / x86_64  OK    OK    OK  UNNEEDED, same version is already published
riesling1Windows Server 2019 Standard / x64  OK    ERROR  skippedskipped
palomino3Windows Server 2022 Datacenter / x64  OK    ERROR  skippedskipped
merida1macOS 10.14.6 Mojave / x86_64  OK    OK    OK    OK  UNNEEDED, same version is already published

Summary

Package: infercnv
Version: 1.11.1
Command: /home/biocbuild/bbs-3.15-bioc/R/bin/R CMD check --install=check:infercnv.install-out.txt --library=/home/biocbuild/bbs-3.15-bioc/R/library --no-vignettes --timings infercnv_1.11.1.tar.gz
StartedAt: 2022-01-25 19:36:40 -0500 (Tue, 25 Jan 2022)
EndedAt: 2022-01-25 19:42:12 -0500 (Tue, 25 Jan 2022)
EllapsedTime: 331.4 seconds
RetCode: 0
Status:   OK  
CheckDir: infercnv.Rcheck
Warnings: 0

Command output

##############################################################################
##############################################################################
###
### Running command:
###
###   /home/biocbuild/bbs-3.15-bioc/R/bin/R CMD check --install=check:infercnv.install-out.txt --library=/home/biocbuild/bbs-3.15-bioc/R/library --no-vignettes --timings infercnv_1.11.1.tar.gz
###
##############################################################################
##############################################################################


* using log directory ‘/home/biocbuild/bbs-3.15-bioc/meat/infercnv.Rcheck’
* using R Under development (unstable) (2022-01-05 r81451)
* using platform: x86_64-pc-linux-gnu (64-bit)
* using session charset: UTF-8
* using option ‘--no-vignettes’
* checking for file ‘infercnv/DESCRIPTION’ ... OK
* checking extension type ... Package
* this is package ‘infercnv’ version ‘1.11.1’
* checking package namespace information ... OK
* checking package dependencies ... OK
* checking if this is a source package ... OK
* checking if there is a namespace ... OK
* checking for hidden files and directories ... OK
* checking for portable file names ... OK
* checking for sufficient/correct file permissions ... OK
* checking whether package ‘infercnv’ can be installed ... OK
* checking installed package size ... OK
* checking package directory ... OK
* checking ‘build’ directory ... OK
* checking DESCRIPTION meta-information ... OK
* checking top-level files ... OK
* checking for left-over files ... OK
* checking index information ... OK
* checking package subdirectories ... OK
* checking R files for non-ASCII characters ... OK
* checking R files for syntax errors ... OK
* checking whether the package can be loaded ... OK
* checking whether the package can be loaded with stated dependencies ... OK
* checking whether the package can be unloaded cleanly ... OK
* checking whether the namespace can be loaded with stated dependencies ... OK
* checking whether the namespace can be unloaded cleanly ... OK
* checking dependencies in R code ... NOTE
Unexported object imported by a ':::' call: ‘HiddenMarkov:::makedensity’
  See the note in ?`:::` about the use of this operator.
* checking S3 generic/method consistency ... OK
* checking replacement functions ... OK
* checking foreign function calls ... OK
* checking R code for possible problems ... NOTE
.parameterize_random_cluster_heights: no visible global function
  definition for ‘parllelDist’
Undefined global functions or variables:
  parllelDist
* checking Rd files ... OK
* checking Rd metadata ... OK
* checking Rd cross-references ... OK
* checking for missing documentation entries ... OK
* checking for code/documentation mismatches ... OK
* checking Rd \usage sections ... OK
* checking Rd contents ... OK
* checking for unstated dependencies in examples ... OK
* checking contents of ‘data’ directory ... OK
* checking data for non-ASCII characters ... OK
* checking LazyData ... OK
* checking data for ASCII and uncompressed saves ... OK
* checking files in ‘vignettes’ ... OK
* checking examples ... OK
Examples with CPU (user + system) or elapsed time > 5s
                    user system elapsed
inferCNVBayesNet 152.202  2.350 132.120
run               10.832  0.804  11.635
* checking for unstated dependencies in ‘tests’ ... OK
* checking tests ...
  Running ‘testthat.R’
 OK
* checking for unstated dependencies in vignettes ... OK
* checking package vignettes in ‘inst/doc’ ... OK
* checking running R code from vignettes ... SKIPPED
* checking re-building of vignette outputs ... SKIPPED
* checking PDF version of manual ... OK
* DONE

Status: 2 NOTEs
See
  ‘/home/biocbuild/bbs-3.15-bioc/meat/infercnv.Rcheck/00check.log’
for details.



Installation output

infercnv.Rcheck/00install.out

##############################################################################
##############################################################################
###
### Running command:
###
###   /home/biocbuild/bbs-3.15-bioc/R/bin/R CMD INSTALL infercnv
###
##############################################################################
##############################################################################


* installing to library ‘/home/biocbuild/bbs-3.15-bioc/R/library’
* installing *source* package ‘infercnv’ ...
** using staged installation
** R
** data
*** moving datasets to lazyload DB
** inst
** byte-compile and prepare package for lazy loading
** help
*** installing help indices
** building package indices
** installing vignettes
** testing if installed package can be loaded from temporary location
** testing if installed package can be loaded from final location
** testing if installed package keeps a record of temporary installation path
* DONE (infercnv)

Tests output

infercnv.Rcheck/tests/testthat.Rout


R Under development (unstable) (2022-01-05 r81451) -- "Unsuffered Consequences"
Copyright (C) 2022 The R Foundation for Statistical Computing
Platform: x86_64-pc-linux-gnu (64-bit)

R is free software and comes with ABSOLUTELY NO WARRANTY.
You are welcome to redistribute it under certain conditions.
Type 'license()' or 'licence()' for distribution details.

R is a collaborative project with many contributors.
Type 'contributors()' for more information and
'citation()' on how to cite R or R packages in publications.

Type 'demo()' for some demos, 'help()' for on-line help, or
'help.start()' for an HTML browser interface to help.
Type 'q()' to quit R.

> #!/usr/bin/env Rscript
> 
> library(testthat)
> library(infercnv)
> 
> test_check("infercnv")
INFO [2022-01-25 19:42:08] ::subtract_ref_expr_from_obs:Start inv_log=FALSE, use_bounds=TRUE
INFO [2022-01-25 19:42:08] subtracting mean(normal) per gene per cell across all data
INFO [2022-01-25 19:42:08] -subtracting expr per gene, use_bounds=TRUE
INFO [2022-01-25 19:42:08] ::subtract_ref_expr_from_obs:Start inv_log=FALSE, use_bounds=TRUE
INFO [2022-01-25 19:42:08] subtracting mean(normal) per gene per cell across all data
INFO [2022-01-25 19:42:08] -subtracting expr per gene, use_bounds=TRUE
INFO [2022-01-25 19:42:09] ::subtract_ref_expr_from_obs:Start inv_log=FALSE, use_bounds=TRUE
INFO [2022-01-25 19:42:09] subtracting mean(normal) per gene per cell across all data
INFO [2022-01-25 19:42:09] -subtracting expr per gene, use_bounds=TRUE
INFO [2022-01-25 19:42:09] ::subtract_ref_expr_from_obs:Start inv_log=FALSE, use_bounds=TRUE
INFO [2022-01-25 19:42:09] subtracting mean(normal) per gene per cell across all data
INFO [2022-01-25 19:42:09] -subtracting expr per gene, use_bounds=TRUE
INFO [2022-01-25 19:42:09] ::subtract_ref_expr_from_obs:Start inv_log=FALSE, use_bounds=TRUE
INFO [2022-01-25 19:42:09] subtracting mean(normal) per gene per cell across all data
INFO [2022-01-25 19:42:09] -subtracting expr per gene, use_bounds=TRUE
INFO [2022-01-25 19:42:09] ::subtract_ref_expr_from_obs:Start inv_log=FALSE, use_bounds=TRUE
INFO [2022-01-25 19:42:09] subtracting mean(normal) per gene per cell across all data
INFO [2022-01-25 19:42:09] -subtracting expr per gene, use_bounds=TRUE
WARN [2022-01-25 19:42:09] window length < 2, returning original unmodified data
WARN [2022-01-25 19:42:09] window length < 2, returning original unmodified data
INFO [2022-01-25 19:42:09] ::remove_outlier_norm:Start out_method: average_bound lower_bound: -1 upper_bound: 30
INFO [2022-01-25 19:42:09] ::remove_outlier_norm: using hard thresholds:  lower_bound: -1 upper_bound: 30
INFO [2022-01-25 19:42:09] ::remove_outlier_norm:Start out_method: average_bound lower_bound: 5 upper_bound: 15
INFO [2022-01-25 19:42:09] ::remove_outlier_norm: using hard thresholds:  lower_bound: 5 upper_bound: 15
INFO [2022-01-25 19:42:09] ::remove_outlier_norm:Start out_method: average_bound lower_bound: NA upper_bound: NA
INFO [2022-01-25 19:42:09] ::remove_outlier_norm using method: average_bound for defining outliers.
INFO [2022-01-25 19:42:09] outlier bounds defined between: -0.5 - 17.75
INFO [2022-01-25 19:42:09] ::order_reduce:Start.
INFO [2022-01-25 19:42:09] ::order_reduce:Start.
INFO [2022-01-25 19:42:09] .order_reduce(): expr and order match.
INFO [2022-01-25 19:42:09] ::process_data:order_reduce:Reduction from positional data, new dimensions (r,c) = 10,2 Total=110 Min=1 Max=10.
INFO [2022-01-25 19:42:09] ::order_reduce:Start.
INFO [2022-01-25 19:42:09] .order_reduce(): expr and order match.
INFO [2022-01-25 19:42:09] ::process_data:order_reduce:Reduction from positional data, new dimensions (r,c) = 10,2 Total=110 Min=1 Max=10.
INFO [2022-01-25 19:42:09] ::order_reduce:Start.
INFO [2022-01-25 19:42:09] ::process_data:order_reduce:The position file  and the expression file row (gene) names do not match.
[ FAIL 0 | WARN 0 | SKIP 3 | PASS 39 ]

══ Skipped tests ═══════════════════════════════════════════════════════════════
• empty test (3)

[ FAIL 0 | WARN 0 | SKIP 3 | PASS 39 ]
> 
> proc.time()
   user  system elapsed 
  8.246   0.669   8.901 

Example timings

infercnv.Rcheck/infercnv-Ex.timings

nameusersystemelapsed
CreateInfercnvObject0.1090.0040.113
apply_median_filtering4.0580.0124.071
color.palette0.0030.0010.003
filterHighPNormals0.0290.0000.029
inferCNVBayesNet152.202 2.350132.120
plot_cnv0.6910.0880.778
plot_per_group1.2100.0521.272
run10.832 0.80411.635
sample_object0.0200.0040.024