Back to Multiple platform build/check report for BioC 3.19:   simplified   long
A[B]CDEFGHIJKLMNOPQRSTUVWXYZ

This page was generated on 2023-11-27 11:39:32 -0500 (Mon, 27 Nov 2023).

HostnameOSArch (*)R versionInstalled pkgs
nebbiolo1Linux (Ubuntu 22.04.2 LTS)x86_64R Under development (unstable) (2023-11-11 r85510) -- "Unsuffered Consequences" 4596
palomino3Windows Server 2022 Datacenterx64R Under development (unstable) (2023-11-14 r85524 ucrt) -- "Unsuffered Consequences" 4338
merida1macOS 12.7.1 Montereyx86_64R Under development (unstable) (2023-11-11 r85510) -- "Unsuffered Consequences" 4363
kunpeng2Linux (openEuler 22.03 LTS-SP1)aarch64R Under development (unstable) (2023-11-01 r85459) -- "Unsuffered Consequences" 4248
Click on any hostname to see more info about the system (e.g. compilers)      (*) as reported by 'uname -p', except on Windows and Mac OS X

Package 145/2222HostnameOS / ArchINSTALLBUILDCHECKBUILD BIN
beadarray 2.53.0  (landing page)
Mark Dunning
Snapshot Date: 2023-11-26 14:00:13 -0500 (Sun, 26 Nov 2023)
git_url: https://git.bioconductor.org/packages/beadarray
git_branch: devel
git_last_commit: 45ee237
git_last_commit_date: 2023-10-24 09:36:14 -0500 (Tue, 24 Oct 2023)
nebbiolo1Linux (Ubuntu 22.04.2 LTS) / x86_64  OK    OK    OK  UNNEEDED, same version is already published
palomino3Windows Server 2022 Datacenter / x64  OK    OK    OK    OK  UNNEEDED, same version is already published
merida1macOS 12.7.1 Monterey / x86_64  OK    OK    OK    OK  UNNEEDED, same version is already published
kunpeng2Linux (openEuler 22.03 LTS-SP1) / aarch64  OK    OK    ERROR  

BUILD results for beadarray on kunpeng2


To the developers/maintainers of the beadarray package:
- Allow up to 24 hours (and sometimes 48 hours) for your latest push to git@git.bioconductor.org:packages/beadarray.git to reflect on this report. See Troubleshooting Build Report for more information.
- Use the following Renviron settings to reproduce errors and warnings.
- If 'R CMD check' started to fail recently on the Linux builder(s) over a missing dependency, add the missing dependency to 'Suggests:' in your DESCRIPTION file. See Renviron.bioc for more information.
- See Martin Grigorov's blog post for how to debug Linux ARM64 related issues on a x86_64 host.

raw results


Summary

Package: beadarray
Version: 2.53.0
Command: /home/biocbuild/R/R-4.4-devel-2023.11.02/bin/R CMD build --keep-empty-dirs --no-resave-data beadarray
StartedAt: 2023-11-26 21:39:06 -0000 (Sun, 26 Nov 2023)
EndedAt: 2023-11-26 21:42:44 -0000 (Sun, 26 Nov 2023)
EllapsedTime: 218.3 seconds
RetCode: 0
Status:   OK  
PackageFile: beadarray_2.53.0.tar.gz
PackageFileSize: 2.36 MiB

Command output

##############################################################################
##############################################################################
###
### Running command:
###
###   /home/biocbuild/R/R-4.4-devel-2023.11.02/bin/R CMD build --keep-empty-dirs --no-resave-data beadarray
###
##############################################################################
##############################################################################


* checking for file ‘beadarray/DESCRIPTION’ ... OK
* preparing ‘beadarray’:
* checking DESCRIPTION meta-information ... OK
* cleaning src
* installing the package to build vignettes
* creating vignettes ... OK
* cleaning src
* checking for LF line-endings in source and make files and shell scripts
* checking for empty or unneeded directories
* building ‘beadarray_2.53.0.tar.gz’