Back to Multiple platform build/check report for BioC 3.19: simplified long |
|
This page was generated on 2024-03-28 11:38:34 -0400 (Thu, 28 Mar 2024).
Hostname | OS | Arch (*) | R version | Installed pkgs |
---|---|---|---|---|
nebbiolo1 | Linux (Ubuntu 22.04.3 LTS) | x86_64 | R Under development (unstable) (2024-03-18 r86148) -- "Unsuffered Consequences" | 4708 |
palomino3 | Windows Server 2022 Datacenter | x64 | R Under development (unstable) (2024-03-16 r86144 ucrt) -- "Unsuffered Consequences" | 4446 |
lconway | macOS 12.7.1 Monterey | x86_64 | R Under development (unstable) (2024-03-18 r86148) -- "Unsuffered Consequences" | 4471 |
kunpeng2 | Linux (openEuler 22.03 LTS-SP1) | aarch64 | R Under development (unstable) (2024-03-19 r86153) -- "Unsuffered Consequences" | 4426 |
Click on any hostname to see more info about the system (e.g. compilers) (*) as reported by 'uname -p', except on Windows and Mac OS X |
Package 2027/2270 | Hostname | OS / Arch | INSTALL | BUILD | CHECK | BUILD BIN | ||||||||
SpliceWiz 1.5.3 (landing page) Alex Chit Hei Wong
| nebbiolo1 | Linux (Ubuntu 22.04.3 LTS) / x86_64 | OK | OK | OK | |||||||||
palomino3 | Windows Server 2022 Datacenter / x64 | OK | OK | OK | OK | |||||||||
lconway | macOS 12.7.1 Monterey / x86_64 | OK | OK | OK | OK | |||||||||
kunpeng2 | Linux (openEuler 22.03 LTS-SP1) / aarch64 | OK | OK | ERROR | ||||||||||
To the developers/maintainers of the SpliceWiz package: - Allow up to 24 hours (and sometimes 48 hours) for your latest push to git@git.bioconductor.org:packages/SpliceWiz.git to reflect on this report. See Troubleshooting Build Report for more information. - Use the following Renviron settings to reproduce errors and warnings. - If 'R CMD check' started to fail recently on the Linux builder(s) over a missing dependency, add the missing dependency to 'Suggests:' in your DESCRIPTION file. See Renviron.bioc for more information. |
Package: SpliceWiz |
Version: 1.5.3 |
Command: F:\biocbuild\bbs-3.19-bioc\R\bin\R.exe CMD check --no-multiarch --install=check:SpliceWiz.install-out.txt --library=F:\biocbuild\bbs-3.19-bioc\R\library --no-vignettes --timings SpliceWiz_1.5.3.tar.gz |
StartedAt: 2024-03-28 07:00:31 -0400 (Thu, 28 Mar 2024) |
EndedAt: 2024-03-28 07:16:39 -0400 (Thu, 28 Mar 2024) |
EllapsedTime: 968.1 seconds |
RetCode: 0 |
Status: OK |
CheckDir: SpliceWiz.Rcheck |
Warnings: 0 |
############################################################################## ############################################################################## ### ### Running command: ### ### F:\biocbuild\bbs-3.19-bioc\R\bin\R.exe CMD check --no-multiarch --install=check:SpliceWiz.install-out.txt --library=F:\biocbuild\bbs-3.19-bioc\R\library --no-vignettes --timings SpliceWiz_1.5.3.tar.gz ### ############################################################################## ############################################################################## * using log directory 'F:/biocbuild/bbs-3.19-bioc/meat/SpliceWiz.Rcheck' * using R Under development (unstable) (2024-03-16 r86144 ucrt) * using platform: x86_64-w64-mingw32 * R was compiled by gcc.exe (GCC) 13.2.0 GNU Fortran (GCC) 13.2.0 * running under: Windows Server 2022 x64 (build 20348) * using session charset: UTF-8 * using option '--no-vignettes' * checking for file 'SpliceWiz/DESCRIPTION' ... OK * this is package 'SpliceWiz' version '1.5.3' * package encoding: UTF-8 * checking package namespace information ... OK * checking package dependencies ... OK * checking if this is a source package ... OK * checking if there is a namespace ... OK * checking for hidden files and directories ... OK * checking for portable file names ... OK * checking whether package 'SpliceWiz' can be installed ... OK * used C++ compiler: 'G__~1.EXE (GCC) 13.2.0' * checking C++ specification ... NOTE Specified C++11: please drop specification unless essential * checking installed package size ... OK * checking package directory ... OK * checking 'build' directory ... OK * checking DESCRIPTION meta-information ... NOTE License stub is invalid DCF. * checking top-level files ... OK * checking for left-over files ... OK * checking index information ... OK * checking package subdirectories ... OK * checking code files for non-ASCII characters ... OK * checking R files for syntax errors ... OK * checking whether the package can be loaded ... OK * checking whether the package can be loaded with stated dependencies ... OK * checking whether the package can be unloaded cleanly ... OK * checking whether the namespace can be loaded with stated dependencies ... OK * checking whether the namespace can be unloaded cleanly ... OK * checking whether startup messages can be suppressed ... OK * checking dependencies in R code ... OK * checking S3 generic/method consistency ... OK * checking replacement functions ... OK * checking foreign function calls ... OK * checking R code for possible problems ... OK * checking Rd files ... OK * checking Rd metadata ... OK * checking Rd cross-references ... OK * checking for missing documentation entries ... OK * checking for code/documentation mismatches ... OK * checking Rd \usage sections ... OK * checking Rd contents ... OK * checking for unstated dependencies in examples ... OK * checking line endings in shell scripts ... OK * checking line endings in C/C++/Fortran sources/headers ... OK * checking line endings in Makefiles ... OK * checking compilation flags in Makevars ... OK * checking for GNU extensions in Makefiles ... OK * checking for portable use of $(BLAS_LIBS) and $(LAPACK_LIBS) ... OK * checking use of PKG_*FLAGS in Makefiles ... OK * checking compiled code ... NOTE Note: information on .o files for x64 is not available File 'F:/biocbuild/bbs-3.19-bioc/R/library/SpliceWiz/libs/x64/SpliceWiz.dll': Found '_assert', possibly from 'assert' (C) Found '_exit', possibly from '_exit' (C) Found 'abort', possibly from 'abort' (C), 'runtime' (Fortran) Found 'exit', possibly from 'exit' (C), 'stop' (Fortran) Compiled code should not call entry points which might terminate R nor write to stdout/stderr instead of to the console, nor use Fortran I/O nor system RNGs nor [v]sprintf. The detected symbols are linked into the code but might come from libraries and not actually be called. See 'Writing portable packages' in the 'Writing R Extensions' manual. * checking files in 'vignettes' ... OK * checking examples ... OK Examples with CPU (user + system) or elapsed time > 5s user system elapsed Build-Reference-methods 60.27 2.00 77.20 NxtSE-class 56.01 1.90 58.52 ASE-methods 32.11 0.25 32.39 covPlotObject-class 23.68 0.87 24.52 plotCoverage 16.63 0.50 17.09 Run_SpliceWiz_Filters 8.46 0.02 8.47 * checking for unstated dependencies in 'tests' ... OK * checking tests ... Running 'testthat.R' OK * checking for unstated dependencies in vignettes ... OK * checking package vignettes ... OK * checking running R code from vignettes ... SKIPPED * checking re-building of vignette outputs ... SKIPPED * checking PDF version of manual ... OK * DONE Status: 3 NOTEs See 'F:/biocbuild/bbs-3.19-bioc/meat/SpliceWiz.Rcheck/00check.log' for details.
SpliceWiz.Rcheck/00install.out
############################################################################## ############################################################################## ### ### Running command: ### ### F:\biocbuild\bbs-3.19-bioc\R\bin\R.exe CMD INSTALL SpliceWiz ### ############################################################################## ############################################################################## * installing to library 'F:/biocbuild/bbs-3.19-bioc/R/library' * installing *source* package 'SpliceWiz' ... ** using staged installation ** libs using C++ compiler: 'G__~1.EXE (GCC) 13.2.0' using C++11 g++ -std=gnu++11 -I"F:/biocbuild/bbs-3.19-bioc/R/include" -DNDEBUG -I'F:/biocbuild/bbs-3.19-bioc/R/library/ompBAM/include' -I'F:/biocbuild/bbs-3.19-bioc/R/library/Rcpp/include' -I'F:/biocbuild/bbs-3.19-bioc/R/library/zlibbioc/include' -I'F:/biocbuild/bbs-3.19-bioc/R/library/RcppProgress/include' -I"C:/rtools44/x86_64-w64-mingw32.static.posix/include" -fopenmp -DSPLICEWIZ -O2 -Wall -mfpmath=sse -msse2 -mstackrealign -c BAM2blocks.cpp -o BAM2blocks.o g++ -std=gnu++11 -I"F:/biocbuild/bbs-3.19-bioc/R/include" -DNDEBUG -I'F:/biocbuild/bbs-3.19-bioc/R/library/ompBAM/include' -I'F:/biocbuild/bbs-3.19-bioc/R/library/Rcpp/include' -I'F:/biocbuild/bbs-3.19-bioc/R/library/zlibbioc/include' -I'F:/biocbuild/bbs-3.19-bioc/R/library/RcppProgress/include' -I"C:/rtools44/x86_64-w64-mingw32.static.posix/include" -fopenmp -DSPLICEWIZ -O2 -Wall -mfpmath=sse -msse2 -mstackrealign -c FastaReader.cpp -o FastaReader.o g++ -std=gnu++11 -I"F:/biocbuild/bbs-3.19-bioc/R/include" -DNDEBUG -I'F:/biocbuild/bbs-3.19-bioc/R/library/ompBAM/include' -I'F:/biocbuild/bbs-3.19-bioc/R/library/Rcpp/include' -I'F:/biocbuild/bbs-3.19-bioc/R/library/zlibbioc/include' -I'F:/biocbuild/bbs-3.19-bioc/R/library/RcppProgress/include' -I"C:/rtools44/x86_64-w64-mingw32.static.posix/include" -fopenmp -DSPLICEWIZ -O2 -Wall -mfpmath=sse -msse2 -mstackrealign -c FragmentBlocks.cpp -o FragmentBlocks.o g++ -std=gnu++11 -I"F:/biocbuild/bbs-3.19-bioc/R/include" -DNDEBUG -I'F:/biocbuild/bbs-3.19-bioc/R/library/ompBAM/include' -I'F:/biocbuild/bbs-3.19-bioc/R/library/Rcpp/include' -I'F:/biocbuild/bbs-3.19-bioc/R/library/zlibbioc/include' -I'F:/biocbuild/bbs-3.19-bioc/R/library/RcppProgress/include' -I"C:/rtools44/x86_64-w64-mingw32.static.posix/include" -fopenmp -DSPLICEWIZ -O2 -Wall -mfpmath=sse -msse2 -mstackrealign -c GZTools.cpp -o GZTools.o g++ -std=gnu++11 -I"F:/biocbuild/bbs-3.19-bioc/R/include" -DNDEBUG -I'F:/biocbuild/bbs-3.19-bioc/R/library/ompBAM/include' -I'F:/biocbuild/bbs-3.19-bioc/R/library/Rcpp/include' -I'F:/biocbuild/bbs-3.19-bioc/R/library/zlibbioc/include' -I'F:/biocbuild/bbs-3.19-bioc/R/library/RcppProgress/include' -I"C:/rtools44/x86_64-w64-mingw32.static.posix/include" -fopenmp -DSPLICEWIZ -O2 -Wall -mfpmath=sse -msse2 -mstackrealign -c RcppExports.cpp -o RcppExports.o g++ -std=gnu++11 -I"F:/biocbuild/bbs-3.19-bioc/R/include" -DNDEBUG -I'F:/biocbuild/bbs-3.19-bioc/R/library/ompBAM/include' -I'F:/biocbuild/bbs-3.19-bioc/R/library/Rcpp/include' -I'F:/biocbuild/bbs-3.19-bioc/R/library/zlibbioc/include' -I'F:/biocbuild/bbs-3.19-bioc/R/library/RcppProgress/include' -I"C:/rtools44/x86_64-w64-mingw32.static.posix/include" -fopenmp -DSPLICEWIZ -O2 -Wall -mfpmath=sse -msse2 -mstackrealign -c ReadBlockProcessor.cpp -o ReadBlockProcessor.o g++ -std=gnu++11 -I"F:/biocbuild/bbs-3.19-bioc/R/include" -DNDEBUG -I'F:/biocbuild/bbs-3.19-bioc/R/library/ompBAM/include' -I'F:/biocbuild/bbs-3.19-bioc/R/library/Rcpp/include' -I'F:/biocbuild/bbs-3.19-bioc/R/library/zlibbioc/include' -I'F:/biocbuild/bbs-3.19-bioc/R/library/RcppProgress/include' -I"C:/rtools44/x86_64-w64-mingw32.static.posix/include" -fopenmp -DSPLICEWIZ -O2 -Wall -mfpmath=sse -msse2 -mstackrealign -c ReadBlockProcessor_CoverageBlocks.cpp -o ReadBlockProcessor_CoverageBlocks.o g++ -std=gnu++11 -I"F:/biocbuild/bbs-3.19-bioc/R/include" -DNDEBUG -I'F:/biocbuild/bbs-3.19-bioc/R/library/ompBAM/include' -I'F:/biocbuild/bbs-3.19-bioc/R/library/Rcpp/include' -I'F:/biocbuild/bbs-3.19-bioc/R/library/zlibbioc/include' -I'F:/biocbuild/bbs-3.19-bioc/R/library/RcppProgress/include' -I"C:/rtools44/x86_64-w64-mingw32.static.posix/include" -fopenmp -DSPLICEWIZ -O2 -Wall -mfpmath=sse -msse2 -mstackrealign -c ReadBlockProcessor_FragmentsMap.cpp -o ReadBlockProcessor_FragmentsMap.o g++ -std=gnu++11 -I"F:/biocbuild/bbs-3.19-bioc/R/include" -DNDEBUG -I'F:/biocbuild/bbs-3.19-bioc/R/library/ompBAM/include' -I'F:/biocbuild/bbs-3.19-bioc/R/library/Rcpp/include' -I'F:/biocbuild/bbs-3.19-bioc/R/library/zlibbioc/include' -I'F:/biocbuild/bbs-3.19-bioc/R/library/RcppProgress/include' -I"C:/rtools44/x86_64-w64-mingw32.static.posix/include" -fopenmp -DSPLICEWIZ -O2 -Wall -mfpmath=sse -msse2 -mstackrealign -c ReadBlockProcessor_TandemJunctions.cpp -o ReadBlockProcessor_TandemJunctions.o g++ -std=gnu++11 -I"F:/biocbuild/bbs-3.19-bioc/R/include" -DNDEBUG -I'F:/biocbuild/bbs-3.19-bioc/R/library/ompBAM/include' -I'F:/biocbuild/bbs-3.19-bioc/R/library/Rcpp/include' -I'F:/biocbuild/bbs-3.19-bioc/R/library/zlibbioc/include' -I'F:/biocbuild/bbs-3.19-bioc/R/library/RcppProgress/include' -I"C:/rtools44/x86_64-w64-mingw32.static.posix/include" -fopenmp -DSPLICEWIZ -O2 -Wall -mfpmath=sse -msse2 -mstackrealign -c covTools.cpp -o covTools.o g++ -std=gnu++11 -I"F:/biocbuild/bbs-3.19-bioc/R/include" -DNDEBUG -I'F:/biocbuild/bbs-3.19-bioc/R/library/ompBAM/include' -I'F:/biocbuild/bbs-3.19-bioc/R/library/Rcpp/include' -I'F:/biocbuild/bbs-3.19-bioc/R/library/zlibbioc/include' -I'F:/biocbuild/bbs-3.19-bioc/R/library/RcppProgress/include' -I"C:/rtools44/x86_64-w64-mingw32.static.posix/include" -fopenmp -DSPLICEWIZ -O2 -Wall -mfpmath=sse -msse2 -mstackrealign -c main.cpp -o main.o g++ -std=gnu++11 -I"F:/biocbuild/bbs-3.19-bioc/R/include" -DNDEBUG -I'F:/biocbuild/bbs-3.19-bioc/R/library/ompBAM/include' -I'F:/biocbuild/bbs-3.19-bioc/R/library/Rcpp/include' -I'F:/biocbuild/bbs-3.19-bioc/R/library/zlibbioc/include' -I'F:/biocbuild/bbs-3.19-bioc/R/library/RcppProgress/include' -I"C:/rtools44/x86_64-w64-mingw32.static.posix/include" -fopenmp -DSPLICEWIZ -O2 -Wall -mfpmath=sse -msse2 -mstackrealign -c swEngine.cpp -o swEngine.o g++ -std=gnu++11 -I"F:/biocbuild/bbs-3.19-bioc/R/include" -DNDEBUG -I'F:/biocbuild/bbs-3.19-bioc/R/library/ompBAM/include' -I'F:/biocbuild/bbs-3.19-bioc/R/library/Rcpp/include' -I'F:/biocbuild/bbs-3.19-bioc/R/library/zlibbioc/include' -I'F:/biocbuild/bbs-3.19-bioc/R/library/RcppProgress/include' -I"C:/rtools44/x86_64-w64-mingw32.static.posix/include" -fopenmp -DSPLICEWIZ -O2 -Wall -mfpmath=sse -msse2 -mstackrealign -c synthReadGenerator.cpp -o synthReadGenerator.o g++ -shared -s -static-libgcc -o SpliceWiz.dll tmp.def BAM2blocks.o FastaReader.o FragmentBlocks.o GZTools.o RcppExports.o ReadBlockProcessor.o ReadBlockProcessor_CoverageBlocks.o ReadBlockProcessor_FragmentsMap.o ReadBlockProcessor_TandemJunctions.o covTools.o main.o swEngine.o synthReadGenerator.o -fopenmp -DSPLICEWIZ -LF:/biocbuild/bbs-3.19-bioc/R/library/zlibbioc/libs/x64 -lzlib1bioc -LC:/rtools44/x86_64-w64-mingw32.static.posix/lib/x64 -LC:/rtools44/x86_64-w64-mingw32.static.posix/lib -LF:/biocbuild/bbs-3.19-bioc/R/bin/x64 -lR installing to F:/biocbuild/bbs-3.19-bioc/R/library/00LOCK-SpliceWiz/00new/SpliceWiz/libs/x64 ** R ** inst ** byte-compile and prepare package for lazy loading ** help *** installing help indices ** building package indices ** installing vignettes ** testing if installed package can be loaded from temporary location ** testing if installed package can be loaded from final location ** testing if installed package keeps a record of temporary installation path * DONE (SpliceWiz)
SpliceWiz.Rcheck/tests/testthat.Rout
R Under development (unstable) (2024-03-16 r86144 ucrt) -- "Unsuffered Consequences" Copyright (C) 2024 The R Foundation for Statistical Computing Platform: x86_64-w64-mingw32/x64 R is free software and comes with ABSOLUTELY NO WARRANTY. You are welcome to redistribute it under certain conditions. Type 'license()' or 'licence()' for distribution details. R is a collaborative project with many contributors. Type 'contributors()' for more information and 'citation()' on how to cite R or R packages in publications. Type 'demo()' for some demos, 'help()' for on-line help, or 'help.start()' for an HTML browser interface to help. Type 'q()' to quit R. > library(testthat) > library(SpliceWiz) Loading required package: NxtIRFdata SpliceWiz package loaded with 2 threads Use setSWthreads() to set the number of SpliceWiz threads > > test_check("SpliceWiz") Loading required package: Rsubread Mar 28 7:11:51 AM Converting FASTA to local TwoBitFile...done Mar 28 7:11:52 AM Connecting to genome TwoBitFile...done Mar 28 7:11:52 AM Making local copy of GTF file...done Mar 28 7:11:53 AM Extracting temp genome FASTA from TwoBit file Mar 28 7:11:54 AM Generating synthetic reads, saving to F:\biocbuild\bbs-3.19-bioc\tmpdir\RtmpIFuCnQ\refWithMapExcl/Mappability/Reads.fa 0% 10 20 30 40 50 60 70 80 90 100% [----|----|----|----|----|----|----|----|----|----| **************************************************| 10145 synthetic reads generated Mar 28 7:11:54 AM Cleaning temp genome / gene annotation files ========== _____ _ _ ____ _____ ______ _____ ===== / ____| | | | _ \| __ \| ____| /\ | __ \ ===== | (___ | | | | |_) | |__) | |__ / \ | | | | ==== \___ \| | | | _ <| _ /| __| / /\ \ | | | | ==== ____) | |__| | |_) | | \ \| |____ / ____ \| |__| | ========== |_____/ \____/|____/|_| \_\______/_/ \_\_____/ Rsubread 2.17.4 //================================= setting ==================================\\ || || || Index name : reference_index || || Index space : base space || || Index split : no-split || || Repeat threshold : 100 repeats || || Gapped index : no || || || || Free / total memory : 38.1GB / 64.0GB || || || || Input files : 1 file in total || || o genome.fa || || || \\============================================================================// //================================= Running ==================================\\ || || || Check the integrity of provided reference sequences ... || || No format issues were found || || Scan uninformative subreads in reference sequences ... || || Estimate the index size... || || 8%, 0 mins elapsed, rate=29.3k bps/s || || 16%, 0 mins elapsed, rate=57.9k bps/s || || 24%, 0 mins elapsed, rate=85.7k bps/s || || 33%, 0 mins elapsed, rate=112.8k bps/s || || 41%, 0 mins elapsed, rate=139.3k bps/s || || 49%, 0 mins elapsed, rate=165.2k bps/s || || 58%, 0 mins elapsed, rate=190.3k bps/s || || 66%, 0 mins elapsed, rate=215.0k bps/s || || 74%, 0 mins elapsed, rate=239.2k bps/s || || 83%, 0 mins elapsed, rate=262.9k bps/s || || 91%, 0 mins elapsed, rate=285.9k bps/s || || 3.0 GB of memory is needed for index building. || || Build the index... || || 8%, 0 mins elapsed, rate=3.4k bps/s || || 16%, 0 mins elapsed, rate=6.8k bps/s || || 24%, 0 mins elapsed, rate=10.2k bps/s || || 33%, 0 mins elapsed, rate=13.6k bps/s || || 41%, 0 mins elapsed, rate=17.0k bps/s || || 49%, 0 mins elapsed, rate=20.3k bps/s || || 58%, 0 mins elapsed, rate=23.7k bps/s || || 66%, 0 mins elapsed, rate=27.0k bps/s || || 74%, 0 mins elapsed, rate=30.3k bps/s || || 83%, 0 mins elapsed, rate=33.6k bps/s || || 91%, 0 mins elapsed, rate=36.8k bps/s || || Save current index block... || || [ 0.0% finished ] || || [ 10.0% finished ] || || [ 20.0% finished ] || || [ 30.0% finished ] || || [ 40.0% finished ] || || [ 50.0% finished ] || || [ 60.0% finished ] || || [ 70.0% finished ] || || [ 80.0% finished ] || || [ 90.0% finished ] || || [ 100.0% finished ] || || || || Total running time: 0.3 minutes. || ||Index F:\biocbuild\bbs-3.19-bioc\tmpdir\RtmpIFuCnQ\refWithMapExcl\refe ... || || || \\============================================================================// ========== _____ _ _ ____ _____ ______ _____ ===== / ____| | | | _ \| __ \| ____| /\ | __ \ ===== | (___ | | | | |_) | |__) | |__ / \ | | | | ==== \___ \| | | | _ <| _ /| __| / /\ \ | | | | ==== ____) | |__| | |_) | | \ \| |____ / ____ \| |__| | ========== |_____/ \____/|____/|_| \_\______/_/ \_\_____/ Rsubread 2.17.4 //================================= setting ==================================\\ || || || Function : Read alignment + Junction detection (RNA-Seq) || || Input file : Reads.fa || || Output file : AlignedReads.bam (BAM) || || Index name : reference_index || || || || ------------------------------------ || || || || Threads : 1 || || Phred offset : 33 || || Min votes : 1 / 14 || || Max mismatches : 3 || || Max indel length : 5 || || Report multi-mapping reads : yes || || Max alignments per multi-mapping read : 1 || || Annotations : transcripts.gtf (GTF) || || || \\============================================================================// //================ Running (28-Mar-2024 07:12:10, pid=60388) =================\\ || || || Check the input reads. || || The input file contains base space reads. || || Initialise the memory objects. || || Estimate the mean read length. || || Create the output BAM file. || || Check the index. || || Init the voting space. || || Load the annotation file. || || 538 annotation records were loaded. || || Global environment is initialised. || || Load the 1-th index block... || || The index block has been loaded. || || Start read mapping in chunk. || || 65% completed, 0.5 mins elapsed, rate=28.9k reads per second || || 83% completed, 0.5 mins elapsed, rate=0.3k reads per second || || 99% completed, 0.5 mins elapsed, rate=0.3k reads per second || || || || Completed successfully. || || || \\==================================== ====================================// //================================ Summary =================================\\ || || || Total reads : 10145 || || Mapped : 10145 (100.0%) || || Uniquely mapped : 10145 || || Multi-mapping : 0 || || || || Unmapped : 0 || || || || Junctions : 0 || || Indels : 1 || || || || Running time : 0.5 minutes || || || \\============================================================================// Mar 28 7:12:42 AM Calculating Mappability Exclusion regions from: F:\biocbuild\bbs-3.19-bioc\tmpdir\RtmpIFuCnQ/refWithMapExcl/Mappability/AlignedReads.bam Calculating Mappability Exclusions: F:\biocbuild\bbs-3.19-bioc\tmpdir\RtmpIFuCnQ\refWithMapExcl\Mappability\AlignedReads.bam 0% 10 20 30 40 50 60 70 80 90 100% [----|----|----|----|----|----|----|----|----|----| **************************************************| Performing final sort of fragment maps Writing Mappability Exclusions **************************************************| 0% 10 20 30 40 50 60 70 80 90 100% [----|----|----|----|----|----|----|----|----|----| **************************************************| Mar 28 7:12:46 AM Reference generated without non-polyA reference Mar 28 7:12:46 AM Reference generated without Mappability reference Mar 28 7:12:46 AM Reference generated without Blacklist exclusion Mar 28 7:12:46 AM Converting FASTA to local TwoBitFile...done Mar 28 7:12:47 AM Connecting to genome TwoBitFile...done Mar 28 7:12:47 AM Making local copy of GTF file...done Mar 28 7:12:48 AM Reading source GTF file...done Mar 28 7:12:49 AM Processing gtf file... ...genes ...transcripts ...CDS ...exons done Mar 28 7:12:50 AM Gene ontology not prepared for this reference Mar 28 7:12:52 AM Processing introns... ...data ...basic annotations ...splice motifs ...other info ...defining flanking exon clusters done Mar 28 7:12:57 AM Generating processBAM reference ...prepping data ...determining measurable introns (directional) ...determining measurable introns (non-directional) ...writing ref-cover.bed ...writing ref-ROI.bed ...writing ref-read-continues.ref ...writing ref-sj.ref ...writing ref-tj.ref processBAM reference generated Mar 28 7:13:04 AM Predicting NMD transcripts from genome sequence ...exonic transcripts ...retained introns | | | 0% | |======================================================================| 100% done Mar 28 7:13:07 AM Annotating Splice Events Annotating Mutually-Exclusive-Exon Splice Events...done Annotating Skipped-Exon Splice Events...done Annotating Alternate 5' / 3' Splice Site Splice Events...done Annotating Alternate First / Last Exon Splice Events...done Annotating known retained introns...done Mar 28 7:13:08 AM Splice Annotations Filtered Mar 28 7:13:09 AM Translating Alternate Splice Peptides...done Mar 28 7:13:10 AM Splice Annotations finished Reference build finished Mar 28 7:13:11 AM Running SpliceWiz processBAM Reading reference file Allocating memory to 1 threads for SpliceWiz (ompBAM)...initialized (0 milliseconds) Processing BAM file F:\biocbuild\bbs-3.19-bioc\tmpdir\RtmpIFuCnQ\02H003.bam 0% 10 20 30 40 50 60 70 80 90 100% [----|----|----|----|----|----|----|----|----|----| **************************************************| Performing final sort of fragment maps Writing COV file **************************************************| 0% 10 20 30 40 50 60 70 80 90 100% [----|----|----|----|----|----|----|----|----|----| **************************************************| Writing output file F:\biocbuild\bbs-3.19-bioc\tmpdir\RtmpIFuCnQ\02H003.bam processed (408 milliseconds) Mar 28 7:13:11 AM Running SpliceWiz processBAM Reading reference file Allocating memory to 2 threads for SpliceWiz (ompBAM)...initialized (2 milliseconds) Processing BAM file F:\biocbuild\bbs-3.19-bioc\tmpdir\RtmpIFuCnQ\02H003.bam 0% 10 20 30 40 50 60 70 80 90 100% [----|----|----|----|----|----|----|----|----|----| **************************************************| Compiling data from threads Performing final sort of fragment maps Writing COV file **************************************************| 0% 10 20 30 40 50 60 70 80 90 100% [----|----|----|----|----|----|----|----|----|----| **************************************************| Writing output file F:\biocbuild\bbs-3.19-bioc\tmpdir\RtmpIFuCnQ\02H003.bam processed (349 milliseconds) Mar 28 7:13:12 AM Reference generated without non-polyA reference Mar 28 7:13:12 AM Reference generated without Mappability reference Mar 28 7:13:12 AM Reference generated without Blacklist exclusion Mar 28 7:13:12 AM Converting FASTA to local TwoBitFile...done Mar 28 7:13:14 AM Connecting to genome TwoBitFile...done Mar 28 7:13:14 AM Making local copy of GTF file...done Mar 28 7:13:14 AM Reading source GTF file...done Mar 28 7:13:15 AM Processing gtf file... ...genes ...transcripts ...CDS Mar 28 7:13:15 AM No protein information detected in reference! For full functionality, ensure there are valid entries with type == `CDS` in the gtf file. Protein reference and NMD annotation is skipped. ...exons done Mar 28 7:13:16 AM Gene ontology not prepared for this reference Mar 28 7:13:21 AM Processing introns... ...data ...basic annotations ...splice motifs ...other info ...defining flanking exon clusters done Mar 28 7:13:25 AM Generating processBAM reference ...prepping data ...determining measurable introns (directional) ...determining measurable introns (non-directional) ...writing ref-cover.bed ...writing ref-ROI.bed ...writing ref-read-continues.ref ...writing ref-sj.ref ...writing ref-tj.ref processBAM reference generated Mar 28 7:13:33 AM Annotating Splice Events Annotating Mutually-Exclusive-Exon Splice Events...done Annotating Skipped-Exon Splice Events...done Annotating Alternate 5' / 3' Splice Site Splice Events...done Annotating Alternate First / Last Exon Splice Events...done Annotating known retained introns...done Mar 28 7:13:35 AM Splice Annotations Filtered Reference build finished Mar 28 7:13:37 AM Running SpliceWiz processBAM Allocating memory to 1 threads for SpliceWiz (ompBAM)...initialized (0 milliseconds) F:\biocbuild\bbs-3.19-bioc\tmpdir\RtmpIFuCnQ\02H003.bam processed (468 milliseconds) F:\biocbuild\bbs-3.19-bioc\tmpdir\RtmpIFuCnQ\02H025.bam processed (434 milliseconds) F:\biocbuild\bbs-3.19-bioc\tmpdir\RtmpIFuCnQ\02H026.bam processed (653 milliseconds) F:\biocbuild\bbs-3.19-bioc\tmpdir\RtmpIFuCnQ\02H033.bam processed (646 milliseconds) F:\biocbuild\bbs-3.19-bioc\tmpdir\RtmpIFuCnQ\02H043.bam processed (414 milliseconds) F:\biocbuild\bbs-3.19-bioc\tmpdir\RtmpIFuCnQ\02H046.bam processed (562 milliseconds) Mar 28 7:13:41 AM Validating Experiment; checking COV files... Mar 28 7:13:41 AM Compiling Sample Stats Mar 28 7:13:41 AM Compiling Junction List...merging...done Mar 28 7:13:42 AM Compiling Junction Stats...merging...done Mar 28 7:13:50 AM Compiling Intron Retention List...done Mar 28 7:13:52 AM Tidying up splice junctions and intron retentions... ...annotating splice junctions ...copying splicing reference ...grouping splice junctions ...grouping introns ...loading splice events ...compiling rowEvents done Mar 28 7:14:04 AM Generating NxtSE assays Mar 28 7:14:20 AM Building Final NxtSE Object Mar 28 7:14:20 AM ...consolidating assays to H5 file Mar 28 7:14:23 AM ...packaging reference Mar 28 7:14:23 AM ...synthesising NxtSE Mar 28 7:14:23 AM ...determining how overlapping introns should be removed Mar 28 7:14:27 AM SpliceWiz (NxtSE) Collation Finished Mar 28 7:14:27 AM Loading NxtSE object from file... Mar 28 7:14:27 AM ...loading reference (NxtSE) Mar 28 7:14:27 AM ...linking assays Mar 28 7:14:27 AM ...linking COV files Mar 28 7:14:27 AM ...loading rowData Mar 28 7:14:27 AM ...removing overlapping introns... Mar 28 7:14:27 AM NxtSE loaded Mar 28 7:14:28 AM SpliceWiz reference already exists in given directory Mar 28 7:14:28 AM Running SpliceWiz processBAM Allocating memory to 1 threads for SpliceWiz (ompBAM)...initialized (1 milliseconds) F:\biocbuild\bbs-3.19-bioc\tmpdir\RtmpIFuCnQ\02H003.bam processed (493 milliseconds) F:\biocbuild\bbs-3.19-bioc\tmpdir\RtmpIFuCnQ\02H025.bam processed (422 milliseconds) F:\biocbuild\bbs-3.19-bioc\tmpdir\RtmpIFuCnQ\02H026.bam processed (652 milliseconds) F:\biocbuild\bbs-3.19-bioc\tmpdir\RtmpIFuCnQ\02H033.bam processed (677 milliseconds) F:\biocbuild\bbs-3.19-bioc\tmpdir\RtmpIFuCnQ\02H043.bam processed (457 milliseconds) F:\biocbuild\bbs-3.19-bioc\tmpdir\RtmpIFuCnQ\02H046.bam processed (576 milliseconds) Mar 28 7:14:31 AM Validating Experiment; checking COV files... Mar 28 7:14:31 AM Compiling Sample Stats Mar 28 7:14:31 AM Compiling Junction List...merging...done Mar 28 7:14:32 AM Compiling Junction Stats...merging...done Mar 28 7:14:41 AM Compiling Intron Retention List...done Mar 28 7:14:42 AM Compiling Tandem Junction List...merging...done Mar 28 7:14:44 AM Tidying up splice junctions and intron retentions... ...annotating splice junctions ...looking for novel exons Mar 28 7:14:47 AM Assembling novel splicing reference: ...loading reference FASTA/GTF ...injecting novel transcripts to GTF ...processing GTF ...processing introns from GTF ...annotating alternative splicing events done Mar 28 7:15:00 AM Tidying up splice junctions and intron retentions (part 2)... ...grouping splice junctions ...grouping introns ...loading splice events ...compiling rowEvents done Mar 28 7:15:10 AM Generating NxtSE assays Mar 28 7:15:27 AM Building Final NxtSE Object Mar 28 7:15:27 AM ...consolidating assays to H5 file Mar 28 7:15:29 AM ...packaging reference Mar 28 7:15:29 AM ...synthesising NxtSE Mar 28 7:15:30 AM ...determining how overlapping introns should be removed Mar 28 7:15:33 AM SpliceWiz (NxtSE) Collation Finished Mar 28 7:15:33 AM Loading NxtSE object from file... Mar 28 7:15:33 AM ...loading reference (NxtSE) Mar 28 7:15:33 AM ...linking assays Mar 28 7:15:33 AM ...linking COV files Mar 28 7:15:33 AM ...loading rowData Mar 28 7:15:33 AM ...removing overlapping introns... Mar 28 7:15:34 AM NxtSE loaded Mar 28 7:15:34 AM SpliceWiz reference already exists in given directory Mar 28 7:15:34 AM Running SpliceWiz processBAM Allocating memory to 1 threads for SpliceWiz (ompBAM)...initialized (0 milliseconds) F:\biocbuild\bbs-3.19-bioc\tmpdir\RtmpIFuCnQ\02H003.bam processed (563 milliseconds) F:\biocbuild\bbs-3.19-bioc\tmpdir\RtmpIFuCnQ\02H025.bam processed (342 milliseconds) F:\biocbuild\bbs-3.19-bioc\tmpdir\RtmpIFuCnQ\02H026.bam processed (600 milliseconds) F:\biocbuild\bbs-3.19-bioc\tmpdir\RtmpIFuCnQ\02H033.bam processed (493 milliseconds) F:\biocbuild\bbs-3.19-bioc\tmpdir\RtmpIFuCnQ\02H043.bam processed (291 milliseconds) F:\biocbuild\bbs-3.19-bioc\tmpdir\RtmpIFuCnQ\02H046.bam processed (485 milliseconds) Mar 28 7:15:37 AM Validating Experiment; checking COV files... Mar 28 7:15:37 AM Compiling Sample Stats Mar 28 7:15:37 AM Compiling Junction List...merging...done Mar 28 7:15:38 AM Compiling Junction Stats...merging...done Mar 28 7:15:47 AM Compiling Intron Retention List...done Mar 28 7:15:48 AM Tidying up splice junctions and intron retentions... ...annotating splice junctions ...copying splicing reference ...grouping splice junctions ...grouping introns ...loading splice events ...compiling rowEvents done Mar 28 7:16:00 AM Generating NxtSE assays Mar 28 7:16:17 AM Building Final NxtSE Object Mar 28 7:16:17 AM ...consolidating assays to H5 file Mar 28 7:16:20 AM ...packaging reference Mar 28 7:16:20 AM ...synthesising NxtSE Mar 28 7:16:20 AM ...determining how overlapping introns should be removed Mar 28 7:16:23 AM SpliceWiz (NxtSE) Collation Finished Mar 28 7:16:23 AM Loading NxtSE object from file... Mar 28 7:16:23 AM ...loading reference (NxtSE) Mar 28 7:16:23 AM ...linking assays Mar 28 7:16:23 AM ...linking COV files Mar 28 7:16:23 AM ...loading rowData Mar 28 7:16:24 AM ...removing overlapping introns... Mar 28 7:16:24 AM NxtSE loaded path paired strand depth mean_frag_size 02H003 ../SpliceWiz_Output/02H003.txt.gz TRUE -1 106256 149.3108 02H025 ../SpliceWiz_Output/02H025.txt.gz TRUE -1 84872 151.5914 02H026 ../SpliceWiz_Output/02H026.txt.gz TRUE -1 131514 150.3238 02H033 ../SpliceWiz_Output/02H033.txt.gz TRUE -1 129013 153.9754 02H043 ../SpliceWiz_Output/02H043.txt.gz TRUE -1 80254 155.4004 02H046 ../SpliceWiz_Output/02H046.txt.gz TRUE -1 120174 151.2840 directionality_strength Intergenic_Fraction rRNA_Fraction 02H003 9850 0 0 02H025 9848 0 0 02H026 9848 0 0 02H033 9855 0 0 02H043 9841 0 0 02H046 9857 0 0 NonPolyA_Fraction Mitochondrial_Fraction Unanno_Jn_Fraction 02H003 0 0 0.013449472 02H025 0 0 0.011203515 02H026 0 0 0.007282382 02H033 0 0 0.006310241 02H043 0 0 0.005871040 02H046 0 0 0.009819533 NMD_Jn_Fraction Fraction_Splice_Reads Fraction_Span_Reads IRBurden_clean 02H003 0.019509970 0.3506908 0.1735243 0.05796583 02H025 0.019360162 0.3712414 0.1591691 0.03963531 02H026 0.004298323 0.3980261 0.1615037 0.02576549 02H033 0.007705562 0.4003550 0.1734089 0.03090263 02H043 0.028069104 0.3671219 0.1807511 0.03762138 02H046 0.010542303 0.3725598 0.1603508 0.05099352 IRBurden_exitrons IRBurden_clean_unstranded IRBurden_exitrons_unstranded 02H003 0.1291810 0.03844293 0.1296020 02H025 0.1192351 0.02730399 0.1194005 02H026 0.1231055 0.02010410 0.1231939 02H033 0.1378958 0.02300500 0.1380215 02H043 0.1392935 0.02286515 0.1397365 02H046 0.1132136 0.03359077 0.1133852 IRBurden_antisense 02H003 0.021393335 02H025 0.013191532 02H026 0.006007119 02H033 0.008453742 02H043 0.015837096 02H046 0.019043703 [ FAIL 0 | WARN 0 | SKIP 0 | PASS 45 ] > > # bump to trigger r cmd check > > proc.time() user system elapsed 271.79 13.81 297.37
SpliceWiz.Rcheck/SpliceWiz-Ex.timings
name | user | system | elapsed | |
ASE-GLM-edgeR | 3.21 | 0.23 | 3.47 | |
ASE-methods | 32.11 | 0.25 | 32.39 | |
ASEFilter-class | 0.07 | 0.02 | 0.07 | |
Build-Reference-methods | 60.27 | 2.00 | 77.20 | |
Coverage | 1.19 | 0.03 | 1.27 | |
Gene-ontology-methods | 1.98 | 0.09 | 2.06 | |
Graphics-User-Interface | 0.00 | 0.02 | 0.02 | |
Mappability-methods | 2.47 | 0.05 | 3.26 | |
NxtSE-class | 56.01 | 1.90 | 58.52 | |
Run_SpliceWiz_Filters | 8.46 | 0.02 | 8.47 | |
STAR-methods | 0 | 0 | 0 | |
View-Reference-methods | 0.18 | 0.01 | 0.20 | |
collateData | 0.30 | 0.11 | 0.41 | |
coord2GR | 0.03 | 0.00 | 0.03 | |
covDataObject-class | 1.67 | 0.02 | 1.68 | |
covPlotObject-class | 23.68 | 0.87 | 24.52 | |
covPlotly-class | 1.43 | 0.02 | 1.45 | |
example-SpliceWiz-data | 0.00 | 0.01 | 0.02 | |
findSamples | 0.00 | 0.02 | 0.01 | |
isCOV | 0.02 | 0.00 | 0.02 | |
makeSE | 0.89 | 0.14 | 1.03 | |
make_plot_data | 0.03 | 0.01 | 0.05 | |
plotCoverage | 16.63 | 0.50 | 17.09 | |
processBAM | 2.87 | 0.27 | 1.92 | |
setSWthreads | 0 | 0 | 0 | |
theme_white | 0.13 | 0.00 | 0.13 | |