Back to Multiple platform build/check report for BioC 3.17
ABCDEFGHIJKLMNOPQ[R]STUVWXYZ

This page was generated on 2022-12-06 11:06:34 -0500 (Tue, 06 Dec 2022).

HostnameOSArch (*)R versionInstalled pkgs
nebbiolo1Linux (Ubuntu 22.04.1 LTS)x86_64R Under development (unstable) (2022-11-30 r83393) -- "Unsuffered Consequences" 4277
palomino3Windows Server 2022 Datacenterx64R Under development (unstable) (2022-11-30 r83393 ucrt) -- "Unsuffered Consequences" 4193
merida1macOS 10.14.6 Mojavex86_64R Under development (unstable) (2022-11-30 r83393) -- "Unsuffered Consequences" 4236
Click on any hostname to see more info about the system (e.g. compilers)      (*) as reported by 'uname -p', except on Windows and Mac OS X

BUILD results for RNAmodR.RiboMethSeq on nebbiolo1


To the developers/maintainers of the RNAmodR.RiboMethSeq package:
- Please allow up to 24 hours (and sometimes 48 hours) for your latest push to git@git.bioconductor.org:packages/RNAmodR.RiboMethSeq.git to
reflect on this report. See How and When does the builder pull? When will my changes propagate? for more information.
- Make sure to use the following settings in order to reproduce any error or warning you see on this page.

raw results

Package 1687/2155HostnameOS / ArchINSTALLBUILDCHECKBUILD BIN
RNAmodR.RiboMethSeq 1.13.0  (landing page)
Felix G.M. Ernst
Snapshot Date: 2022-12-05 14:00:11 -0500 (Mon, 05 Dec 2022)
git_url: https://git.bioconductor.org/packages/RNAmodR.RiboMethSeq
git_branch: master
git_last_commit: 10195b1
git_last_commit_date: 2022-11-01 11:20:03 -0500 (Tue, 01 Nov 2022)
nebbiolo1Linux (Ubuntu 22.04.1 LTS) / x86_64  OK    OK    OK  UNNEEDED, same version is already published
palomino3Windows Server 2022 Datacenter / x64  OK    OK    OK    OK  NO, package depends on 'RNAmodR' which is not available
merida1macOS 10.14.6 Mojave / x86_64  OK    OK    OK    OK  NO, package depends on 'RNAmodR' which is not available

Summary

Package: RNAmodR.RiboMethSeq
Version: 1.13.0
Command: /home/biocbuild/bbs-3.17-bioc/R/bin/R CMD build --keep-empty-dirs --no-resave-data RNAmodR.RiboMethSeq
StartedAt: 2022-12-05 17:43:58 -0500 (Mon, 05 Dec 2022)
EndedAt: 2022-12-05 17:45:53 -0500 (Mon, 05 Dec 2022)
EllapsedTime: 115.2 seconds
RetCode: 0
Status:   OK  
PackageFile: RNAmodR.RiboMethSeq_1.13.0.tar.gz
PackageFileSize: 575.7 KiB

Command output

##############################################################################
##############################################################################
###
### Running command:
###
###   /home/biocbuild/bbs-3.17-bioc/R/bin/R CMD build --keep-empty-dirs --no-resave-data RNAmodR.RiboMethSeq
###
##############################################################################
##############################################################################


* checking for file ‘RNAmodR.RiboMethSeq/DESCRIPTION’ ... OK
* preparing ‘RNAmodR.RiboMethSeq’:
* checking DESCRIPTION meta-information ... OK
* installing the package to build vignettes
* creating vignettes ... OK
* checking for LF line-endings in source and make files and shell scripts
* checking for empty or unneeded directories
* looking to see if a ‘data/datalist’ file should be added
* building ‘RNAmodR.RiboMethSeq_1.13.0.tar.gz’