Back to Multiple platform build/check report for BioC 3.15
[A]BCDEFGHIJKLMNOPQRSTUVWXYZ

This page was generated on 2022-01-19 11:05:40 -0500 (Wed, 19 Jan 2022).

HostnameOSArch (*)R versionInstalled pkgs
nebbiolo1Linux (Ubuntu 20.04.4 LTS)x86_64R Under development (unstable) (2022-01-05 r81451) -- "Unsuffered Consequences" 4161
riesling1Windows Server 2019 Standardx64R Under development (unstable) (2021-11-21 r81221) -- "Unsuffered Consequences" 4056
palomino3Windows Server 2022 Datacenterx64R Under development (unstable) (2021-12-21 r81400 ucrt) -- "Unsuffered Consequences" 3998
merida1macOS 10.14.6 Mojavex86_64R Under development (unstable) (2022-01-05 r81451) -- "Unsuffered Consequences" 4115
Click on any hostname to see more info about the system (e.g. compilers)      (*) as reported by 'uname -p', except on Windows and Mac OS X

CHECK results for AllelicImbalance on nebbiolo1


To the developers/maintainers of the AllelicImbalance package:
- Please allow up to 24 hours (and sometimes 48 hours) for your latest push to git@git.bioconductor.org:packages/AllelicImbalance.git to
reflect on this report. See How and When does the builder pull? When will my changes propagate? here for more information.
- Make sure to use the following settings in order to reproduce any error or warning you see on this page.

raw results

Package 41/2074HostnameOS / ArchINSTALLBUILDCHECKBUILD BIN
AllelicImbalance 1.33.1  (landing page)
Jesper R Gadin
Snapshot Date: 2022-01-18 13:55:18 -0500 (Tue, 18 Jan 2022)
git_url: https://git.bioconductor.org/packages/AllelicImbalance
git_branch: master
git_last_commit: 7e81c3a
git_last_commit_date: 2021-11-17 15:17:12 -0500 (Wed, 17 Nov 2021)
nebbiolo1Linux (Ubuntu 20.04.4 LTS) / x86_64  OK    OK    OK  UNNEEDED, same version is already published
riesling1Windows Server 2019 Standard / x64  OK    OK    OK    OK  
palomino3Windows Server 2022 Datacenter / x64  OK    OK    OK    OK  NO, package depends on 'GenomicRanges' which is not available
merida1macOS 10.14.6 Mojave / x86_64  OK    OK    OK    OK  UNNEEDED, same version is already published

Summary

Package: AllelicImbalance
Version: 1.33.1
Command: /home/biocbuild/bbs-3.15-bioc/R/bin/R CMD check --install=check:AllelicImbalance.install-out.txt --library=/home/biocbuild/bbs-3.15-bioc/R/library --no-vignettes --timings AllelicImbalance_1.33.1.tar.gz
StartedAt: 2022-01-18 18:08:20 -0500 (Tue, 18 Jan 2022)
EndedAt: 2022-01-18 18:15:03 -0500 (Tue, 18 Jan 2022)
EllapsedTime: 402.6 seconds
RetCode: 0
Status:   OK  
CheckDir: AllelicImbalance.Rcheck
Warnings: 0

Command output

##############################################################################
##############################################################################
###
### Running command:
###
###   /home/biocbuild/bbs-3.15-bioc/R/bin/R CMD check --install=check:AllelicImbalance.install-out.txt --library=/home/biocbuild/bbs-3.15-bioc/R/library --no-vignettes --timings AllelicImbalance_1.33.1.tar.gz
###
##############################################################################
##############################################################################


* using log directory ‘/home/biocbuild/bbs-3.15-bioc/meat/AllelicImbalance.Rcheck’
* using R Under development (unstable) (2022-01-05 r81451)
* using platform: x86_64-pc-linux-gnu (64-bit)
* using session charset: UTF-8
* using option ‘--no-vignettes’
* checking for file ‘AllelicImbalance/DESCRIPTION’ ... OK
* checking extension type ... Package
* this is package ‘AllelicImbalance’ version ‘1.33.1’
* package encoding: UTF-8
* checking package namespace information ... OK
* checking package dependencies ... OK
* checking if this is a source package ... OK
* checking if there is a namespace ... OK
* checking for hidden files and directories ... OK
* checking for portable file names ... OK
* checking for sufficient/correct file permissions ... OK
* checking whether package ‘AllelicImbalance’ can be installed ... OK
* checking installed package size ... OK
* checking package directory ... OK
* checking ‘build’ directory ... OK
* checking DESCRIPTION meta-information ... OK
* checking top-level files ... OK
* checking for left-over files ... OK
* checking index information ... OK
* checking package subdirectories ... OK
* checking R files for non-ASCII characters ... OK
* checking R files for syntax errors ... OK
* checking whether the package can be loaded ... OK
* checking whether the package can be loaded with stated dependencies ... OK
* checking whether the package can be unloaded cleanly ... OK
* checking whether the namespace can be loaded with stated dependencies ... OK
* checking whether the namespace can be unloaded cleanly ... OK
* checking dependencies in R code ... OK
* checking S3 generic/method consistency ... OK
* checking replacement functions ... OK
* checking foreign function calls ... OK
* checking R code for possible problems ... OK
* checking Rd files ... OK
* checking Rd metadata ... OK
* checking Rd cross-references ... OK
* checking for missing documentation entries ... OK
* checking for code/documentation mismatches ... OK
* checking Rd \usage sections ... OK
* checking Rd contents ... OK
* checking for unstated dependencies in examples ... OK
* checking contents of ‘data’ directory ... OK
* checking data for non-ASCII characters ... OK
* checking LazyData ... OK
* checking data for ASCII and uncompressed saves ... OK
* checking files in ‘vignettes’ ... OK
* checking examples ... OK
Examples with CPU (user + system) or elapsed time > 5s
                       user system elapsed
import-bam           24.532  0.197  24.741
getSnpIdFromLocation 18.053  3.376  21.431
lva                   8.636  0.028   8.664
ASEset-glocationplot  5.595  0.104   5.699
annotation-wrappers   4.712  0.372   5.093
* checking for unstated dependencies in ‘tests’ ... OK
* checking tests ...
  Running ‘test-all.R’
 OK
* checking for unstated dependencies in vignettes ... OK
* checking package vignettes in ‘inst/doc’ ... OK
* checking running R code from vignettes ... SKIPPED
* checking re-building of vignette outputs ... SKIPPED
* checking PDF version of manual ... OK
* DONE

Status: OK


Installation output

AllelicImbalance.Rcheck/00install.out

##############################################################################
##############################################################################
###
### Running command:
###
###   /home/biocbuild/bbs-3.15-bioc/R/bin/R CMD INSTALL AllelicImbalance
###
##############################################################################
##############################################################################


* installing to library ‘/home/biocbuild/bbs-3.15-bioc/R/library’
* installing *source* package ‘AllelicImbalance’ ...
** using staged installation
** R
** data
*** moving datasets to lazyload DB
** inst
** byte-compile and prepare package for lazy loading
Creating a generic function for 'chisq.test' from package 'stats' in package 'AllelicImbalance'
Creating a generic function for 'binom.test' from package 'stats' in package 'AllelicImbalance'
** help
*** installing help indices
** building package indices
** installing vignettes
** testing if installed package can be loaded from temporary location
** testing if installed package can be loaded from final location
** testing if installed package keeps a record of temporary installation path
* DONE (AllelicImbalance)

Tests output

AllelicImbalance.Rcheck/tests/test-all.Rout


R Under development (unstable) (2022-01-05 r81451) -- "Unsuffered Consequences"
Copyright (C) 2022 The R Foundation for Statistical Computing
Platform: x86_64-pc-linux-gnu (64-bit)

R is free software and comes with ABSOLUTELY NO WARRANTY.
You are welcome to redistribute it under certain conditions.
Type 'license()' or 'licence()' for distribution details.

R is a collaborative project with many contributors.
Type 'contributors()' for more information and
'citation()' on how to cite R or R packages in publications.

Type 'demo()' for some demos, 'help()' for on-line help, or
'help.start()' for an HTML browser interface to help.
Type 'q()' to quit R.

> library(testthat)
> test_check("AllelicImbalance")
Loading required package: AllelicImbalance
Loading required package: grid
Loading required package: GenomicRanges
Loading required package: stats4
Loading required package: BiocGenerics

Attaching package: 'BiocGenerics'

The following objects are masked from 'package:stats':

    IQR, mad, sd, var, xtabs

The following objects are masked from 'package:base':

    Filter, Find, Map, Position, Reduce, anyDuplicated, append,
    as.data.frame, basename, cbind, colnames, dirname, do.call,
    duplicated, eval, evalq, get, grep, grepl, intersect, is.unsorted,
    lapply, mapply, match, mget, order, paste, pmax, pmax.int, pmin,
    pmin.int, rank, rbind, rownames, sapply, setdiff, sort, table,
    tapply, union, unique, unsplit, which.max, which.min

Loading required package: S4Vectors

Attaching package: 'S4Vectors'

The following objects are masked from 'package:base':

    I, expand.grid, unname

Loading required package: IRanges
Loading required package: GenomeInfoDb
Loading required package: SummarizedExperiment
Loading required package: MatrixGenerics
Loading required package: matrixStats

Attaching package: 'MatrixGenerics'

The following objects are masked from 'package:matrixStats':

    colAlls, colAnyNAs, colAnys, colAvgsPerRowSet, colCollapse,
    colCounts, colCummaxs, colCummins, colCumprods, colCumsums,
    colDiffs, colIQRDiffs, colIQRs, colLogSumExps, colMadDiffs,
    colMads, colMaxs, colMeans2, colMedians, colMins, colOrderStats,
    colProds, colQuantiles, colRanges, colRanks, colSdDiffs, colSds,
    colSums2, colTabulates, colVarDiffs, colVars, colWeightedMads,
    colWeightedMeans, colWeightedMedians, colWeightedSds,
    colWeightedVars, rowAlls, rowAnyNAs, rowAnys, rowAvgsPerColSet,
    rowCollapse, rowCounts, rowCummaxs, rowCummins, rowCumprods,
    rowCumsums, rowDiffs, rowIQRDiffs, rowIQRs, rowLogSumExps,
    rowMadDiffs, rowMads, rowMaxs, rowMeans2, rowMedians, rowMins,
    rowOrderStats, rowProds, rowQuantiles, rowRanges, rowRanks,
    rowSdDiffs, rowSds, rowSums2, rowTabulates, rowVarDiffs, rowVars,
    rowWeightedMads, rowWeightedMeans, rowWeightedMedians,
    rowWeightedSds, rowWeightedVars

Loading required package: Biobase
Welcome to Bioconductor

    Vignettes contain introductory material; view with
    'browseVignettes()'. To cite Bioconductor, see
    'citation("Biobase")', and for packages 'citation("pkgname")'.


Attaching package: 'Biobase'

The following object is masked from 'package:MatrixGenerics':

    rowMedians

The following objects are masked from 'package:matrixStats':

    anyMissing, rowMedians

Loading required package: GenomicAlignments
Loading required package: Biostrings
Loading required package: XVector

Attaching package: 'Biostrings'

The following object is masked from 'package:grid':

    pattern

The following object is masked from 'package:base':

    strsplit

Loading required package: Rsamtools
══ Skipped tests ═══════════════════════════════════════════════════════════════
• empty test (1)

[ FAIL 0 | WARN 0 | SKIP 1 | PASS 96 ]
> 
> 
> 
> proc.time()
   user  system elapsed 
 16.634   0.758  17.378 

Example timings

AllelicImbalance.Rcheck/AllelicImbalance-Ex.timings

nameusersystemelapsed
ASEset-barplot0.3550.0200.374
ASEset-class0.3930.0240.417
ASEset-filters0.0510.0040.055
ASEset-gbarplot0.0340.0080.043
ASEset-glocationplot5.5950.1045.699
ASEset-gviztrack0.5020.0560.558
ASEset-scanForHeterozygotes1.6720.0601.732
ASEset.old000
ASEset.sim000
ASEsetFromBam0.0020.0000.002
DetectedAI-class0.0840.0000.084
DetectedAI-plot1.2180.0201.238
DetectedAI-summary0.1030.0080.112
GRvariants0.0000.0020.002
GlobalAnalysis-class0.0000.0020.001
LinkVariantAlmlof-class0.0010.0000.000
LinkVariantAlmlof-plot2.0820.0162.098
RegionSummary-class000
RiskVariant-class0.0010.0000.000
annotation-wrappers4.7120.3725.093
annotationBarplot0.0000.0010.000
barplot-lattice-support0.1460.0230.168
binom.test0.0390.0040.043
chisq.test0.1240.0000.124
cigar-utilities0.0090.0040.013
countAllelesFromBam0.0020.0000.001
coverageMatrixListFromGAL0.6570.0000.657
decorateWithExons0.0010.0000.001
decorateWithGenes0.0000.0020.001
defaultMapBias0.0540.0020.056
defaultPhase0.0010.0000.001
detectAI0.0690.0040.073
fractionPlotDf0.0270.0000.027
gba000
genomatrix000
genotype2phase0.0200.0040.024
getAlleleCounts3.5430.0403.583
getAlleleQuality3.5820.0883.671
getAreaFromGeneNames0.3810.0280.409
getDefaultMapBiasExpMean0.0270.0000.026
getSnpIdFromLocation18.053 3.37621.431
histplot0.0010.0000.001
implodeList-old0.0050.0000.005
import-bam-20.0070.0000.007
import-bam24.532 0.19724.741
import-bcf1.1850.0641.249
inferAlleles0.010.000.01
inferAltAllele0.0090.0040.013
inferGenotypes0.0180.0040.022
initialize-ASEset0.060.000.06
initialize-DetectedAI0.0650.0000.065
initialize-GlobalAnalysis0.0020.0000.002
initialize-RiskVariant0.0020.0000.002
legendBarplot0.0010.0000.001
locationplot1.1690.0001.169
lva8.6360.0288.664
lva.internal0.3090.0000.310
makeMaskedFasta1.2940.0041.297
mapBiasRef0.0110.0040.014
minCountFilt0.0580.0040.062
minFreqFilt0.0590.0040.063
multiAllelicFilt0.0070.0040.011
phase2genotype0.0220.0000.022
phaseArray2phaseMatrix0.0040.0000.004
phaseMatrix2Array0.0020.0010.004
randomRef0.0170.0020.018
reads000
refAllele0.0130.0000.013
regionSummary0.5200.0040.523
scanForHeterozygotes-old4.4090.0034.413