Back to Build/check report for BioC 3.19:   simplified   long
ABCDEFG[H]IJKLMNOPQRSTUVWXYZ

This page was generated on 2024-02-20 13:15:00 -0500 (Tue, 20 Feb 2024).

HostnameOSArch (*)R versionInstalled pkgs
nebbiolo1Linux (Ubuntu 22.04.3 LTS)x86_64R Under development (unstable) (2024-01-16 r85808) -- "Unsuffered Consequences" 4657
Click on any hostname to see more info about the system (e.g. compilers)      (*) as reported by 'uname -p', except on Windows and Mac OS X

Package 929/2244HostnameOS / ArchINSTALLBUILDCHECKBUILD BIN
heatmaps 1.27.0  (landing page)
Malcolm Perry
Snapshot Date: 2024-02-19 14:10:08 -0500 (Mon, 19 Feb 2024)
git_url: https://git.bioconductor.org/packages/heatmaps
git_branch: devel
git_last_commit: 488e34a
git_last_commit_date: 2023-10-24 10:57:13 -0500 (Tue, 24 Oct 2023)
nebbiolo1Linux (Ubuntu 22.04.3 LTS) / x86_64  OK    OK    OK  UNNEEDED, same version is already published

BUILD results for heatmaps on nebbiolo1


To the developers/maintainers of the heatmaps package:
- Allow up to 24 hours (and sometimes 48 hours) for your latest push to git@git.bioconductor.org:packages/heatmaps.git to reflect on this report. See Troubleshooting Build Report for more information.
- Use the following Renviron settings to reproduce errors and warnings.
- If 'R CMD check' started to fail recently on the Linux builder(s) over a missing dependency, add the missing dependency to 'Suggests:' in your DESCRIPTION file. See Renviron.bioc for more information.

raw results


Summary

Package: heatmaps
Version: 1.27.0
Command: /home/biocbuild/bbs-3.19-bioc/R/bin/R CMD build --keep-empty-dirs --no-resave-data heatmaps
StartedAt: 2024-02-19 17:26:45 -0500 (Mon, 19 Feb 2024)
EndedAt: 2024-02-19 17:28:06 -0500 (Mon, 19 Feb 2024)
EllapsedTime: 80.4 seconds
RetCode: 0
Status:   OK  
PackageFile: heatmaps_1.27.0.tar.gz
PackageFileSize: 8.283 MiB

Command output

##############################################################################
##############################################################################
###
### Running command:
###
###   /home/biocbuild/bbs-3.19-bioc/R/bin/R CMD build --keep-empty-dirs --no-resave-data heatmaps
###
##############################################################################
##############################################################################


* checking for file ‘heatmaps/DESCRIPTION’ ... OK
* preparing ‘heatmaps’:
* checking DESCRIPTION meta-information ... OK
* installing the package to build vignettes
* creating vignettes ... OK
* checking for LF line-endings in source and make files and shell scripts
* checking for empty or unneeded directories
* looking to see if a ‘data/datalist’ file should be added
  NB: this package now depends on R (>= 3.5.0)
  WARNING: Added dependency on R >= 3.5.0 because serialized objects in
  serialize/load version 3 cannot be read in older versions of R.
  File(s) containing such objects:
    ‘heatmaps/data/HeatmapExamples.RData’
* building ‘heatmaps_1.27.0.tar.gz’