Back to Multiple platform build/check report for BioC 3.19: simplified long |
|
This page was generated on 2023-12-01 11:38:46 -0500 (Fri, 01 Dec 2023).
Hostname | OS | Arch (*) | R version | Installed pkgs |
---|---|---|---|---|
nebbiolo1 | Linux (Ubuntu 22.04.2 LTS) | x86_64 | R Under development (unstable) (2023-11-11 r85510) -- "Unsuffered Consequences" | 4601 |
palomino3 | Windows Server 2022 Datacenter | x64 | R Under development (unstable) (2023-11-14 r85524 ucrt) -- "Unsuffered Consequences" | 4343 |
merida1 | macOS 12.7.1 Monterey | x86_64 | R Under development (unstable) (2023-11-11 r85510) -- "Unsuffered Consequences" | 4368 |
kunpeng2 | Linux (openEuler 22.03 LTS-SP1) | aarch64 | R Under development (unstable) (2023-11-01 r85459) -- "Unsuffered Consequences" | 4253 |
Click on any hostname to see more info about the system (e.g. compilers) (*) as reported by 'uname -p', except on Windows and Mac OS X |
Package 326/2225 | Hostname | OS / Arch | INSTALL | BUILD | CHECK | BUILD BIN | ||||||||
chipenrich 2.27.0 (landing page) Kai Wang
| nebbiolo1 | Linux (Ubuntu 22.04.2 LTS) / x86_64 | OK | OK | OK | ![]() | ||||||||
palomino3 | Windows Server 2022 Datacenter / x64 | OK | OK | OK | OK | ![]() | ||||||||
merida1 | macOS 12.7.1 Monterey / x86_64 | OK | OK | OK | OK | ![]() | ||||||||
kunpeng2 | Linux (openEuler 22.03 LTS-SP1) / aarch64 | OK | OK | ERROR | ||||||||||
To the developers/maintainers of the chipenrich package: - Allow up to 24 hours (and sometimes 48 hours) for your latest push to git@git.bioconductor.org:packages/chipenrich.git to reflect on this report. See Troubleshooting Build Report for more information. - Use the following Renviron settings to reproduce errors and warnings. - If 'R CMD check' started to fail recently on the Linux builder(s) over a missing dependency, add the missing dependency to 'Suggests:' in your DESCRIPTION file. See Renviron.bioc for more information. - See Martin Grigorov's blog post for how to debug Linux ARM64 related issues on a x86_64 host. |
Package: chipenrich |
Version: 2.27.0 |
Command: /home/biocbuild/R/R-4.4-devel-2023.11.02/bin/R CMD check --install=check:chipenrich.install-out.txt --library=/home/biocbuild/R/R-4.4-devel-2023.11.02/site-library --no-vignettes --timings chipenrich_2.27.0.tar.gz |
StartedAt: 2023-12-01 06:42:12 -0000 (Fri, 01 Dec 2023) |
EndedAt: 2023-12-01 06:50:58 -0000 (Fri, 01 Dec 2023) |
EllapsedTime: 525.8 seconds |
RetCode: 1 |
Status: ERROR |
CheckDir: chipenrich.Rcheck |
Warnings: NA |
############################################################################## ############################################################################## ### ### Running command: ### ### /home/biocbuild/R/R-4.4-devel-2023.11.02/bin/R CMD check --install=check:chipenrich.install-out.txt --library=/home/biocbuild/R/R-4.4-devel-2023.11.02/site-library --no-vignettes --timings chipenrich_2.27.0.tar.gz ### ############################################################################## ############################################################################## * using log directory ‘/home/biocbuild/bbs-3.19-bioc/meat/chipenrich.Rcheck’ * using R Under development (unstable) (2023-11-01 r85459) * using platform: aarch64-unknown-linux-gnu * R was compiled by gcc (GCC) 10.3.1 GNU Fortran (GCC) 10.3.1 * running under: openEuler 22.03 (LTS-SP1) * using session charset: UTF-8 * using option ‘--no-vignettes’ * checking for file ‘chipenrich/DESCRIPTION’ ... OK * checking extension type ... Package * this is package ‘chipenrich’ version ‘2.27.0’ * checking package namespace information ... OK * checking package dependencies ... OK * checking if this is a source package ... OK * checking if there is a namespace ... OK * checking for hidden files and directories ... OK * checking for portable file names ... OK * checking for sufficient/correct file permissions ... OK * checking whether package ‘chipenrich’ can be installed ... OK * checking installed package size ... OK * checking package directory ... OK * checking ‘build’ directory ... OK * checking DESCRIPTION meta-information ... OK * checking top-level files ... OK * checking for left-over files ... OK * checking index information ... OK * checking package subdirectories ... OK * checking R files for non-ASCII characters ... OK * checking R files for syntax errors ... OK * checking whether the package can be loaded ... OK * checking whether the package can be loaded with stated dependencies ... OK * checking whether the package can be unloaded cleanly ... OK * checking whether the namespace can be loaded with stated dependencies ... OK * checking whether the namespace can be unloaded cleanly ... OK * checking loading without being on the library search path ... OK * checking dependencies in R code ... OK * checking S3 generic/method consistency ... OK * checking replacement functions ... OK * checking foreign function calls ... OK * checking R code for possible problems ... OK * checking Rd files ... NOTE checkRd: (-1) broadenrich.Rd:134: Escaped LaTeX specials: \& checkRd: (-1) chipenrich.Rd:148: Escaped LaTeX specials: \& checkRd: (-1) hybridenrich.Rd:111: Escaped LaTeX specials: \& checkRd: (-1) polyenrich.Rd:148: Escaped LaTeX specials: \& checkRd: (-1) proxReg.Rd:117: Escaped LaTeX specials: \& * checking Rd metadata ... OK * checking Rd cross-references ... OK * checking for missing documentation entries ... OK * checking for code/documentation mismatches ... OK * checking Rd \usage sections ... OK * checking Rd contents ... OK * checking for unstated dependencies in examples ... OK * checking files in ‘vignettes’ ... OK * checking examples ... OK Examples with CPU (user + system) or elapsed time > 5s user system elapsed broadenrich 9.789 0.252 10.166 polyenrich 9.327 0.195 9.554 * checking for unstated dependencies in ‘tests’ ... OK * checking tests ... Running ‘testthat.R’/home/biocbuild/R/R-devel/bin/BATCH: line 60: 1827588 Killed ${R_HOME}/bin/R -f ${in} ${opts} ${R_BATCH_OPTIONS} > ${out} 2>&1 ERROR Running the tests in ‘tests/testthat.R’ failed. Complete output: > library(testthat) > library(chipenrich) > > test_check("chipenrich") * checking for unstated dependencies in vignettes ... OK * checking package vignettes in ‘inst/doc’ ... OK * checking running R code from vignettes ... SKIPPED * checking re-building of vignette outputs ... SKIPPED * checking PDF version of manual ... OK * DONE Status: 1 ERROR, 1 NOTE See ‘/home/biocbuild/bbs-3.19-bioc/meat/chipenrich.Rcheck/00check.log’ for details.
chipenrich.Rcheck/00install.out
############################################################################## ############################################################################## ### ### Running command: ### ### /home/biocbuild/R/R-4.4-devel-2023.11.02/bin/R CMD INSTALL chipenrich ### ############################################################################## ############################################################################## * installing to library ‘/home/biocbuild/R/R-4.4-devel-2023.11.02/site-library’ * installing *source* package ‘chipenrich’ ... ** using staged installation ** R ** inst ** byte-compile and prepare package for lazy loading ** help *** installing help indices ** building package indices ** installing vignettes ** testing if installed package can be loaded from temporary location ** testing if installed package can be loaded from final location ** testing if installed package keeps a record of temporary installation path * DONE (chipenrich)
chipenrich.Rcheck/tests/testthat.Rout.fail
R Under development (unstable) (2023-11-01 r85459) -- "Unsuffered Consequences" Copyright (C) 2023 The R Foundation for Statistical Computing Platform: aarch64-unknown-linux-gnu R is free software and comes with ABSOLUTELY NO WARRANTY. You are welcome to redistribute it under certain conditions. Type 'license()' or 'licence()' for distribution details. R is a collaborative project with many contributors. Type 'contributors()' for more information and 'citation()' on how to cite R or R packages in publications. Type 'demo()' for some demos, 'help()' for on-line help, or 'help.start()' for an HTML browser interface to help. Type 'q()' to quit R. > library(testthat) > library(chipenrich) > > test_check("chipenrich")
chipenrich.Rcheck/chipenrich-Ex.timings
name | user | system | elapsed | |
assign_peak_segments | 0.393 | 0.019 | 0.439 | |
assign_peaks | 0.785 | 0.007 | 0.806 | |
broadenrich | 9.789 | 0.252 | 10.166 | |
calc_peak_gene_overlap | 0.401 | 0.021 | 0.423 | |
chipenrich | 2.163 | 0.011 | 2.189 | |
load_peaks | 0.076 | 0.000 | 0.077 | |
num_peaks_per_gene | 0.625 | 0.000 | 0.629 | |
peaks2genes | 0.627 | 0.012 | 0.644 | |
plot_chipenrich_spline | 1.903 | 0.020 | 1.941 | |
plot_dist_to_tss | 0.450 | 0.004 | 0.455 | |
plot_gene_coverage | 0.964 | 0.008 | 0.975 | |
plot_polyenrich_spline | 3.669 | 0.088 | 3.777 | |
polyenrich | 9.327 | 0.195 | 9.554 | |
proxReg | 0.675 | 0.043 | 0.722 | |
read_bed | 0.306 | 0.005 | 0.314 | |
supported_genesets | 0.007 | 0.000 | 0.007 | |
supported_genomes | 0.000 | 0.002 | 0.003 | |
supported_locusdefs | 0.006 | 0.000 | 0.006 | |
supported_methods | 0.001 | 0.000 | 0.001 | |
supported_read_lengths | 0.006 | 0.000 | 0.006 | |