Back to Multiple platform build/check report for BioC 3.19: simplified long |
|
This page was generated on 2023-12-07 11:39:46 -0500 (Thu, 07 Dec 2023).
Hostname | OS | Arch (*) | R version | Installed pkgs |
---|---|---|---|---|
nebbiolo1 | Linux (Ubuntu 22.04.2 LTS) | x86_64 | R Under development (unstable) (2023-11-11 r85510) -- "Unsuffered Consequences" | 4609 |
palomino3 | Windows Server 2022 Datacenter | x64 | R Under development (unstable) (2023-11-14 r85524 ucrt) -- "Unsuffered Consequences" | 4369 |
merida1 | macOS 12.7.1 Monterey | x86_64 | R Under development (unstable) (2023-11-11 r85510) -- "Unsuffered Consequences" | 4375 |
kunpeng2 | Linux (openEuler 22.03 LTS-SP1) | aarch64 | R Under development (unstable) (2023-11-01 r85459) -- "Unsuffered Consequences" | 4262 |
Click on any hostname to see more info about the system (e.g. compilers) (*) as reported by 'uname -p', except on Windows and Mac OS X |
Package 1601/2229 | Hostname | OS / Arch | INSTALL | BUILD | CHECK | BUILD BIN | ||||||||
qsea 1.29.0 (landing page) Matthias Lienhard
| nebbiolo1 | Linux (Ubuntu 22.04.2 LTS) / x86_64 | OK | OK | OK | ![]() | ||||||||
palomino3 | Windows Server 2022 Datacenter / x64 | OK | OK | OK | OK | ![]() | ||||||||
merida1 | macOS 12.7.1 Monterey / x86_64 | OK | OK | OK | NA | |||||||||
kunpeng2 | Linux (openEuler 22.03 LTS-SP1) / aarch64 | OK | OK | OK | ||||||||||
To the developers/maintainers of the qsea package: - Allow up to 24 hours (and sometimes 48 hours) for your latest push to git@git.bioconductor.org:packages/qsea.git to reflect on this report. See Troubleshooting Build Report for more information. - Use the following Renviron settings to reproduce errors and warnings. - If 'R CMD check' started to fail recently on the Linux builder(s) over a missing dependency, add the missing dependency to 'Suggests:' in your DESCRIPTION file. See Renviron.bioc for more information. - See Martin Grigorov's blog post for how to debug Linux ARM64 related issues on a x86_64 host. |
Package: qsea |
Version: 1.29.0 |
Command: /home/biocbuild/R/R-4.4-devel-2023.11.02/bin/R CMD check --install=check:qsea.install-out.txt --library=/home/biocbuild/R/R-4.4-devel-2023.11.02/site-library --no-vignettes --timings qsea_1.29.0.tar.gz |
StartedAt: 2023-12-07 10:28:42 -0000 (Thu, 07 Dec 2023) |
EndedAt: 2023-12-07 10:34:43 -0000 (Thu, 07 Dec 2023) |
EllapsedTime: 360.6 seconds |
RetCode: 0 |
Status: OK |
CheckDir: qsea.Rcheck |
Warnings: 0 |
############################################################################## ############################################################################## ### ### Running command: ### ### /home/biocbuild/R/R-4.4-devel-2023.11.02/bin/R CMD check --install=check:qsea.install-out.txt --library=/home/biocbuild/R/R-4.4-devel-2023.11.02/site-library --no-vignettes --timings qsea_1.29.0.tar.gz ### ############################################################################## ############################################################################## * using log directory ‘/home/biocbuild/bbs-3.19-bioc/meat/qsea.Rcheck’ * using R Under development (unstable) (2023-11-01 r85459) * using platform: aarch64-unknown-linux-gnu * R was compiled by gcc (GCC) 10.3.1 GNU Fortran (GCC) 10.3.1 * running under: openEuler 22.03 (LTS-SP1) * using session charset: UTF-8 * using option ‘--no-vignettes’ * checking for file ‘qsea/DESCRIPTION’ ... OK * checking extension type ... Package * this is package ‘qsea’ version ‘1.29.0’ * checking package namespace information ... OK * checking package dependencies ... OK * checking if this is a source package ... OK * checking if there is a namespace ... OK * checking for hidden files and directories ... OK * checking for portable file names ... OK * checking for sufficient/correct file permissions ... OK * checking whether package ‘qsea’ can be installed ... OK * used C compiler: ‘gcc (GCC) 10.3.1’ * checking installed package size ... OK * checking package directory ... OK * checking ‘build’ directory ... OK * checking DESCRIPTION meta-information ... OK * checking top-level files ... OK * checking for left-over files ... OK * checking index information ... OK * checking package subdirectories ... OK * checking R files for non-ASCII characters ... OK * checking R files for syntax errors ... OK * checking whether the package can be loaded ... OK * checking whether the package can be loaded with stated dependencies ... OK * checking whether the package can be unloaded cleanly ... OK * checking whether the namespace can be loaded with stated dependencies ... OK * checking whether the namespace can be unloaded cleanly ... OK * checking loading without being on the library search path ... OK * checking dependencies in R code ... OK * checking S3 generic/method consistency ... OK * checking replacement functions ... OK * checking foreign function calls ... OK * checking R code for possible problems ... OK * checking Rd files ... OK * checking Rd metadata ... OK * checking Rd cross-references ... OK * checking for missing documentation entries ... OK * checking for code/documentation mismatches ... OK * checking Rd \usage sections ... OK * checking Rd contents ... OK * checking for unstated dependencies in examples ... OK * checking R/sysdata.rda ... OK * checking line endings in C/C++/Fortran sources/headers ... OK * checking compiled code ... NOTE Note: information on .o files is not available * checking files in ‘vignettes’ ... OK * checking examples ... OK Examples with CPU (user + system) or elapsed time > 5s user system elapsed addNewSamples 27.249 0.238 27.594 addPatternDensity 9.391 0.072 9.490 addCNV 6.623 0.180 6.816 * checking for unstated dependencies in ‘tests’ ... OK * checking tests ... Running ‘testthat.R’ OK * checking for unstated dependencies in vignettes ... OK * checking package vignettes in ‘inst/doc’ ... OK * checking running R code from vignettes ... SKIPPED * checking re-building of vignette outputs ... SKIPPED * checking PDF version of manual ... OK * DONE Status: 1 NOTE See ‘/home/biocbuild/bbs-3.19-bioc/meat/qsea.Rcheck/00check.log’ for details.
qsea.Rcheck/00install.out
############################################################################## ############################################################################## ### ### Running command: ### ### /home/biocbuild/R/R-4.4-devel-2023.11.02/bin/R CMD INSTALL qsea ### ############################################################################## ############################################################################## * installing to library ‘/home/biocbuild/R/R-4.4-devel-2023.11.02/site-library’ * installing *source* package ‘qsea’ ... ** using staged installation ** libs using C compiler: ‘gcc (GCC) 10.3.1’ gcc -I"/home/biocbuild/R/R-devel/include" -DNDEBUG -I/usr/local/include -fPIC -g -O2 -Wall -c lm.c -o lm.o gcc -shared -L/home/biocbuild/R/R-devel/lib -L/usr/local/lib -o qsea.so lm.o -L/home/biocbuild/R/R-devel/lib -lR installing to /home/biocbuild/R/R-4.4-devel-2023.11.02/site-library/00LOCK-qsea/00new/qsea/libs ** R ** inst ** preparing package for lazy loading ** help *** installing help indices ** building package indices ** installing vignettes ** testing if installed package can be loaded from temporary location ** checking absolute paths in shared objects and dynamic libraries ** testing if installed package can be loaded from final location ** testing if installed package keeps a record of temporary installation path * DONE (qsea)
qsea.Rcheck/tests/testthat.Rout
R Under development (unstable) (2023-11-01 r85459) -- "Unsuffered Consequences" Copyright (C) 2023 The R Foundation for Statistical Computing Platform: aarch64-unknown-linux-gnu R is free software and comes with ABSOLUTELY NO WARRANTY. You are welcome to redistribute it under certain conditions. Type 'license()' or 'licence()' for distribution details. R is a collaborative project with many contributors. Type 'contributors()' for more information and 'citation()' on how to cite R or R packages in publications. Type 'demo()' for some demos, 'help()' for on-line help, or 'help.start()' for an HTML browser interface to help. Type 'q()' to quit R. > library(testthat) > library(qsea) > > test_check("qsea") [ FAIL 0 | WARN 0 | SKIP 0 | PASS 3 ] > > proc.time() user system elapsed 16.601 1.253 17.871
qsea.Rcheck/qsea-Ex.timings
name | user | system | elapsed | |
addCNV | 6.623 | 0.180 | 6.816 | |
addContrast | 3.051 | 0.028 | 3.085 | |
addCoverage | 3.346 | 0.020 | 3.377 | |
addEnrichmentParameters | 0.472 | 0.008 | 0.482 | |
addLibraryFactors | 1.126 | 0.008 | 1.137 | |
addNewSamples | 27.249 | 0.238 | 27.594 | |
addOffset | 0.415 | 0.000 | 0.416 | |
addPatternDensity | 9.391 | 0.072 | 9.490 | |
createQseaSet | 0.220 | 0.008 | 0.229 | |
example | 0.275 | 0.000 | 0.276 | |
fitNBglm | 1.132 | 0.000 | 1.134 | |
getPCA | 0.769 | 0.004 | 0.774 | |
isSignificant | 1.479 | 0.004 | 1.487 | |
makeTable | 1.855 | 0.047 | 1.911 | |
normMethod | 0.001 | 0.000 | 0.001 | |
plotCNV | 0.311 | 0.004 | 0.317 | |
plotCoverage | 0.875 | 0.004 | 0.881 | |
plotEnrichmentProfile | 0.425 | 0.008 | 0.433 | |
plotPCA | 0.820 | 0.036 | 0.858 | |
qseaGLM-class | 0.001 | 0.000 | 0.000 | |
qseaPCA-class | 0.001 | 0.000 | 0.000 | |
qseaSet-class | 0.001 | 0.000 | 0.000 | |
regionStats | 0.794 | 0.000 | 0.795 | |