Back to Multiple platform build/check report for BioC 3.19: simplified long |
|
This page was generated on 2024-04-29 11:41:10 -0400 (Mon, 29 Apr 2024).
Hostname | OS | Arch (*) | R version | Installed pkgs |
---|---|---|---|---|
nebbiolo1 | Linux (Ubuntu 22.04.3 LTS) | x86_64 | 4.4.0 beta (2024-04-15 r86425) -- "Puppy Cup" | 4752 |
palomino3 | Windows Server 2022 Datacenter | x64 | 4.4.0 beta (2024-04-15 r86425 ucrt) -- "Puppy Cup" | 4486 |
lconway | macOS 12.7.1 Monterey | x86_64 | 4.4.0 beta (2024-04-14 r86421) -- "Puppy Cup" | 4518 |
kunpeng2 | Linux (openEuler 22.03 LTS-SP1) | aarch64 | 4.4.0 beta (2024-04-15 r86425) -- "Puppy Cup" | 4475 |
Click on any hostname to see more info about the system (e.g. compilers) (*) as reported by 'uname -p', except on Windows and Mac OS X |
Package 1495/2300 | Hostname | OS / Arch | INSTALL | BUILD | CHECK | BUILD BIN | ||||||||
OUTRIDER 1.21.3 (landing page) Christian Mertes
| nebbiolo1 | Linux (Ubuntu 22.04.3 LTS) / x86_64 | OK | OK | OK | |||||||||
palomino3 | Windows Server 2022 Datacenter / x64 | OK | OK | OK | OK | |||||||||
lconway | macOS 12.7.1 Monterey / x86_64 | OK | OK | OK | OK | |||||||||
kunpeng2 | Linux (openEuler 22.03 LTS-SP1) / aarch64 | OK | OK | OK | ||||||||||
kjohnson3 | macOS 13.6.5 Ventura / arm64 | see weekly results here | ||||||||||||
To the developers/maintainers of the OUTRIDER package: - Allow up to 24 hours (and sometimes 48 hours) for your latest push to git@git.bioconductor.org:packages/OUTRIDER.git to reflect on this report. See Troubleshooting Build Report for more information. - Use the following Renviron settings to reproduce errors and warnings. - If 'R CMD check' started to fail recently on the Linux builder(s) over a missing dependency, add the missing dependency to 'Suggests:' in your DESCRIPTION file. See Renviron.bioc for more information. - See Martin Grigorov's blog post for how to debug Linux ARM64 related issues on a x86_64 host. |
Package: OUTRIDER |
Version: 1.21.3 |
Command: /home/biocbuild/R/R-beta-2024-04-15_r86425/bin/R CMD check --install=check:OUTRIDER.install-out.txt --library=/home/biocbuild/R/R-beta-2024-04-15_r86425/site-library --no-vignettes --timings OUTRIDER_1.21.3.tar.gz |
StartedAt: 2024-04-29 08:54:59 -0000 (Mon, 29 Apr 2024) |
EndedAt: 2024-04-29 09:05:19 -0000 (Mon, 29 Apr 2024) |
EllapsedTime: 620.2 seconds |
RetCode: 0 |
Status: OK |
CheckDir: OUTRIDER.Rcheck |
Warnings: 0 |
############################################################################## ############################################################################## ### ### Running command: ### ### /home/biocbuild/R/R-beta-2024-04-15_r86425/bin/R CMD check --install=check:OUTRIDER.install-out.txt --library=/home/biocbuild/R/R-beta-2024-04-15_r86425/site-library --no-vignettes --timings OUTRIDER_1.21.3.tar.gz ### ############################################################################## ############################################################################## * using log directory ‘/home/biocbuild/bbs-3.19-bioc/meat/OUTRIDER.Rcheck’ * using R version 4.4.0 beta (2024-04-15 r86425) * using platform: aarch64-unknown-linux-gnu * R was compiled by gcc (GCC) 10.3.1 GNU Fortran (GCC) 10.3.1 * running under: openEuler 22.03 (LTS-SP1) * using session charset: UTF-8 * using option ‘--no-vignettes’ * checking for file ‘OUTRIDER/DESCRIPTION’ ... OK * checking extension type ... Package * this is package ‘OUTRIDER’ version ‘1.21.3’ * package encoding: UTF-8 * checking package namespace information ... OK * checking package dependencies ... OK * checking if this is a source package ... OK * checking if there is a namespace ... OK * checking for hidden files and directories ... OK * checking for portable file names ... OK * checking for sufficient/correct file permissions ... OK * checking whether package ‘OUTRIDER’ can be installed ... OK * used C++ compiler: ‘g++ (GCC) 10.3.1’ * checking C++ specification ... NOTE Specified C++11: please drop specification unless essential * checking installed package size ... OK * checking package directory ... OK * checking ‘build’ directory ... OK * checking DESCRIPTION meta-information ... NOTE License stub is invalid DCF. * checking top-level files ... OK * checking for left-over files ... OK * checking index information ... OK * checking package subdirectories ... OK * checking code files for non-ASCII characters ... OK * checking R files for syntax errors ... OK * checking whether the package can be loaded ... OK * checking whether the package can be loaded with stated dependencies ... OK * checking whether the package can be unloaded cleanly ... OK * checking whether the namespace can be loaded with stated dependencies ... OK * checking whether the namespace can be unloaded cleanly ... OK * checking loading without being on the library search path ... OK * checking dependencies in R code ... NOTE Unexported object imported by a ':::' call: 'ggbio:::.buildFacetsFromArgs' See the note in ?`:::` about the use of this operator. * checking S3 generic/method consistency ... OK * checking replacement functions ... OK * checking foreign function calls ... OK * checking R code for possible problems ... OK * checking Rd files ... NOTE checkRd: (-1) results.Rd:48-50: Lost braces in \itemize; \value handles \item{}{} directly checkRd: (-1) results.Rd:51-52: Lost braces in \itemize; \value handles \item{}{} directly checkRd: (-1) results.Rd:53-54: Lost braces in \itemize; \value handles \item{}{} directly checkRd: (-1) results.Rd:55: Lost braces in \itemize; \value handles \item{}{} directly checkRd: (-1) results.Rd:56-57: Lost braces in \itemize; \value handles \item{}{} directly checkRd: (-1) results.Rd:58-60: Lost braces in \itemize; \value handles \item{}{} directly checkRd: (-1) results.Rd:61-62: Lost braces in \itemize; \value handles \item{}{} directly checkRd: (-1) results.Rd:63-64: Lost braces in \itemize; \value handles \item{}{} directly checkRd: (-1) results.Rd:65-66: Lost braces in \itemize; \value handles \item{}{} directly checkRd: (-1) results.Rd:67: Lost braces in \itemize; \value handles \item{}{} directly checkRd: (-1) results.Rd:68-71: Lost braces in \itemize; \value handles \item{}{} directly * checking Rd metadata ... OK * checking Rd cross-references ... OK * checking for missing documentation entries ... OK * checking for code/documentation mismatches ... OK * checking Rd \usage sections ... OK * checking Rd contents ... OK * checking for unstated dependencies in examples ... OK * checking line endings in C/C++/Fortran sources/headers ... OK * checking line endings in Makefiles ... OK * checking compilation flags in Makevars ... OK * checking for GNU extensions in Makefiles ... OK * checking for portable use of $(BLAS_LIBS) and $(LAPACK_LIBS) ... OK * checking use of PKG_*FLAGS in Makefiles ... OK * checking compiled code ... NOTE Note: information on .o files is not available * checking files in ‘vignettes’ ... OK * checking examples ... OK Examples with CPU (user + system) or elapsed time > 5s user system elapsed plotFunctions 20.971 0.555 21.732 OUTRIDER 15.040 3.074 16.314 findEncodingDim 17.015 0.869 17.923 computePvalues 3.087 2.870 3.562 results 5.179 0.143 5.340 * checking for unstated dependencies in ‘tests’ ... OK * checking tests ... Running ‘testthat.R’ OK * checking for unstated dependencies in vignettes ... OK * checking package vignettes ... OK * checking running R code from vignettes ... SKIPPED * checking re-building of vignette outputs ... SKIPPED * checking PDF version of manual ... OK * DONE Status: 5 NOTEs See ‘/home/biocbuild/bbs-3.19-bioc/meat/OUTRIDER.Rcheck/00check.log’ for details.
OUTRIDER.Rcheck/00install.out
############################################################################## ############################################################################## ### ### Running command: ### ### /home/biocbuild/R/R-beta-2024-04-15_r86425/bin/R CMD INSTALL OUTRIDER ### ############################################################################## ############################################################################## * installing to library ‘/home/biocbuild/R/R-beta-2024-04-15_r86425/site-library’ * installing *source* package ‘OUTRIDER’ ... ** using staged installation ** libs using C++ compiler: ‘g++ (GCC) 10.3.1’ using C++11 g++ -std=gnu++11 -I"/home/biocbuild/R/R-beta-2024-04-15_r86425/include" -DNDEBUG -I'/home/biocbuild/R/R-beta-2024-04-15_r86425/site-library/Rcpp/include' -I'/home/biocbuild/R/R-beta-2024-04-15_r86425/site-library/RcppArmadillo/include' -I/usr/local/include -fopenmp -DARMA_DONT_USE_OPENMP -fPIC -g -O2 -Wall -c RcppExports.cpp -o RcppExports.o g++ -std=gnu++11 -I"/home/biocbuild/R/R-beta-2024-04-15_r86425/include" -DNDEBUG -I'/home/biocbuild/R/R-beta-2024-04-15_r86425/site-library/Rcpp/include' -I'/home/biocbuild/R/R-beta-2024-04-15_r86425/site-library/RcppArmadillo/include' -I/usr/local/include -fopenmp -DARMA_DONT_USE_OPENMP -fPIC -g -O2 -Wall -c loss_n_gradient_functions.cpp -o loss_n_gradient_functions.o g++ -std=gnu++11 -shared -L/home/biocbuild/R/R-beta-2024-04-15_r86425/lib -L/usr/local/lib -o OUTRIDER.so RcppExports.o loss_n_gradient_functions.o -fopenmp -lopenblas -lgfortran -lm -L/home/biocbuild/R/R-beta-2024-04-15_r86425/lib -lR installing to /home/biocbuild/R/R-beta-2024-04-15_r86425/site-library/00LOCK-OUTRIDER/00new/OUTRIDER/libs ** R ** inst ** byte-compile and prepare package for lazy loading ** help *** installing help indices ** building package indices ** installing vignettes ** testing if installed package can be loaded from temporary location ** checking absolute paths in shared objects and dynamic libraries ** testing if installed package can be loaded from final location ** testing if installed package keeps a record of temporary installation path * DONE (OUTRIDER)
OUTRIDER.Rcheck/tests/testthat.Rout
R version 4.4.0 beta (2024-04-15 r86425) -- "Puppy Cup" Copyright (C) 2024 The R Foundation for Statistical Computing Platform: aarch64-unknown-linux-gnu R is free software and comes with ABSOLUTELY NO WARRANTY. You are welcome to redistribute it under certain conditions. Type 'license()' or 'licence()' for distribution details. R is a collaborative project with many contributors. Type 'contributors()' for more information and 'citation()' on how to cite R or R packages in publications. Type 'demo()' for some demos, 'help()' for on-line help, or 'help.start()' for an HTML browser interface to help. Type 'q()' to quit R. > library(testthat) > library(OUTRIDER) Loading required package: BiocParallel Loading required package: GenomicFeatures Loading required package: BiocGenerics Attaching package: 'BiocGenerics' The following objects are masked from 'package:stats': IQR, mad, sd, var, xtabs The following objects are masked from 'package:base': Filter, Find, Map, Position, Reduce, anyDuplicated, aperm, append, as.data.frame, basename, cbind, colnames, dirname, do.call, duplicated, eval, evalq, get, grep, grepl, intersect, is.unsorted, lapply, mapply, match, mget, order, paste, pmax, pmax.int, pmin, pmin.int, rank, rbind, rownames, sapply, setdiff, table, tapply, union, unique, unsplit, which.max, which.min Loading required package: S4Vectors Loading required package: stats4 Attaching package: 'S4Vectors' The following object is masked from 'package:utils': findMatches The following objects are masked from 'package:base': I, expand.grid, unname Loading required package: IRanges Loading required package: GenomeInfoDb Loading required package: GenomicRanges Loading required package: AnnotationDbi Loading required package: Biobase Welcome to Bioconductor Vignettes contain introductory material; view with 'browseVignettes()'. To cite Bioconductor, see 'citation("Biobase")', and for packages 'citation("pkgname")'. Loading required package: SummarizedExperiment Loading required package: MatrixGenerics Loading required package: matrixStats Attaching package: 'matrixStats' The following objects are masked from 'package:Biobase': anyMissing, rowMedians Attaching package: 'MatrixGenerics' The following objects are masked from 'package:matrixStats': colAlls, colAnyNAs, colAnys, colAvgsPerRowSet, colCollapse, colCounts, colCummaxs, colCummins, colCumprods, colCumsums, colDiffs, colIQRDiffs, colIQRs, colLogSumExps, colMadDiffs, colMads, colMaxs, colMeans2, colMedians, colMins, colOrderStats, colProds, colQuantiles, colRanges, colRanks, colSdDiffs, colSds, colSums2, colTabulates, colVarDiffs, colVars, colWeightedMads, colWeightedMeans, colWeightedMedians, colWeightedSds, colWeightedVars, rowAlls, rowAnyNAs, rowAnys, rowAvgsPerColSet, rowCollapse, rowCounts, rowCummaxs, rowCummins, rowCumprods, rowCumsums, rowDiffs, rowIQRDiffs, rowIQRs, rowLogSumExps, rowMadDiffs, rowMads, rowMaxs, rowMeans2, rowMedians, rowMins, rowOrderStats, rowProds, rowQuantiles, rowRanges, rowRanks, rowSdDiffs, rowSds, rowSums2, rowTabulates, rowVarDiffs, rowVars, rowWeightedMads, rowWeightedMeans, rowWeightedMedians, rowWeightedSds, rowWeightedVars The following object is masked from 'package:Biobase': rowMedians Loading required package: data.table Attaching package: 'data.table' The following object is masked from 'package:SummarizedExperiment': shift The following object is masked from 'package:GenomicRanges': shift The following object is masked from 'package:IRanges': shift The following objects are masked from 'package:S4Vectors': first, second > > register(SerialParam()) > > test_check("OUTRIDER") [1] "Mon Apr 29 09:03:50 2024: Initial PCA loss: 6.54694621046032" [1] "Mon Apr 29 09:03:52 2024: Iteration: 1 loss: 4.6853117860163" [1] "Mon Apr 29 09:03:53 2024: Iteration: 2 loss: 4.6231321953128" [1] "Mon Apr 29 09:03:54 2024: Iteration: 3 loss: 4.59157336184934" [1] "Mon Apr 29 09:03:55 2024: Iteration: 4 loss: 4.56378782690942" [1] "Mon Apr 29 09:03:55 2024: Iteration: 5 loss: 4.55413951930957" [1] "Mon Apr 29 09:03:56 2024: Iteration: 6 loss: 4.5459047727396" Time difference of 5.985171 secs [1] "Mon Apr 29 09:03:56 2024: 6 Final nb-AE loss: 4.5459047727396" [1] "Mon Apr 29 09:03:58 2024: Initial PCA loss: 6.54694621046032" [1] "Mon Apr 29 09:04:00 2024: Iteration: 1 loss: 4.6853117860163" [1] "Mon Apr 29 09:04:01 2024: Iteration: 2 loss: 4.6231321953128" [1] "Mon Apr 29 09:04:02 2024: Iteration: 3 loss: 4.59157336184934" [1] "Mon Apr 29 09:04:03 2024: Iteration: 4 loss: 4.56378782690942" [1] "Mon Apr 29 09:04:04 2024: Iteration: 5 loss: 4.55413951930957" [1] "Mon Apr 29 09:04:05 2024: Iteration: 6 loss: 4.5459047727396" Time difference of 5.792221 secs [1] "Mon Apr 29 09:04:05 2024: 6 Final nb-AE loss: 4.5459047727396" class: OutriderDataSet class: RangedSummarizedExperiment dim: 100 50 metadata(1): version assays(1): counts rownames(100): ENSG00000223972.4 ENSG00000227232.4 ... ENSG00000107404.13 ENSG00000162576.12 rowData names(0): colnames(50): GTEX.UPK5.0426.SM.3GAEK GTEX.WFG7.2026.SM.3GIL7 ... GTEX.11UD2.2526.SM.5CVNU GTEX.13O61.1426.SM.5KM3D colData names(1): sampleID [1] "Mon Apr 29 09:04:23 2024: Initial PCA loss: 4.66278238261417" [1] "Mon Apr 29 09:04:25 2024: Iteration: 1 loss: 4.18468707185031" [1] "Mon Apr 29 09:04:26 2024: Iteration: 2 loss: 4.17105253988274" Time difference of 2.099132 secs [1] "Mon Apr 29 09:04:26 2024: 2 Final nb-AE loss: 4.17105253988274" [1] "Evaluation loss: 0.461870775576672 for q=3" [1] "Mon Apr 29 09:04:27 2024: Initial PCA loss: 4.50874669327467" [1] "Mon Apr 29 09:04:29 2024: Iteration: 1 loss: 4.07549182688834" [1] "Mon Apr 29 09:04:30 2024: Iteration: 2 loss: 4.05378614180314" Time difference of 2.087365 secs [1] "Mon Apr 29 09:04:30 2024: 2 Final nb-AE loss: 4.05378614180314" [1] "Evaluation loss: 0.516373306573276 for q=4" [1] "Mon Apr 29 09:04:31 2024: Initial PCA loss: 4.47506818615713" [1] "Mon Apr 29 09:04:33 2024: Iteration: 1 loss: 4.01137321904773" [1] "Mon Apr 29 09:04:34 2024: Iteration: 2 loss: 3.98517189036743" Time difference of 2.023088 secs [1] "Mon Apr 29 09:04:34 2024: 2 Final nb-AE loss: 3.98517189036743" [1] "Evaluation loss: 0.393417711482428 for q=5" [1] "Mon Apr 29 09:04:47 2024: Initial PCA loss: 7.16457134714849" [1] "Mon Apr 29 09:04:49 2024: Iteration: 1 loss: 6.82914904822917" [1] "Mon Apr 29 09:04:50 2024: Iteration: 2 loss: 6.82749374530494" Time difference of 2.234963 secs [1] "Mon Apr 29 09:04:50 2024: 2 Final nb-AE loss: 6.82749374530494" [ FAIL 0 | WARN 10 | SKIP 0 | PASS 115 ] [ FAIL 0 | WARN 10 | SKIP 0 | PASS 115 ] > > proc.time() user system elapsed 108.475 2.813 111.521
OUTRIDER.Rcheck/OUTRIDER-Ex.timings
name | user | system | elapsed | |
OUTRIDER | 15.040 | 3.074 | 16.314 | |
OutriderDataSet-class | 1.263 | 0.199 | 1.466 | |
aberrant | 2.713 | 1.159 | 2.733 | |
computeGeneLength | 2.277 | 0.340 | 2.623 | |
computeLatentSpace | 1.268 | 0.115 | 1.387 | |
computePvalues | 3.087 | 2.870 | 3.562 | |
computeZscores | 1.294 | 0.215 | 1.513 | |
controlForConfounders | 1.695 | 0.216 | 1.917 | |
counts | 0.874 | 0.028 | 0.904 | |
estimateBestQ | 0.642 | 0.032 | 0.676 | |
filterExpression | 2.196 | 0.132 | 2.333 | |
findEncodingDim | 17.015 | 0.869 | 17.923 | |
fit | 1.271 | 0.020 | 1.294 | |
fpkm | 1.114 | 0.020 | 1.136 | |
getter_setter_functions | 4.360 | 0.092 | 4.462 | |
makeExampleOutriderDataSet | 1.579 | 0.004 | 1.587 | |
normalizationFactors | 1.049 | 0.008 | 1.059 | |
plotFunctions | 20.971 | 0.555 | 21.732 | |
results | 5.179 | 0.143 | 5.340 | |
sampleExclusionMask | 0.651 | 0.004 | 0.657 | |
sizeFactors | 0.977 | 0.004 | 0.985 | |