Back to Multiple platform build/check report for BioC 3.17: simplified long |
|
This page was generated on 2023-02-04 11:04:42 -0500 (Sat, 04 Feb 2023).
Hostname | OS | Arch (*) | R version | Installed pkgs |
---|---|---|---|---|
nebbiolo1 | Linux (Ubuntu 22.04.1 LTS) | x86_64 | R Under development (unstable) (2023-01-10 r83596) -- "Unsuffered Consequences" | 4483 |
palomino3 | Windows Server 2022 Datacenter | x64 | R Under development (unstable) (2023-01-10 r83596 ucrt) -- "Unsuffered Consequences" | 4249 |
merida1 | macOS 10.14.6 Mojave | x86_64 | R Under development (unstable) (2023-01-10 r83596) -- "Unsuffered Consequences" | 4272 |
Click on any hostname to see more info about the system (e.g. compilers) (*) as reported by 'uname -p', except on Windows and Mac OS X |
To the developers/maintainers of the annmap package: - Please allow up to 24 hours (and sometimes 48 hours) for your latest push to git@git.bioconductor.org:packages/annmap.git to reflect on this report. See How and When does the builder pull? When will my changes propagate? for more information. - Make sure to use the following settings in order to reproduce any error or warning you see on this page. |
Package 53/2164 | Hostname | OS / Arch | INSTALL | BUILD | CHECK | BUILD BIN | ||||||||
annmap 1.41.0 (landing page) Chris Wirth
| nebbiolo1 | Linux (Ubuntu 22.04.1 LTS) / x86_64 | OK | OK | WARNINGS | ![]() | ||||||||
palomino3 | Windows Server 2022 Datacenter / x64 | ... NOT SUPPORTED ... | ||||||||||||
merida1 | macOS 10.14.6 Mojave / x86_64 | OK | OK | WARNINGS | OK | ![]() | ||||||||
Package: annmap |
Version: 1.41.0 |
Command: /home/biocbuild/bbs-3.17-bioc/R/bin/R CMD INSTALL annmap |
StartedAt: 2023-02-03 15:34:40 -0500 (Fri, 03 Feb 2023) |
EndedAt: 2023-02-03 15:35:04 -0500 (Fri, 03 Feb 2023) |
EllapsedTime: 23.4 seconds |
RetCode: 0 |
Status: OK |
############################################################################## ############################################################################## ### ### Running command: ### ### /home/biocbuild/bbs-3.17-bioc/R/bin/R CMD INSTALL annmap ### ############################################################################## ############################################################################## * installing to library ‘/home/biocbuild/bbs-3.17-bioc/R/library’ * installing *source* package ‘annmap’ ... ** using staged installation ** R ** inst ** byte-compile and prepare package for lazy loading in method for ‘probesetInRange’ with signature ‘x="RangedData"’: no definition for class “RangedData” in method for ‘probeInRange’ with signature ‘x="RangedData"’: no definition for class “RangedData” in method for ‘proteinInRange’ with signature ‘x="RangedData"’: no definition for class “RangedData” in method for ‘domainInRange’ with signature ‘x="RangedData"’: no definition for class “RangedData” in method for ‘geneInRange’ with signature ‘x="RangedData"’: no definition for class “RangedData” in method for ‘transcriptInRange’ with signature ‘x="RangedData"’: no definition for class “RangedData” in method for ‘exonInRange’ with signature ‘x="RangedData"’: no definition for class “RangedData” in method for ‘estGeneInRange’ with signature ‘x="RangedData"’: no definition for class “RangedData” in method for ‘estTranscriptInRange’ with signature ‘x="RangedData"’: no definition for class “RangedData” in method for ‘estExonInRange’ with signature ‘x="RangedData"’: no definition for class “RangedData” in method for ‘predictionTranscriptInRange’ with signature ‘x="RangedData"’: no definition for class “RangedData” ** help *** installing help indices ** building package indices ** installing vignettes ** testing if installed package can be loaded from temporary location ** testing if installed package can be loaded from final location ** testing if installed package keeps a record of temporary installation path * DONE (annmap)