Back to Multiple platform build/check report for BioC 3.17:   simplified   long
AB[C]DEFGHIJKLMNOPQRSTUVWXYZ

This page was generated on 2023-02-07 11:05:06 -0500 (Tue, 07 Feb 2023).

HostnameOSArch (*)R versionInstalled pkgs
nebbiolo1Linux (Ubuntu 22.04.1 LTS)x86_64R Under development (unstable) (2023-01-10 r83596) -- "Unsuffered Consequences" 4483
palomino3Windows Server 2022 Datacenterx64R Under development (unstable) (2023-01-10 r83596 ucrt) -- "Unsuffered Consequences" 4249
merida1macOS 10.14.6 Mojavex86_64R Under development (unstable) (2023-01-10 r83596) -- "Unsuffered Consequences" 4272
Click on any hostname to see more info about the system (e.g. compilers)      (*) as reported by 'uname -p', except on Windows and Mac OS X

CHECK results for cellHTS2 on nebbiolo1


To the developers/maintainers of the cellHTS2 package:
- Please allow up to 24 hours (and sometimes 48 hours) for your latest push to git@git.bioconductor.org:packages/cellHTS2.git to
reflect on this report. See How and When does the builder pull? When will my changes propagate? for more information.
- Make sure to use the following settings in order to reproduce any error or warning you see on this page.

raw results

Package 272/2164HostnameOS / ArchINSTALLBUILDCHECKBUILD BIN
cellHTS2 2.63.0  (landing page)
Joseph Barry
Snapshot Date: 2023-02-06 14:00:21 -0500 (Mon, 06 Feb 2023)
git_url: https://git.bioconductor.org/packages/cellHTS2
git_branch: master
git_last_commit: 7c21828
git_last_commit_date: 2022-11-01 11:03:30 -0500 (Tue, 01 Nov 2022)
nebbiolo1Linux (Ubuntu 22.04.1 LTS) / x86_64  OK    OK    OK  UNNEEDED, same version is already published
palomino3Windows Server 2022 Datacenter / x64  OK    OK    OK    OK  UNNEEDED, same version is already published
merida1macOS 10.14.6 Mojave / x86_64  OK    OK    OK    OK  UNNEEDED, same version is already published

Summary

Package: cellHTS2
Version: 2.63.0
Command: /home/biocbuild/bbs-3.17-bioc/R/bin/R CMD check --install=check:cellHTS2.install-out.txt --library=/home/biocbuild/bbs-3.17-bioc/R/library --timings cellHTS2_2.63.0.tar.gz
StartedAt: 2023-02-06 19:33:40 -0500 (Mon, 06 Feb 2023)
EndedAt: 2023-02-06 19:42:40 -0500 (Mon, 06 Feb 2023)
EllapsedTime: 540.7 seconds
RetCode: 0
Status:   OK  
CheckDir: cellHTS2.Rcheck
Warnings: 0

Command output

##############################################################################
##############################################################################
###
### Running command:
###
###   /home/biocbuild/bbs-3.17-bioc/R/bin/R CMD check --install=check:cellHTS2.install-out.txt --library=/home/biocbuild/bbs-3.17-bioc/R/library --timings cellHTS2_2.63.0.tar.gz
###
##############################################################################
##############################################################################


* using log directory ‘/home/biocbuild/bbs-3.17-bioc/meat/cellHTS2.Rcheck’
* using R Under development (unstable) (2023-01-10 r83596)
* using platform: x86_64-pc-linux-gnu (64-bit)
* R was compiled by
    gcc (Ubuntu 11.3.0-1ubuntu1~22.04) 11.3.0
    GNU Fortran (Ubuntu 11.3.0-1ubuntu1~22.04) 11.3.0
* running under: Ubuntu 22.04.1 LTS
* using session charset: UTF-8
* checking for file ‘cellHTS2/DESCRIPTION’ ... OK
* this is package ‘cellHTS2’ version ‘2.63.0’
* checking package namespace information ... OK
* checking package dependencies ... NOTE
Depends: includes the non-default packages:
  'RColorBrewer', 'Biobase', 'genefilter', 'splots', 'vsn', 'hwriter',
  'locfit', 'grid'
Adding so many packages to the search path is excessive and importing
selectively is preferable.
* checking if this is a source package ... OK
* checking if there is a namespace ... OK
* checking for hidden files and directories ... OK
* checking for portable file names ... OK
* checking for sufficient/correct file permissions ... OK
* checking whether package ‘cellHTS2’ can be installed ... OK
* checking installed package size ... OK
* checking package directory ... OK
* checking ‘build’ directory ... OK
* checking DESCRIPTION meta-information ... OK
* checking top-level files ... OK
* checking for left-over files ... OK
* checking index information ... OK
* checking package subdirectories ... OK
* checking R files for non-ASCII characters ... OK
* checking R files for syntax errors ... OK
* checking whether the package can be loaded ... OK
* checking whether the package can be loaded with stated dependencies ... OK
* checking whether the package can be unloaded cleanly ... OK
* checking whether the namespace can be loaded with stated dependencies ... OK
* checking whether the namespace can be unloaded cleanly ... OK
* checking dependencies in R code ... NOTE
Package in Depends field not imported from: ‘genefilter’
  These packages need to be imported from (in the NAMESPACE file)
  for when this namespace is loaded but not attached.
Unexported object imported by a ':::' call: ‘Biobase:::.showAnnotatedDataFrame’
  See the note in ?`:::` about the use of this operator.
* checking S3 generic/method consistency ... OK
* checking replacement functions ... OK
* checking foreign function calls ... OK
* checking R code for possible problems ... NOTE
plotPlate: no visible global function definition for ‘dev.cur’
plotPlate: no visible global function definition for ‘plot.new’
Undefined global functions or variables:
  dev.cur plot.new
Consider adding
  importFrom("grDevices", "dev.cur")
  importFrom("graphics", "plot.new")
to your NAMESPACE file.
* checking Rd files ... OK
* checking Rd metadata ... OK
* checking Rd cross-references ... NOTE
Unknown packages ‘cellHTS’, ‘prada’ in Rd xrefs
* checking for missing documentation entries ... OK
* checking for code/documentation mismatches ... OK
* checking Rd \usage sections ... OK
* checking Rd contents ... OK
* checking for unstated dependencies in examples ... OK
* checking contents of ‘data’ directory ... OK
* checking data for non-ASCII characters ... OK
* checking data for ASCII and uncompressed saves ... OK
* checking files in ‘vignettes’ ... OK
* checking examples ... OK
* checking for unstated dependencies in ‘tests’ ... OK
* checking tests ...
  Running ‘test.R’
 OK
* checking for unstated dependencies in vignettes ... OK
* checking package vignettes in ‘inst/doc’ ... OK
* checking running R code from vignettes ...
  ‘cellhts2.Rnw’... OK
  ‘cellhts2Complete.Rnw’... OK
  ‘twoChannels.Rnw’... OK
  ‘twoWay.Rnw’... OK
 OK
* checking re-building of vignette outputs ... OK
* checking PDF version of manual ... OK
* DONE

Status: 4 NOTEs
See
  ‘/home/biocbuild/bbs-3.17-bioc/meat/cellHTS2.Rcheck/00check.log’
for details.



Installation output

cellHTS2.Rcheck/00install.out

##############################################################################
##############################################################################
###
### Running command:
###
###   /home/biocbuild/bbs-3.17-bioc/R/bin/R CMD INSTALL cellHTS2
###
##############################################################################
##############################################################################


* installing to library ‘/home/biocbuild/bbs-3.17-bioc/R/library’
* installing *source* package ‘cellHTS2’ ...
** using staged installation
** R
** data
** inst
** byte-compile and prepare package for lazy loading
** help
*** installing help indices
** building package indices
** installing vignettes
** testing if installed package can be loaded from temporary location
** testing if installed package can be loaded from final location
** testing if installed package keeps a record of temporary installation path
* DONE (cellHTS2)

Tests output

cellHTS2.Rcheck/tests/test.Rout


R Under development (unstable) (2023-01-10 r83596) -- "Unsuffered Consequences"
Copyright (C) 2023 The R Foundation for Statistical Computing
Platform: x86_64-pc-linux-gnu (64-bit)

R is free software and comes with ABSOLUTELY NO WARRANTY.
You are welcome to redistribute it under certain conditions.
Type 'license()' or 'licence()' for distribution details.

R is a collaborative project with many contributors.
Type 'contributors()' for more information and
'citation()' on how to cite R or R packages in publications.

Type 'demo()' for some demos, 'help()' for on-line help, or
'help.start()' for an HTML browser interface to help.
Type 'q()' to quit R.

> ## cat tests/test.R | R --vanilla
> ## cellHTS2 crash test on various conditions
> library(cellHTS2)
Loading required package: RColorBrewer
Loading required package: Biobase
Loading required package: BiocGenerics

Attaching package: 'BiocGenerics'

The following objects are masked from 'package:stats':

    IQR, mad, sd, var, xtabs

The following objects are masked from 'package:base':

    Filter, Find, Map, Position, Reduce, anyDuplicated, aperm, append,
    as.data.frame, basename, cbind, colnames, dirname, do.call,
    duplicated, eval, evalq, get, grep, grepl, intersect, is.unsorted,
    lapply, mapply, match, mget, order, paste, pmax, pmax.int, pmin,
    pmin.int, rank, rbind, rownames, sapply, setdiff, sort, table,
    tapply, union, unique, unsplit, which.max, which.min

Welcome to Bioconductor

    Vignettes contain introductory material; view with
    'browseVignettes()'. To cite Bioconductor, see
    'citation("Biobase")', and for packages 'citation("pkgname")'.

Loading required package: genefilter
Loading required package: splots
Loading required package: vsn
Loading required package: hwriter
Loading required package: locfit
locfit 1.5-9.7 	 2023-01-02
Loading required package: grid
> path <- system.file("testscreen", package="cellHTS2")
> 
> testPlatelist=function(platelist, normalize=TRUE)
+ {
+     x <- readPlateList(platelist, name="test", path=path)
+     x <- configure(x, descripFile="description.txt", confFile="plateconf.txt",
+                    logFile="screenlog.txt", path=path)
+     
+     if (normalize)
+     {
+         ## normalize results
+         xn <- normalizePlates(x, scale="multiplicative", log=FALSE, method="median",
+                               varianceAdjust="none")
+         
+         ## score and summarize replicates
+         xsc <- scoreReplicates(xn, sign="-", method="zscore")
+         xsc <- summarizeReplicates(xsc, summary="mean")
+     }
+     
+     ## write reports
+     outdir <- file.path(tempdir(),platelist,'raw')
+     mainScriptFile <-  system.file("scripts/dummy.R", package="cellHTS2")
+     writeReport(raw=x, force=TRUE, plotPlateArgs = TRUE,imageScreenArgs = list(zrange=c( -4, 8), ar=1),
+                 map=TRUE, outdir=outdir, mainScriptFile=mainScriptFile)
+     if (interactive()) browseURL(file.path(outdir,'index.html'))
+     if (normalize)
+     {
+         outdir <- file.path(tempdir(),platelist,'norm')
+         writeReport(raw=x, normalized=xn, scored=xsc, force=TRUE, plotPlateArgs = TRUE,
+                     imageScreenArgs = list(zrange=c( -4, 8), ar=1), map=TRUE, outdir=outdir,
+                     mainScriptFile=mainScriptFile)
+         if (interactive()) browseURL(file.path(outdir,'index.html'))
+     }
+ }
> 
> ######
> ## 2 plates, 2 replicates, 1 channel
> testPlatelist('platelist221.txt')
cellHTS2 is busy creating HTML pages for 'test'. 
Found raw data.
State:
configured=TRUE, annotated=FALSE

0% done (step 1 of 6)
33% done (step 2 of 6)
38% done (step 3 of 6)
42% done (step 3 of 6)
52% done (step 4 of 6)
88% done (step 5 of 6)
100% done (step 5 of 6)
100% done (step 5 of 6)
100% done (step 6 of 6)
Report was successfully generated in folder /tmp/RtmpQCMaVr/platelist221.txt/raw/index.html
cellHTS2 is busy creating HTML pages for 'test'. 
Found raw, normalized and scored data.
State:
configured=TRUE, annotated=FALSE

0% done (step 1 of 8)
17% done (step 2 of 8)
19% done (step 3 of 8)
22% done (step 3 of 8)
27% done (step 4 of 8)
46% done (step 5 of 8)
92% done (step 6 of 8)
94% done (step 7 of 8)
100% done (step 8 of 8)
Report was successfully generated in folder /tmp/RtmpQCMaVr/platelist221.txt/norm/index.html
Warning messages:
1: The plotPlateArgs argument is deprecated. Please use the settings infrastructure as explained in '?setSettings'. 
2: The imageScreenArgs argument is deprecated. Please use the settings infrastructure as explained in '?setSettings'. 
3: The plotPlateArgs argument is deprecated. Please use the settings infrastructure as explained in '?setSettings'. 
4: The imageScreenArgs argument is deprecated. Please use the settings infrastructure as explained in '?setSettings'. 
5: In sprintf("Left: raw, right: normalized", r) :
  one argument not used by format 'Left: raw, right: normalized'
6: In sprintf("Left: raw, right: normalized", r) :
  one argument not used by format 'Left: raw, right: normalized'
> 
> ######
> ## 2 plates, 1 replicate, 2 channels
> testPlatelist('platelist212.txt', normalize=FALSE)
cellHTS2 is busy creating HTML pages for 'test'. 
Found raw data.
State:
configured=TRUE, annotated=FALSE

0% done (step 1 of 6)
33% done (step 2 of 6)
38% done (step 3 of 6)
42% done (step 3 of 6)
52% done (step 4 of 6)
88% done (step 5 of 6)
100% done (step 5 of 6)
100% done (step 5 of 6)
100% done (step 6 of 6)
Report was successfully generated in folder /tmp/RtmpQCMaVr/platelist212.txt/raw/index.html
Warning messages:
1: The plotPlateArgs argument is deprecated. Please use the settings infrastructure as explained in '?setSettings'. 
2: The imageScreenArgs argument is deprecated. Please use the settings infrastructure as explained in '?setSettings'. 
> 
> ######
> ## 2 plates, 1 replicate, 3 channels
> testPlatelist('platelist213.txt', normalize=FALSE)
cellHTS2 is busy creating HTML pages for 'test'. 
Found raw data.
State:
configured=TRUE, annotated=FALSE

0% done (step 1 of 6)
26% done (step 2 of 6)
31% done (step 3 of 6)
37% done (step 3 of 6)
48% done (step 4 of 6)
91% done (step 5 of 6)
100% done (step 5 of 6)
100% done (step 5 of 6)
100% done (step 6 of 6)
Report was successfully generated in folder /tmp/RtmpQCMaVr/platelist213.txt/raw/index.html
Warning messages:
1: The plotPlateArgs argument is deprecated. Please use the settings infrastructure as explained in '?setSettings'. 
2: The imageScreenArgs argument is deprecated. Please use the settings infrastructure as explained in '?setSettings'. 
> 
> ######
> ## 2 plates, 2 replicates, 2 channels
> testPlatelist('platelist222.txt', normalize=FALSE)
cellHTS2 is busy creating HTML pages for 'test'. 
Found raw data.
State:
configured=TRUE, annotated=FALSE

0% done (step 1 of 6)
21% done (step 2 of 6)
27% done (step 3 of 6)
33% done (step 3 of 6)
46% done (step 4 of 6)
92% done (step 5 of 6)
100% done (step 5 of 6)
100% done (step 5 of 6)
100% done (step 6 of 6)
Report was successfully generated in folder /tmp/RtmpQCMaVr/platelist222.txt/raw/index.html
Warning messages:
1: The plotPlateArgs argument is deprecated. Please use the settings infrastructure as explained in '?setSettings'. 
2: The imageScreenArgs argument is deprecated. Please use the settings infrastructure as explained in '?setSettings'. 
> 
> ######
> ## 2 plates, 1 replicates, 1 channel
> testPlatelist('platelist211.txt')
cellHTS2 is busy creating HTML pages for 'test'. 
Found raw data.
State:
configured=TRUE, annotated=FALSE

0% done (step 1 of 6)
46% done (step 2 of 6)
49% done (step 3 of 6)
52% done (step 3 of 6)
59% done (step 4 of 6)
84% done (step 5 of 6)
100% done (step 5 of 6)
100% done (step 5 of 6)
100% done (step 6 of 6)
Report was successfully generated in folder /tmp/RtmpQCMaVr/platelist211.txt/raw/index.html
cellHTS2 is busy creating HTML pages for 'test'. 
Found raw, normalized and scored data.
State:
configured=TRUE, annotated=FALSE

0% done (step 1 of 8)
28% done (step 2 of 8)
30% done (step 3 of 8)
31% done (step 3 of 8)
36% done (step 4 of 8)
51% done (step 5 of 8)
88% done (step 6 of 8)
90% done (step 7 of 8)
100% done (step 8 of 8)
Report was successfully generated in folder /tmp/RtmpQCMaVr/platelist211.txt/norm/index.html
Warning messages:
1: The plotPlateArgs argument is deprecated. Please use the settings infrastructure as explained in '?setSettings'. 
2: The imageScreenArgs argument is deprecated. Please use the settings infrastructure as explained in '?setSettings'. 
3: The plotPlateArgs argument is deprecated. Please use the settings infrastructure as explained in '?setSettings'. 
4: The imageScreenArgs argument is deprecated. Please use the settings infrastructure as explained in '?setSettings'. 
5: In sprintf("Left: raw, right: normalized", r) :
  one argument not used by format 'Left: raw, right: normalized'
> 
> ######
> ## 2 plates, 3 replicates, 3 channels
> testPlatelist('platelist233.txt', normalize=FALSE)
cellHTS2 is busy creating HTML pages for 'test'. 
Found raw data.
State:
configured=TRUE, annotated=FALSE

0% done (step 1 of 6)
11% done (step 2 of 6)
18% done (step 3 of 6)
25% done (step 3 of 6)
40% done (step 4 of 6)
96% done (step 5 of 6)
100% done (step 5 of 6)
100% done (step 5 of 6)
100% done (step 6 of 6)
Report was successfully generated in folder /tmp/RtmpQCMaVr/platelist233.txt/raw/index.html
Warning messages:
1: The plotPlateArgs argument is deprecated. Please use the settings infrastructure as explained in '?setSettings'. 
2: The imageScreenArgs argument is deprecated. Please use the settings infrastructure as explained in '?setSettings'. 
> 
> proc.time()
   user  system elapsed 
 27.395   1.470  28.790 

Example timings

cellHTS2.Rcheck/cellHTS2-Ex.timings

nameusersystemelapsed
Bscore2.3780.2042.582
ROC-class0.170.020.19
ROC0.8090.0280.837
annotate0.6090.0000.611
bdgpbiomart0.1670.0080.175
buildCellHTS20.2450.0000.245
cellHTS-class0.5940.0560.650
configurationAsScreenPlot0.8540.0240.878
configure0.5660.0080.574
convertOldCellHTS0.4550.0280.483
convertWellCoordinates0.0000.0010.001
data-KcViab0.1230.0010.125
data-KcViabSmall0.010.000.01
data-dualCh0.0110.0000.011
data-oldKcViabSmall0.0060.0040.010
getDynamicRange0.4330.0240.457
getEnVisionRawData0.0180.0040.022
getMeasureRepAgreement0.3160.0000.316
getTopTable0.8470.0000.847
getZfactor0.2450.0040.249
imageScreen0.7850.0080.793
normalizePlates1.0010.0001.002
oneRowPerId0.0030.0000.003
plotSpatialEffects1.2320.0081.240
readHTAnalystData0.5290.0030.534
readPlateList0.4010.0040.405
rsa0.6220.0160.638
scoreReplicates0.6940.0040.698
scores2calls0.7730.0080.781
setSettings0.0010.0080.008
spatialNormalization1.1760.0241.200
summarizeChannels1.3050.0241.329
summarizeReplicates0.6290.0040.633
templateDescriptionFile0.0020.0000.001
updateCellHTS0.0660.0000.065
write.tabdel0.0490.0000.048
writeReport0.0090.0000.010
writeTab0.0150.0000.015