Back to Multiple platform build/check report for BioC 3.15
ABCDE[F]GHIJKLMNOPQRSTUVWXYZ

This page was generated on 2022-01-18 11:05:41 -0500 (Tue, 18 Jan 2022).

HostnameOSArch (*)R versionInstalled pkgs
nebbiolo1Linux (Ubuntu 20.04.4 LTS)x86_64R Under development (unstable) (2022-01-05 r81451) -- "Unsuffered Consequences" 4161
riesling1Windows Server 2019 Standardx64R Under development (unstable) (2021-11-21 r81221) -- "Unsuffered Consequences" 4056
palomino3Windows Server 2022 Datacenterx64R Under development (unstable) (2021-12-21 r81400 ucrt) -- "Unsuffered Consequences" 3998
merida1macOS 10.14.6 Mojavex86_64R Under development (unstable) (2022-01-05 r81451) -- "Unsuffered Consequences" 4115
Click on any hostname to see more info about the system (e.g. compilers)      (*) as reported by 'uname -p', except on Windows and Mac OS X

CHECK results for FRASER on nebbiolo1


To the developers/maintainers of the FRASER package:
- Please allow up to 24 hours (and sometimes 48 hours) for your latest push to git@git.bioconductor.org:packages/FRASER.git to
reflect on this report. See How and When does the builder pull? When will my changes propagate? here for more information.
- Make sure to use the following settings in order to reproduce any error or warning you see on this page.

raw results

Package 680/2074HostnameOS / ArchINSTALLBUILDCHECKBUILD BIN
FRASER 1.7.0  (landing page)
Christian Mertes
Snapshot Date: 2022-01-17 13:55:17 -0500 (Mon, 17 Jan 2022)
git_url: https://git.bioconductor.org/packages/FRASER
git_branch: master
git_last_commit: e6fb5aa
git_last_commit_date: 2021-10-26 12:59:14 -0500 (Tue, 26 Oct 2021)
nebbiolo1Linux (Ubuntu 20.04.4 LTS) / x86_64  OK    OK    OK  UNNEEDED, same version is already published
riesling1Windows Server 2019 Standard / x64  OK    OK    OK    OK  
palomino3Windows Server 2022 Datacenter / x64  OK    OK    OK    OK  NO, package depends on 'BiocParallel' which is not available
merida1macOS 10.14.6 Mojave / x86_64  OK    OK    OK    OK  UNNEEDED, same version is already published

Summary

Package: FRASER
Version: 1.7.0
Command: /home/biocbuild/bbs-3.15-bioc/R/bin/R CMD check --install=check:FRASER.install-out.txt --library=/home/biocbuild/bbs-3.15-bioc/R/library --no-vignettes --timings FRASER_1.7.0.tar.gz
StartedAt: 2022-01-17 19:13:01 -0500 (Mon, 17 Jan 2022)
EndedAt: 2022-01-17 19:22:09 -0500 (Mon, 17 Jan 2022)
EllapsedTime: 547.4 seconds
RetCode: 0
Status:   OK  
CheckDir: FRASER.Rcheck
Warnings: 0

Command output

##############################################################################
##############################################################################
###
### Running command:
###
###   /home/biocbuild/bbs-3.15-bioc/R/bin/R CMD check --install=check:FRASER.install-out.txt --library=/home/biocbuild/bbs-3.15-bioc/R/library --no-vignettes --timings FRASER_1.7.0.tar.gz
###
##############################################################################
##############################################################################


* using log directory ‘/home/biocbuild/bbs-3.15-bioc/meat/FRASER.Rcheck’
* using R Under development (unstable) (2022-01-05 r81451)
* using platform: x86_64-pc-linux-gnu (64-bit)
* using session charset: UTF-8
* using option ‘--no-vignettes’
* checking for file ‘FRASER/DESCRIPTION’ ... OK
* checking extension type ... Package
* this is package ‘FRASER’ version ‘1.7.0’
* package encoding: UTF-8
* checking package namespace information ... OK
* checking package dependencies ... OK
* checking if this is a source package ... OK
* checking if there is a namespace ... OK
* checking for hidden files and directories ... OK
* checking for portable file names ... OK
* checking for sufficient/correct file permissions ... OK
* checking whether package ‘FRASER’ can be installed ... OK
* checking installed package size ... OK
* checking package directory ... OK
* checking ‘build’ directory ... OK
* checking DESCRIPTION meta-information ... OK
* checking top-level files ... OK
* checking for left-over files ... OK
* checking index information ... OK
* checking package subdirectories ... OK
* checking R files for non-ASCII characters ... OK
* checking R files for syntax errors ... OK
* checking whether the package can be loaded ... OK
* checking whether the package can be loaded with stated dependencies ... OK
* checking whether the package can be unloaded cleanly ... OK
* checking whether the namespace can be loaded with stated dependencies ... OK
* checking whether the namespace can be unloaded cleanly ... OK
* checking dependencies in R code ... NOTE
Unexported object imported by a ':::' call: ‘S4Vectors:::selectSome’
  See the note in ?`:::` about the use of this operator.
* checking S3 generic/method consistency ... OK
* checking replacement functions ... OK
* checking foreign function calls ... OK
* checking R code for possible problems ... OK
* checking Rd files ... OK
* checking Rd metadata ... OK
* checking Rd cross-references ... OK
* checking for missing documentation entries ... OK
* checking for code/documentation mismatches ... OK
* checking Rd \usage sections ... OK
* checking Rd contents ... OK
* checking for unstated dependencies in examples ... OK
* checking line endings in C/C++/Fortran sources/headers ... OK
* checking line endings in Makefiles ... OK
* checking compilation flags in Makevars ... OK
* checking for GNU extensions in Makefiles ... OK
* checking for portable use of $(BLAS_LIBS) and $(LAPACK_LIBS) ... OK
* checking use of PKG_*FLAGS in Makefiles ... OK
* checking compiled code ... NOTE
Note: information on .o files is not available
* checking files in ‘vignettes’ ... OK
* checking examples ... OK
Examples with CPU (user + system) or elapsed time > 5s
                   user system elapsed
plotFunctions    37.356  0.512  37.873
FRASER           36.608  0.369  37.029
counts           22.883  0.904  23.814
optimHyperParams  8.561  0.260   8.822
injectOutliers    7.264  0.248   7.511
annotateRanges    6.463  0.220  13.381
* checking for unstated dependencies in ‘tests’ ... OK
* checking tests ...
  Running ‘testthat.R’
 OK
* checking for unstated dependencies in vignettes ... OK
* checking package vignettes in ‘inst/doc’ ... OK
* checking running R code from vignettes ... SKIPPED
* checking re-building of vignette outputs ... SKIPPED
* checking PDF version of manual ... OK
* DONE

Status: 2 NOTEs
See
  ‘/home/biocbuild/bbs-3.15-bioc/meat/FRASER.Rcheck/00check.log’
for details.



Installation output

FRASER.Rcheck/00install.out

##############################################################################
##############################################################################
###
### Running command:
###
###   /home/biocbuild/bbs-3.15-bioc/R/bin/R CMD INSTALL FRASER
###
##############################################################################
##############################################################################


* installing to library ‘/home/biocbuild/bbs-3.15-bioc/R/library’
* installing *source* package ‘FRASER’ ...
** using staged installation
** libs
g++ -std=gnu++11 -I"/home/biocbuild/bbs-3.15-bioc/R/include" -DNDEBUG  -I'/home/biocbuild/bbs-3.15-bioc/R/library/Rcpp/include' -I'/home/biocbuild/bbs-3.15-bioc/R/library/RcppArmadillo/include' -I/usr/local/include  -fopenmp -DARMA_DONT_USE_OPENMP -fpic  -g -O2  -Wall -c RcppExports.cpp -o RcppExports.o
g++ -std=gnu++11 -I"/home/biocbuild/bbs-3.15-bioc/R/include" -DNDEBUG  -I'/home/biocbuild/bbs-3.15-bioc/R/library/Rcpp/include' -I'/home/biocbuild/bbs-3.15-bioc/R/library/RcppArmadillo/include' -I/usr/local/include  -fopenmp -DARMA_DONT_USE_OPENMP -fpic  -g -O2  -Wall -c loss_n_gradient_functions.cpp -o loss_n_gradient_functions.o
g++ -std=gnu++11 -shared -L/home/biocbuild/bbs-3.15-bioc/R/lib -L/usr/local/lib -o FRASER.so RcppExports.o loss_n_gradient_functions.o -fopenmp -L/home/biocbuild/bbs-3.15-bioc/R/lib -lRlapack -L/home/biocbuild/bbs-3.15-bioc/R/lib -lRblas -lgfortran -lm -lquadmath -L/home/biocbuild/bbs-3.15-bioc/R/lib -lR
installing to /home/biocbuild/bbs-3.15-bioc/R/library/00LOCK-FRASER/00new/FRASER/libs
** R
** inst
** byte-compile and prepare package for lazy loading
** help
*** installing help indices
** building package indices
** installing vignettes
** testing if installed package can be loaded from temporary location
** checking absolute paths in shared objects and dynamic libraries
** testing if installed package can be loaded from final location
** testing if installed package keeps a record of temporary installation path
* DONE (FRASER)

Tests output

FRASER.Rcheck/tests/testthat.Rout


R Under development (unstable) (2022-01-05 r81451) -- "Unsuffered Consequences"
Copyright (C) 2022 The R Foundation for Statistical Computing
Platform: x86_64-pc-linux-gnu (64-bit)

R is free software and comes with ABSOLUTELY NO WARRANTY.
You are welcome to redistribute it under certain conditions.
Type 'license()' or 'licence()' for distribution details.

R is a collaborative project with many contributors.
Type 'contributors()' for more information and
'citation()' on how to cite R or R packages in publications.

Type 'demo()' for some demos, 'help()' for on-line help, or
'help.start()' for an HTML browser interface to help.
Type 'q()' to quit R.

> library(testthat)
> library(FRASER)
Loading required package: BiocParallel
Loading required package: data.table
Loading required package: Rsamtools
Loading required package: GenomeInfoDb
Loading required package: BiocGenerics

Attaching package: 'BiocGenerics'

The following objects are masked from 'package:stats':

    IQR, mad, sd, var, xtabs

The following objects are masked from 'package:base':

    Filter, Find, Map, Position, Reduce, anyDuplicated, append,
    as.data.frame, basename, cbind, colnames, dirname, do.call,
    duplicated, eval, evalq, get, grep, grepl, intersect, is.unsorted,
    lapply, mapply, match, mget, order, paste, pmax, pmax.int, pmin,
    pmin.int, rank, rbind, rownames, sapply, setdiff, sort, table,
    tapply, union, unique, unsplit, which.max, which.min

Loading required package: S4Vectors
Loading required package: stats4

Attaching package: 'S4Vectors'

The following objects are masked from 'package:data.table':

    first, second

The following objects are masked from 'package:base':

    I, expand.grid, unname

Loading required package: IRanges

Attaching package: 'IRanges'

The following object is masked from 'package:data.table':

    shift

Loading required package: GenomicRanges
Loading required package: Biostrings
Loading required package: XVector

Attaching package: 'Biostrings'

The following object is masked from 'package:base':

    strsplit

Loading required package: SummarizedExperiment
Loading required package: MatrixGenerics
Loading required package: matrixStats

Attaching package: 'MatrixGenerics'

The following objects are masked from 'package:matrixStats':

    colAlls, colAnyNAs, colAnys, colAvgsPerRowSet, colCollapse,
    colCounts, colCummaxs, colCummins, colCumprods, colCumsums,
    colDiffs, colIQRDiffs, colIQRs, colLogSumExps, colMadDiffs,
    colMads, colMaxs, colMeans2, colMedians, colMins, colOrderStats,
    colProds, colQuantiles, colRanges, colRanks, colSdDiffs, colSds,
    colSums2, colTabulates, colVarDiffs, colVars, colWeightedMads,
    colWeightedMeans, colWeightedMedians, colWeightedSds,
    colWeightedVars, rowAlls, rowAnyNAs, rowAnys, rowAvgsPerColSet,
    rowCollapse, rowCounts, rowCummaxs, rowCummins, rowCumprods,
    rowCumsums, rowDiffs, rowIQRDiffs, rowIQRs, rowLogSumExps,
    rowMadDiffs, rowMads, rowMaxs, rowMeans2, rowMedians, rowMins,
    rowOrderStats, rowProds, rowQuantiles, rowRanges, rowRanks,
    rowSdDiffs, rowSds, rowSums2, rowTabulates, rowVarDiffs, rowVars,
    rowWeightedMads, rowWeightedMeans, rowWeightedMedians,
    rowWeightedSds, rowWeightedVars

Loading required package: Biobase
Welcome to Bioconductor

    Vignettes contain introductory material; view with
    'browseVignettes()'. To cite Bioconductor, see
    'citation("Biobase")', and for packages 'citation("pkgname")'.


Attaching package: 'Biobase'

The following object is masked from 'package:MatrixGenerics':

    rowMedians

The following objects are masked from 'package:matrixStats':

    anyMissing, rowMedians


Attaching package: 'FRASER'

The following object is masked from 'package:Biobase':

    samples

The following object is masked from 'package:GenomeInfoDb':

    mapSeqlevels

> 
> # to speed up the testing on windows do it in serial mode
> if(.Platform$OS.type != "unix") {
+     register(SerialParam())
+ }
> 
> test_check("FRASER")
[ FAIL 0 | WARN 0 | SKIP 0 | PASS 55 ]
> 
> proc.time()
   user  system elapsed 
114.894  25.375 113.719 

Example timings

FRASER.Rcheck/FRASER-Ex.timings

nameusersystemelapsed
FRASER36.608 0.36937.029
FraserDataSet0.2690.0160.285
annotateRanges 6.463 0.22013.381
calculatePSIValues1.2130.0561.268
countRNA0.4750.0440.518
counts22.883 0.90423.814
createTestFraserDataSet0.2910.0040.295
fds-methods0.7850.0480.833
filtering1.4670.0441.512
getter_setter_functions0.2100.0080.218
injectOutliers7.2640.2487.511
loadFraserDataSet0.2600.0040.265
makeSimulatedFraserDataSet2.8840.0882.972
mergeExternalData3.4030.0523.457
optimHyperParams8.5610.2608.822
plotFunctions37.356 0.51237.873
psiTypes0.0000.0000.001
results4.0720.0424.094
subset0.5570.0120.569