Back to Multiple platform build/check report for BioC 3.17: simplified long |
|
This page was generated on 2023-02-04 11:05:06 -0500 (Sat, 04 Feb 2023).
Hostname | OS | Arch (*) | R version | Installed pkgs |
---|---|---|---|---|
nebbiolo1 | Linux (Ubuntu 22.04.1 LTS) | x86_64 | R Under development (unstable) (2023-01-10 r83596) -- "Unsuffered Consequences" | 4483 |
palomino3 | Windows Server 2022 Datacenter | x64 | R Under development (unstable) (2023-01-10 r83596 ucrt) -- "Unsuffered Consequences" | 4249 |
merida1 | macOS 10.14.6 Mojave | x86_64 | R Under development (unstable) (2023-01-10 r83596) -- "Unsuffered Consequences" | 4272 |
Click on any hostname to see more info about the system (e.g. compilers) (*) as reported by 'uname -p', except on Windows and Mac OS X |
To the developers/maintainers of the ProteoDisco package: - Please allow up to 24 hours (and sometimes 48 hours) for your latest push to git@git.bioconductor.org:packages/ProteoDisco.git to reflect on this report. See How and When does the builder pull? When will my changes propagate? for more information. - Make sure to use the following settings in order to reproduce any error or warning you see on this page. |
Package 1529/2164 | Hostname | OS / Arch | INSTALL | BUILD | CHECK | BUILD BIN | ||||||||
ProteoDisco 1.5.0 (landing page) Job van Riet
| nebbiolo1 | Linux (Ubuntu 22.04.1 LTS) / x86_64 | OK | OK | WARNINGS | ![]() | ||||||||
palomino3 | Windows Server 2022 Datacenter / x64 | OK | OK | WARNINGS | NA | |||||||||
merida1 | macOS 10.14.6 Mojave / x86_64 | OK | OK | WARNINGS | OK | ![]() | ||||||||
Package: ProteoDisco |
Version: 1.5.0 |
Command: /home/biocbuild/bbs-3.17-bioc/R/bin/R CMD INSTALL ProteoDisco |
StartedAt: 2023-02-03 15:27:23 -0500 (Fri, 03 Feb 2023) |
EndedAt: 2023-02-03 15:28:18 -0500 (Fri, 03 Feb 2023) |
EllapsedTime: 54.6 seconds |
RetCode: 0 |
Status: OK |
############################################################################## ############################################################################## ### ### Running command: ### ### /home/biocbuild/bbs-3.17-bioc/R/bin/R CMD INSTALL ProteoDisco ### ############################################################################## ############################################################################## * installing to library ‘/home/biocbuild/bbs-3.17-bioc/R/library’ * installing *source* package ‘ProteoDisco’ ... ** using staged installation ** R ** data ** inst ** byte-compile and prepare package for lazy loading Warning: replacing previous import ‘dplyr::rename’ by ‘plyr::rename’ when loading ‘ProteoDisco’ Warning: replacing previous import ‘dplyr::count’ by ‘plyr::count’ when loading ‘ProteoDisco’ Warning: replacing previous import ‘dplyr::failwith’ by ‘plyr::failwith’ when loading ‘ProteoDisco’ Warning: replacing previous import ‘dplyr::id’ by ‘plyr::id’ when loading ‘ProteoDisco’ Warning: replacing previous import ‘dplyr::summarize’ by ‘plyr::summarize’ when loading ‘ProteoDisco’ Warning: replacing previous import ‘dplyr::summarise’ by ‘plyr::summarise’ when loading ‘ProteoDisco’ Warning: replacing previous import ‘dplyr::mutate’ by ‘plyr::mutate’ when loading ‘ProteoDisco’ Warning: replacing previous import ‘dplyr::desc’ by ‘plyr::desc’ when loading ‘ProteoDisco’ Warning: replacing previous import ‘dplyr::arrange’ by ‘plyr::arrange’ when loading ‘ProteoDisco’ ** help *** installing help indices ** building package indices ** installing vignettes ** testing if installed package can be loaded from temporary location Warning: replacing previous import ‘dplyr::rename’ by ‘plyr::rename’ when loading ‘ProteoDisco’ Warning: replacing previous import ‘dplyr::count’ by ‘plyr::count’ when loading ‘ProteoDisco’ Warning: replacing previous import ‘dplyr::failwith’ by ‘plyr::failwith’ when loading ‘ProteoDisco’ Warning: replacing previous import ‘dplyr::id’ by ‘plyr::id’ when loading ‘ProteoDisco’ Warning: replacing previous import ‘dplyr::summarize’ by ‘plyr::summarize’ when loading ‘ProteoDisco’ Warning: replacing previous import ‘dplyr::summarise’ by ‘plyr::summarise’ when loading ‘ProteoDisco’ Warning: replacing previous import ‘dplyr::mutate’ by ‘plyr::mutate’ when loading ‘ProteoDisco’ Warning: replacing previous import ‘dplyr::desc’ by ‘plyr::desc’ when loading ‘ProteoDisco’ Warning: replacing previous import ‘dplyr::arrange’ by ‘plyr::arrange’ when loading ‘ProteoDisco’ ** testing if installed package can be loaded from final location Warning: replacing previous import ‘dplyr::rename’ by ‘plyr::rename’ when loading ‘ProteoDisco’ Warning: replacing previous import ‘dplyr::count’ by ‘plyr::count’ when loading ‘ProteoDisco’ Warning: replacing previous import ‘dplyr::failwith’ by ‘plyr::failwith’ when loading ‘ProteoDisco’ Warning: replacing previous import ‘dplyr::id’ by ‘plyr::id’ when loading ‘ProteoDisco’ Warning: replacing previous import ‘dplyr::summarize’ by ‘plyr::summarize’ when loading ‘ProteoDisco’ Warning: replacing previous import ‘dplyr::summarise’ by ‘plyr::summarise’ when loading ‘ProteoDisco’ Warning: replacing previous import ‘dplyr::mutate’ by ‘plyr::mutate’ when loading ‘ProteoDisco’ Warning: replacing previous import ‘dplyr::desc’ by ‘plyr::desc’ when loading ‘ProteoDisco’ Warning: replacing previous import ‘dplyr::arrange’ by ‘plyr::arrange’ when loading ‘ProteoDisco’ ** testing if installed package keeps a record of temporary installation path * DONE (ProteoDisco)