Back to Multiple platform build/check report for BioC 3.19:   simplified   long
ABCDEFGHIJKLMNOPQ[R]STUVWXYZ

This page was generated on 2024-02-28 11:40:35 -0500 (Wed, 28 Feb 2024).

HostnameOSArch (*)R versionInstalled pkgs
nebbiolo1Linux (Ubuntu 22.04.3 LTS)x86_64R Under development (unstable) (2024-01-16 r85808) -- "Unsuffered Consequences" 4671
palomino3Windows Server 2022 Datacenterx64R Under development (unstable) (2024-01-14 r85805 ucrt) -- "Unsuffered Consequences" 4411
merida1macOS 12.7.1 Montereyx86_64R Under development (unstable) (2024-01-16 r85808) -- "Unsuffered Consequences" 4438
kunpeng2Linux (openEuler 22.03 LTS-SP1)aarch64R Under development (unstable) (2024-01-16 r85812) -- "Unsuffered Consequences" 4414
Click on any hostname to see more info about the system (e.g. compilers)      (*) as reported by 'uname -p', except on Windows and Mac OS X

Package 1704/2251HostnameOS / ArchINSTALLBUILDCHECKBUILD BIN
ReportingTools 2.43.2  (landing page)
Jason A. Hackney , Gabriel Becker
Snapshot Date: 2024-02-26 14:39:26 -0500 (Mon, 26 Feb 2024)
git_url: https://git.bioconductor.org/packages/ReportingTools
git_branch: devel
git_last_commit: 5fe59ce
git_last_commit_date: 2023-12-07 14:56:27 -0500 (Thu, 07 Dec 2023)
nebbiolo1Linux (Ubuntu 22.04.3 LTS) / x86_64  OK    OK    OK  UNNEEDED, same version is already published
palomino3Windows Server 2022 Datacenter / x64  OK    OK    OK    OK  UNNEEDED, same version is already published
merida1macOS 12.7.1 Monterey / x86_64  OK    OK    OK    OK  UNNEEDED, same version is already published
kunpeng2Linux (openEuler 22.03 LTS-SP1) / aarch64  OK    OK    OK  

CHECK results for ReportingTools on kunpeng2


To the developers/maintainers of the ReportingTools package:
- Allow up to 24 hours (and sometimes 48 hours) for your latest push to git@git.bioconductor.org:packages/ReportingTools.git to reflect on this report. See Troubleshooting Build Report for more information.
- Use the following Renviron settings to reproduce errors and warnings.
- If 'R CMD check' started to fail recently on the Linux builder(s) over a missing dependency, add the missing dependency to 'Suggests:' in your DESCRIPTION file. See Renviron.bioc for more information.
- See Martin Grigorov's blog post for how to debug Linux ARM64 related issues on a x86_64 host.

raw results


Summary

Package: ReportingTools
Version: 2.43.2
Command: /home/biocbuild/R/R-devel_2024-01-16_r85812/bin/R CMD check --install=check:ReportingTools.install-out.txt --library=/home/biocbuild/R/R-devel_2024-01-16_r85812/site-library --no-vignettes --timings ReportingTools_2.43.2.tar.gz
StartedAt: 2024-02-27 09:35:49 -0000 (Tue, 27 Feb 2024)
EndedAt: 2024-02-27 09:49:28 -0000 (Tue, 27 Feb 2024)
EllapsedTime: 819.5 seconds
RetCode: 0
Status:   OK  
CheckDir: ReportingTools.Rcheck
Warnings: 0

Command output

##############################################################################
##############################################################################
###
### Running command:
###
###   /home/biocbuild/R/R-devel_2024-01-16_r85812/bin/R CMD check --install=check:ReportingTools.install-out.txt --library=/home/biocbuild/R/R-devel_2024-01-16_r85812/site-library --no-vignettes --timings ReportingTools_2.43.2.tar.gz
###
##############################################################################
##############################################################################


* using log directory ‘/home/biocbuild/bbs-3.19-bioc/meat/ReportingTools.Rcheck’
* using R Under development (unstable) (2024-01-16 r85812)
* using platform: aarch64-unknown-linux-gnu
* R was compiled by
    gcc (GCC) 10.3.1
    GNU Fortran (GCC) 10.3.1
* running under: openEuler 22.03 (LTS-SP1)
* using session charset: UTF-8
* using option ‘--no-vignettes’
* checking for file ‘ReportingTools/DESCRIPTION’ ... OK
* checking extension type ... Package
* this is package ‘ReportingTools’ version ‘2.43.2’
* checking package namespace information ... OK
* checking package dependencies ... OK
* checking if this is a source package ... OK
* checking if there is a namespace ... OK
* checking for hidden files and directories ... OK
* checking for portable file names ... OK
* checking for sufficient/correct file permissions ... OK
* checking whether package ‘ReportingTools’ can be installed ... OK
* checking installed package size ... OK
* checking package directory ... OK
* checking ‘build’ directory ... OK
* checking DESCRIPTION meta-information ... OK
* checking top-level files ... OK
* checking for left-over files ... OK
* checking index information ... OK
* checking package subdirectories ... OK
* checking R files for non-ASCII characters ... OK
* checking R files for syntax errors ... OK
* checking whether the package can be loaded ... OK
* checking whether the package can be loaded with stated dependencies ... OK
* checking whether the package can be unloaded cleanly ... OK
* checking whether the namespace can be loaded with stated dependencies ... OK
* checking whether the namespace can be unloaded cleanly ... OK
* checking loading without being on the library search path ... OK
* checking dependencies in R code ... OK
* checking S3 generic/method consistency ... OK
* checking replacement functions ... OK
* checking foreign function calls ... OK
* checking R code for possible problems ... NOTE
.GeneSetCollection.to.data.frame: no visible binding for global
  variable 'description'
.GeneSetCollection.to.html: no visible binding for global variable
  'description'
.GeneSetCollection.to.html2: no visible binding for global variable
  'description'
.PFAMhyperG.to.html: no visible binding for global variable 'keytype'
.PFAMhyperG.to.html: no visible binding for global variable 'columns'
.make.gene.plots: no visible global function definition for 'exprs'
.marrayLM.to.data.frame: no visible global function definition for
  'featureNames'
.marrayLM.to.data.frame: no visible global function definition for
  'fData'
.marrayLM.to.html: no visible global function definition for
  'featureNames'
.marrayLM.to.html: no visible global function definition for 'fData'
check.ids: no visible binding for global variable 'org.Hs.eg.db'
check.ids: no visible global function definition for 'keys'
custHeaderPanel : <anonymous>: no visible binding for global variable
  'tags'
custHeaderPanel : <anonymous>: no visible global function definition
  for 'HTML'
custHeaderPanel: no visible global function definition for 'tagList'
custHeaderPanel: no visible global function definition for 'tag'
custHeaderPanel: no visible global function definition for 'div'
custHeaderPanel: no visible global function definition for 'h1'
publish,trellis-HTMLReport: no visible binding for global variable
  'htmlRep'
toReportDF,DESeqDataSet: no visible global function definition for
  'mcols'
Undefined global functions or variables:
  HTML columns description div exprs fData featureNames h1 htmlRep keys
  keytype mcols org.Hs.eg.db tag tagList tags
* checking Rd files ... OK
* checking Rd metadata ... OK
* checking Rd cross-references ... OK
* checking for missing documentation entries ... OK
* checking for code/documentation mismatches ... OK
* checking Rd \usage sections ... OK
* checking Rd contents ... OK
* checking for unstated dependencies in examples ... OK
* checking contents of ‘data’ directory ... OK
* checking data for non-ASCII characters ... OK
* checking data for ASCII and uncompressed saves ... OK
* checking files in ‘vignettes’ ... OK
* checking examples ... OK
* checking for unstated dependencies in ‘tests’ ... OK
* checking tests ...
  Running ‘runTests.R’
 OK
* checking for unstated dependencies in vignettes ... OK
* checking package vignettes ... OK
* checking running R code from vignettes ... SKIPPED
* checking re-building of vignette outputs ... SKIPPED
* checking PDF version of manual ... OK
* DONE

Status: 1 NOTE
See
  ‘/home/biocbuild/bbs-3.19-bioc/meat/ReportingTools.Rcheck/00check.log’
for details.



Installation output

ReportingTools.Rcheck/00install.out

##############################################################################
##############################################################################
###
### Running command:
###
###   /home/biocbuild/R/R-devel_2024-01-16_r85812/bin/R CMD INSTALL ReportingTools
###
##############################################################################
##############################################################################


* installing to library ‘/home/biocbuild/R/R-devel_2024-01-16_r85812/site-library’
* installing *source* package ‘ReportingTools’ ...
** using staged installation
** R
** data
** inst
** byte-compile and prepare package for lazy loading
in method for 'objectToHTML' with signature 'object="ggbio"': no definition for class "ggbio"
** help
*** installing help indices
** building package indices
** installing vignettes
** testing if installed package can be loaded from temporary location
** testing if installed package can be loaded from final location
** testing if installed package keeps a record of temporary installation path
* DONE (ReportingTools)

Tests output

ReportingTools.Rcheck/tests/runTests.Rout


R Under development (unstable) (2024-01-16 r85812) -- "Unsuffered Consequences"
Copyright (C) 2024 The R Foundation for Statistical Computing
Platform: aarch64-unknown-linux-gnu

R is free software and comes with ABSOLUTELY NO WARRANTY.
You are welcome to redistribute it under certain conditions.
Type 'license()' or 'licence()' for distribution details.

R is a collaborative project with many contributors.
Type 'contributors()' for more information and
'citation()' on how to cite R or R packages in publications.

Type 'demo()' for some demos, 'help()' for on-line help, or
'help.start()' for an HTML browser interface to help.
Type 'q()' to quit R.

> require("ReportingTools") || stop("unable to load ReportingTools")
Loading required package: ReportingTools
Loading required package: knitr


[1] TRUE
> BiocGenerics:::testPackage("ReportingTools")
Loading required package: Biobase
Loading required package: BiocGenerics

Attaching package: 'BiocGenerics'

The following objects are masked from 'package:stats':

    IQR, mad, sd, var, xtabs

The following objects are masked from 'package:base':

    Filter, Find, Map, Position, Reduce, anyDuplicated, aperm, append,
    as.data.frame, basename, cbind, colnames, dirname, do.call,
    duplicated, eval, evalq, get, grep, grepl, intersect, is.unsorted,
    lapply, mapply, match, mget, order, paste, pmax, pmax.int, pmin,
    pmin.int, rank, rbind, rownames, sapply, setdiff, table, tapply,
    union, unique, unsplit, which.max, which.min

Welcome to Bioconductor

    Vignettes contain introductory material; view with
    'browseVignettes()'. To cite Bioconductor, see
    'citation("Biobase")', and for packages 'citation("pkgname")'.


Attaching package: 'limma'

The following object is masked from 'package:BiocGenerics':

    plotMA

Loading required package: AnnotationDbi
Loading required package: stats4
Loading required package: IRanges
Loading required package: S4Vectors

Attaching package: 'S4Vectors'

The following object is masked from 'package:utils':

    findMatches

The following objects are masked from 'package:base':

    I, expand.grid, unname

Loading required package: org.Hs.eg.db


Loading required package: GenomicRanges
Loading required package: GenomeInfoDb
Loading required package: SummarizedExperiment
Loading required package: MatrixGenerics
Loading required package: matrixStats

Attaching package: 'matrixStats'

The following objects are masked from 'package:Biobase':

    anyMissing, rowMedians


Attaching package: 'MatrixGenerics'

The following objects are masked from 'package:matrixStats':

    colAlls, colAnyNAs, colAnys, colAvgsPerRowSet, colCollapse,
    colCounts, colCummaxs, colCummins, colCumprods, colCumsums,
    colDiffs, colIQRDiffs, colIQRs, colLogSumExps, colMadDiffs,
    colMads, colMaxs, colMeans2, colMedians, colMins, colOrderStats,
    colProds, colQuantiles, colRanges, colRanks, colSdDiffs, colSds,
    colSums2, colTabulates, colVarDiffs, colVars, colWeightedMads,
    colWeightedMeans, colWeightedMedians, colWeightedSds,
    colWeightedVars, rowAlls, rowAnyNAs, rowAnys, rowAvgsPerColSet,
    rowCollapse, rowCounts, rowCummaxs, rowCummins, rowCumprods,
    rowCumsums, rowDiffs, rowIQRDiffs, rowIQRs, rowLogSumExps,
    rowMadDiffs, rowMads, rowMaxs, rowMeans2, rowMedians, rowMins,
    rowOrderStats, rowProds, rowQuantiles, rowRanges, rowRanks,
    rowSdDiffs, rowSds, rowSums2, rowTabulates, rowVarDiffs, rowVars,
    rowWeightedMads, rowWeightedMeans, rowWeightedMedians,
    rowWeightedSds, rowWeightedVars

The following object is masked from 'package:Biobase':

    rowMedians

Loading required package: DEXSeq
Loading required package: BiocParallel
Loading required package: RColorBrewer
estimating size factors
estimating dispersions
gene-wise dispersion estimates
mean-dispersion relationship
final dispersion estimates
fitting model and testing
estimating size factors
estimating dispersions
gene-wise dispersion estimates
mean-dispersion relationship
final dispersion estimates
fitting model and testing
Loading required package: annotate
Loading required package: XML
Loading required package: graph

Attaching package: 'graph'

The following object is masked from 'package:XML':

    addNode

Loading required package: Category
Loading required package: Matrix

Attaching package: 'Matrix'

The following object is masked from 'package:S4Vectors':

    expand


Attaching package: 'GOstats'

The following object is masked from 'package:AnnotationDbi':

    makeGOGraph


'select()' returned 1:many mapping between keys and columns
'select()' returned 1:many mapping between keys and columns
'select()' returned 1:many mapping between keys and columns

<script language="JavaScript" src="jslib/jquery-1.8.0.min.js"></script>
<script language="JavaScript" src="jslib/jquery.dataTables-1.9.3.js"></script>
<script language="JavaScript" src="jslib/jquery.dataTables.columnFilter.js"></script>
<script language="JavaScript" src="jslib/jquery.dataTables.plugins.js"></script>
<script language="JavaScript" src="jslib/jquery.dataTables.reprise.js"></script>
<script language="JavaScript" src="jslib/bootstrap.js"></script>
<link rel="stylesheet" type="text/css" href="csslib/bootstrap.css" />
<link rel="stylesheet" type="text/css" href="csslib/reprise.table.bootstrap.css" />

processing file: testRmd.Rmd
output file: testRmd.knit.md

/home/biocbuild/bin/pandoc +RTS -K512m -RTS testRmd.knit.md --to html4 --from markdown+autolink_bare_uris+tex_math_single_backslash --output /home/biocbuild/bbs-3.19-bioc/meat/ReportingTools.Rcheck/tests/reports/testRmd.html --lua-filter /home/biocbuild/R/R-devel_2024-01-16_r85812/site-library/rmarkdown/rmarkdown/lua/pagebreak.lua --lua-filter /home/biocbuild/R/R-devel_2024-01-16_r85812/site-library/rmarkdown/rmarkdown/lua/latex-div.lua --self-contained --variable bs3=TRUE --section-divs --template /home/biocbuild/R/R-devel_2024-01-16_r85812/site-library/rmarkdown/rmd/h/default.html --no-highlight --variable highlightjs=1 --variable theme=bootstrap --mathjax --variable 'mathjax-url=https://mathjax.rstudio.com/latest/MathJax.js?config=TeX-AMS-MML_HTMLorMML' --include-in-header /home/biocbuild/tmp/RtmprvW8SS/rmarkdown-str19f36778c58f2b.html 
[WARNING] This document format requires a nonempty <title> element.
  Defaulting to 'testRmd.knit' as the title.
  To specify a title, use 'title' in metadata or --metadata title="...".

Output created: testRmd.html
Created file named 'testDataPackage/testPkg/man/my.df2.Rd'.
Edit the file and move it to the appropriate directory.


RUNIT TEST PROTOCOL -- Tue Feb 27 09:49:25 2024 
*********************************************** 
Number of test functions: 45 
Number of errors: 0 
Number of failures: 0 

 
1 Test Suite : 
ReportingTools RUnit Tests - 45 test functions, 0 errors, 0 failures
Number of test functions: 45 
Number of errors: 0 
Number of failures: 0 
Warning messages:
1: In DESeqDataSet(se, design = design, ignoreRank) :
  some variables in design formula are characters, converting to factors
2: In DESeqDataSet(se, design = design, ignoreRank) :
  some variables in design formula are characters, converting to factors
> 
> proc.time()
   user  system elapsed 
314.106  14.537 329.713 

Example timings

ReportingTools.Rcheck/ReportingTools-Ex.timings

nameusersystemelapsed
BaseReportType-class0.0020.0000.002
CSVFile-class0.0010.0000.001
CSVFile0.0070.0000.007
DataPackage-class0.010.000.01
DataPackage0.0040.0000.004
HTMLReport0.0280.0040.037
HTMLReportRef-class0.0000.0000.001
Link0.0070.0040.011
ReportHandlers-class0.0000.0000.001
finish-methods000
mockRnaSeqData0.020.000.02
publish-methods0.0000.0000.001
reporting.theme0.0290.0000.029
reporting.theme.alternate0.0290.0000.028
validConnection0.0920.0110.180