Back to Multiple platform build/check report for BioC 3.19:   simplified   long
A[B]CDEFGHIJKLMNOPQRSTUVWXYZ

This page was generated on 2024-02-18 02:29:34 -0500 (Sun, 18 Feb 2024).

HostnameOSArch (*)R versionInstalled pkgs
nebbiolo1Linux (Ubuntu 22.04.3 LTS)x86_64R Under development (unstable) (2024-01-16 r85808) -- "Unsuffered Consequences" 4657
palomino3Windows Server 2022 Datacenterx64R Under development (unstable) (2024-01-14 r85805 ucrt) -- "Unsuffered Consequences" 4397
merida1macOS 12.7.1 Montereyx86_64R Under development (unstable) (2024-01-16 r85808) -- "Unsuffered Consequences" 4424
kunpeng2Linux (openEuler 22.03 LTS-SP1)aarch64R Under development (unstable) (2024-01-16 r85812) -- "Unsuffered Consequences" 4400
Click on any hostname to see more info about the system (e.g. compilers)      (*) as reported by 'uname -p', except on Windows and Mac OS X

Package 244/2244HostnameOS / ArchINSTALLBUILDCHECKBUILD BIN
bsseq 1.39.0  (landing page)
Kasper Daniel Hansen
Snapshot Date: 2024-02-16 14:10:20 -0500 (Fri, 16 Feb 2024)
git_url: https://git.bioconductor.org/packages/bsseq
git_branch: devel
git_last_commit: c22c4d2
git_last_commit_date: 2023-10-24 09:50:39 -0500 (Tue, 24 Oct 2023)
nebbiolo1Linux (Ubuntu 22.04.3 LTS) / x86_64  OK    OK    OK  UNNEEDED, same version is already published
palomino3Windows Server 2022 Datacenter / x64  OK    OK    OK    OK  UNNEEDED, same version is already published
merida1macOS 12.7.1 Monterey / x86_64  OK    OK    OK    OK  UNNEEDED, same version is already published
kunpeng2Linux (openEuler 22.03 LTS-SP1) / aarch64  OK    OK    OK  

INSTALL results for bsseq on kunpeng2


To the developers/maintainers of the bsseq package:
- Allow up to 24 hours (and sometimes 48 hours) for your latest push to git@git.bioconductor.org:packages/bsseq.git to reflect on this report. See Troubleshooting Build Report for more information.
- Use the following Renviron settings to reproduce errors and warnings.
- If 'R CMD check' started to fail recently on the Linux builder(s) over a missing dependency, add the missing dependency to 'Suggests:' in your DESCRIPTION file. See Renviron.bioc for more information.
- See Martin Grigorov's blog post for how to debug Linux ARM64 related issues on a x86_64 host.

raw results


Summary

Package: bsseq
Version: 1.39.0
Command: /home/biocbuild/R/R-devel_2024-01-16_r85812/bin/R CMD INSTALL bsseq
StartedAt: 2024-02-16 20:16:29 -0000 (Fri, 16 Feb 2024)
EndedAt: 2024-02-16 20:18:18 -0000 (Fri, 16 Feb 2024)
EllapsedTime: 109.0 seconds
RetCode: 0
Status:   OK  

Command output

##############################################################################
##############################################################################
###
### Running command:
###
###   /home/biocbuild/R/R-devel_2024-01-16_r85812/bin/R CMD INSTALL bsseq
###
##############################################################################
##############################################################################


* installing to library ‘/home/biocbuild/R/R-devel_2024-01-16_r85812/site-library’
* installing *source* package ‘bsseq’ ...
** using staged installation
** libs
using C++ compiler: ‘g++ (GCC) 10.3.1’
g++ -std=gnu++17 -I"/home/biocbuild/R/R-devel_2024-01-16_r85812/include" -DNDEBUG  -I'/home/biocbuild/R/R-devel_2024-01-16_r85812/site-library/Rcpp/include' -I'/home/biocbuild/R/R-devel_2024-01-16_r85812/site-library/beachmat/include' -I/usr/local/include    -fPIC  -g -O2  -Wall -c check_M_and_Cov.cpp -o check_M_and_Cov.o
g++ -std=gnu++17 -I"/home/biocbuild/R/R-devel_2024-01-16_r85812/include" -DNDEBUG  -I'/home/biocbuild/R/R-devel_2024-01-16_r85812/site-library/Rcpp/include' -I'/home/biocbuild/R/R-devel_2024-01-16_r85812/site-library/beachmat/include' -I/usr/local/include    -fPIC  -g -O2  -Wall -c init.cpp -o init.o
g++ -std=gnu++17 -I"/home/biocbuild/R/R-devel_2024-01-16_r85812/include" -DNDEBUG  -I'/home/biocbuild/R/R-devel_2024-01-16_r85812/site-library/Rcpp/include' -I'/home/biocbuild/R/R-devel_2024-01-16_r85812/site-library/beachmat/include' -I/usr/local/include    -fPIC  -g -O2  -Wall -c utils.cpp -o utils.o
g++ -std=gnu++17 -shared -L/home/biocbuild/R/R-devel_2024-01-16_r85812/lib -L/usr/local/lib -o bsseq.so check_M_and_Cov.o init.o utils.o -L/home/biocbuild/R/R-devel_2024-01-16_r85812/lib -lR
installing to /home/biocbuild/R/R-devel_2024-01-16_r85812/site-library/00LOCK-bsseq/00new/bsseq/libs
** R
** data
** inst
** byte-compile and prepare package for lazy loading
** help
*** installing help indices
** building package indices
** installing vignettes
** testing if installed package can be loaded from temporary location
** checking absolute paths in shared objects and dynamic libraries
** testing if installed package can be loaded from final location
** testing if installed package keeps a record of temporary installation path
* DONE (bsseq)