Back to Multiple platform build/check report for BioC 3.15
A[B]CDEFGHIJKLMNOPQRSTUVWXYZ

This page was generated on 2022-01-17 11:05:23 -0500 (Mon, 17 Jan 2022).

HostnameOSArch (*)R versionInstalled pkgs
nebbiolo1Linux (Ubuntu 20.04.4 LTS)x86_64R Under development (unstable) (2022-01-05 r81451) -- "Unsuffered Consequences" 4161
riesling1Windows Server 2019 Standardx64R Under development (unstable) (2021-11-21 r81221) -- "Unsuffered Consequences" 4056
palomino3Windows Server 2022 Datacenterx64R Under development (unstable) (2021-12-21 r81400 ucrt) -- "Unsuffered Consequences" 3998
merida1macOS 10.14.6 Mojavex86_64R Under development (unstable) (2022-01-05 r81451) -- "Unsuffered Consequences" 4115
Click on any hostname to see more info about the system (e.g. compilers)      (*) as reported by 'uname -p', except on Windows and Mac OS X

CHECK results for BiSeq on nebbiolo1


To the developers/maintainers of the BiSeq package:
- Please allow up to 24 hours (and sometimes 48 hours) for your latest push to git@git.bioconductor.org:packages/BiSeq.git to
reflect on this report. See How and When does the builder pull? When will my changes propagate? here for more information.
- Make sure to use the following settings in order to reproduce any error or warning you see on this page.

raw results

Package 196/2074HostnameOS / ArchINSTALLBUILDCHECKBUILD BIN
BiSeq 1.35.1  (landing page)
Katja Hebestreit
Snapshot Date: 2022-01-16 13:55:18 -0500 (Sun, 16 Jan 2022)
git_url: https://git.bioconductor.org/packages/BiSeq
git_branch: master
git_last_commit: 5773d7c
git_last_commit_date: 2022-01-14 11:43:32 -0500 (Fri, 14 Jan 2022)
nebbiolo1Linux (Ubuntu 20.04.4 LTS) / x86_64  OK    OK    OK  UNNEEDED, same version is already published
riesling1Windows Server 2019 Standard / x64  OK    OK    OK    OK  
palomino3Windows Server 2022 Datacenter / x64  OK    OK    OK    OK  NO, package depends on 'S4Vectors' which is not available
merida1macOS 10.14.6 Mojave / x86_64  OK    OK    OK    OK  UNNEEDED, same version is already published

Summary

Package: BiSeq
Version: 1.35.1
Command: /home/biocbuild/bbs-3.15-bioc/R/bin/R CMD check --install=check:BiSeq.install-out.txt --library=/home/biocbuild/bbs-3.15-bioc/R/library --no-vignettes --timings BiSeq_1.35.1.tar.gz
StartedAt: 2022-01-16 18:22:40 -0500 (Sun, 16 Jan 2022)
EndedAt: 2022-01-16 18:27:14 -0500 (Sun, 16 Jan 2022)
EllapsedTime: 273.9 seconds
RetCode: 0
Status:   OK  
CheckDir: BiSeq.Rcheck
Warnings: 0

Command output

##############################################################################
##############################################################################
###
### Running command:
###
###   /home/biocbuild/bbs-3.15-bioc/R/bin/R CMD check --install=check:BiSeq.install-out.txt --library=/home/biocbuild/bbs-3.15-bioc/R/library --no-vignettes --timings BiSeq_1.35.1.tar.gz
###
##############################################################################
##############################################################################


* using log directory ‘/home/biocbuild/bbs-3.15-bioc/meat/BiSeq.Rcheck’
* using R Under development (unstable) (2022-01-05 r81451)
* using platform: x86_64-pc-linux-gnu (64-bit)
* using session charset: UTF-8
* using option ‘--no-vignettes’
* checking for file ‘BiSeq/DESCRIPTION’ ... OK
* checking extension type ... Package
* this is package ‘BiSeq’ version ‘1.35.1’
* checking package namespace information ... OK
* checking package dependencies ... OK
* checking if this is a source package ... OK
* checking if there is a namespace ... OK
* checking for hidden files and directories ... OK
* checking for portable file names ... OK
* checking for sufficient/correct file permissions ... OK
* checking whether package ‘BiSeq’ can be installed ... OK
* checking installed package size ... OK
* checking package directory ... OK
* checking ‘build’ directory ... OK
* checking DESCRIPTION meta-information ... NOTE
Packages listed in more than one of Depends, Imports, Suggests, Enhances:
  ‘methods’ ‘S4Vectors’ ‘IRanges’ ‘GenomicRanges’ ‘SummarizedExperiment’ ‘Formula’
A package should be listed in only one of these fields.
* checking top-level files ... OK
* checking for left-over files ... OK
* checking index information ... OK
* checking package subdirectories ... OK
* checking R files for non-ASCII characters ... OK
* checking R files for syntax errors ... OK
* checking whether the package can be loaded ... OK
* checking whether the package can be loaded with stated dependencies ... OK
* checking whether the package can be unloaded cleanly ... OK
* checking whether the namespace can be loaded with stated dependencies ... OK
* checking whether the namespace can be unloaded cleanly ... OK
* checking dependencies in R code ... NOTE
Namespace in Imports field not imported from: ‘Formula’
  All declared Imports should be used.
Package in Depends field not imported from: ‘Formula’
  These packages need to be imported from (in the NAMESPACE file)
  for when this namespace is loaded but not attached.
* checking S3 generic/method consistency ... OK
* checking replacement functions ... OK
* checking foreign function calls ... OK
* checking R code for possible problems ... NOTE
.betaRegression : inv.link: no visible global function definition for
  ‘pnorm’
.betaRegression : beta.regr: no visible global function definition for
  ‘as.formula’
.categorialColors: no visible global function definition for ‘colors’
.estLocCor: no visible global function definition for ‘combn’
.logisticRegression : inv.link: no visible global function definition
  for ‘pnorm’
.logisticRegression : logistic.regr: no visible global function
  definition for ‘lm’
.logisticRegression : logistic.regr: no visible global function
  definition for ‘as.formula’
.makeVariogram: no visible global function definition for ‘qnorm’
.plotBindingSites: no visible global function definition for
  ‘txtProgressBar’
.plotBindingSites: no visible global function definition for
  ‘setTxtProgressBar’
.plotBindingSites : <anonymous>: no visible global function definition
  for ‘ksmooth’
.plotBindingSites: no visible global function definition for ‘rainbow’
.plotBindingSites: no visible global function definition for ‘lines’
.plotBindingSites: no visible global function definition for ‘rgb’
.plotBindingSites: no visible global function definition for ‘col2rgb’
.plotMeth: no visible global function definition for ‘col2rgb’
.plotMeth: no visible global function definition for ‘rgb’
.plotMeth: no visible global function definition for ‘lines’
.plotMeth: no visible global function definition for ‘legend’
.plotMethMap: no visible global function definition for
  ‘colorRampPalette’
.plotMethMap: no visible binding for global variable ‘heatmap’
.plotSmoothMeth: no visible global function definition for ‘rainbow’
.plotSmoothMeth: no visible global function definition for ‘lines’
.predictMeth: no visible global function definition for
  ‘txtProgressBar’
.predictMeth: no visible global function definition for
  ‘setTxtProgressBar’
.testClusters: no visible global function definition for ‘pnorm’
.trimClusters : integrand: no visible global function definition for
  ‘pnorm’
.trimClusters : integrand: no visible global function definition for
  ‘qnorm’
.trimClusters : integrand: no visible global function definition for
  ‘dnorm’
.trimClusters: no visible global function definition for ‘integrate’
.trimClusters: no visible global function definition for ‘pnorm’
.trimClusters: no visible global function definition for ‘qnorm’
.variogram: no visible global function definition for ‘dist’
.variogram: no visible global function definition for ‘txtProgressBar’
.variogram: no visible global function definition for
  ‘setTxtProgressBar’
.writeBED_BSraw: no visible global function definition for ‘colorRamp’
.writeBED_BSraw: no visible global function definition for ‘rgb’
.writeBED_BSrel: no visible global function definition for ‘colorRamp’
.writeBED_BSrel: no visible global function definition for ‘rgb’
betaRegression,formula-character-BSrel-numeric : inv.link: no visible
  global function definition for ‘pnorm’
betaRegression,formula-character-BSrel-numeric : beta.regr: no visible
  global function definition for ‘as.formula’
estLocCor,list: no visible global function definition for ‘combn’
logisticRegression,formula-character-BSrel-numeric : inv.link: no
  visible global function definition for ‘pnorm’
logisticRegression,formula-character-BSrel-numeric : logistic.regr: no
  visible global function definition for ‘lm’
logisticRegression,formula-character-BSrel-numeric : logistic.regr: no
  visible global function definition for ‘as.formula’
makeVariogram,data.frame-logical-numeric-numeric: no visible global
  function definition for ‘qnorm’
plotMethMap,BSrel-GRanges-factor-logical: no visible global function
  definition for ‘colorRampPalette’
plotMethMap,BSrel-GRanges-factor-logical: no visible binding for global
  variable ‘heatmap’
plotMethMap,BSrel-GRanges-factor-missing: no visible global function
  definition for ‘colorRampPalette’
plotMethMap,BSrel-GRanges-factor-missing: no visible binding for global
  variable ‘heatmap’
plotMethMap,BSrel-GRanges-missing-logical: no visible global function
  definition for ‘colorRampPalette’
plotMethMap,BSrel-GRanges-missing-logical: no visible binding for
  global variable ‘heatmap’
plotMethMap,BSrel-GRanges-missing-missing: no visible global function
  definition for ‘colorRampPalette’
plotMethMap,BSrel-GRanges-missing-missing: no visible binding for
  global variable ‘heatmap’
predictMeth,BSraw-numeric-numeric-numeric: no visible global function
  definition for ‘txtProgressBar’
predictMeth,BSraw-numeric-numeric-numeric: no visible global function
  definition for ‘setTxtProgressBar’
testClusters,list-numeric: no visible global function definition for
  ‘pnorm’
trimClusters,list-numeric : integrand: no visible global function
  definition for ‘pnorm’
trimClusters,list-numeric : integrand: no visible global function
  definition for ‘qnorm’
trimClusters,list-numeric : integrand: no visible global function
  definition for ‘dnorm’
trimClusters,list-numeric: no visible global function definition for
  ‘integrate’
trimClusters,list-numeric: no visible global function definition for
  ‘pnorm’
trimClusters,list-numeric: no visible global function definition for
  ‘qnorm’
writeBED,BSraw-character-character: no visible global function
  definition for ‘colorRamp’
writeBED,BSraw-character-character: no visible global function
  definition for ‘rgb’
writeBED,BSrel-character-character: no visible global function
  definition for ‘colorRamp’
writeBED,BSrel-character-character: no visible global function
  definition for ‘rgb’
Undefined global functions or variables:
  as.formula col2rgb colorRamp colorRampPalette colors combn dist dnorm
  heatmap integrate ksmooth legend lines lm pnorm qnorm rainbow rgb
  setTxtProgressBar txtProgressBar
Consider adding
  importFrom("grDevices", "col2rgb", "colorRamp", "colorRampPalette",
             "colors", "rainbow", "rgb")
  importFrom("graphics", "legend", "lines")
  importFrom("stats", "as.formula", "dist", "dnorm", "heatmap",
             "integrate", "ksmooth", "lm", "pnorm", "qnorm")
  importFrom("utils", "combn", "setTxtProgressBar", "txtProgressBar")
to your NAMESPACE file.
* checking Rd files ... OK
* checking Rd metadata ... OK
* checking Rd cross-references ... OK
* checking for missing documentation entries ... OK
* checking for code/documentation mismatches ... OK
* checking Rd \usage sections ... OK
* checking Rd contents ... OK
* checking for unstated dependencies in examples ... OK
* checking contents of ‘data’ directory ... OK
* checking data for non-ASCII characters ... OK
* checking data for ASCII and uncompressed saves ... OK
* checking files in ‘vignettes’ ... OK
* checking examples ... OK
Examples with CPU (user + system) or elapsed time > 5s
                 user system elapsed
betaRegression 17.469  0.503  17.973
globalTest     13.551  0.148  13.699
* checking for unstated dependencies in vignettes ... OK
* checking package vignettes in ‘inst/doc’ ... OK
* checking running R code from vignettes ... SKIPPED
* checking re-building of vignette outputs ... SKIPPED
* checking PDF version of manual ... OK
* DONE

Status: 3 NOTEs
See
  ‘/home/biocbuild/bbs-3.15-bioc/meat/BiSeq.Rcheck/00check.log’
for details.



Installation output

BiSeq.Rcheck/00install.out

##############################################################################
##############################################################################
###
### Running command:
###
###   /home/biocbuild/bbs-3.15-bioc/R/bin/R CMD INSTALL BiSeq
###
##############################################################################
##############################################################################


* installing to library ‘/home/biocbuild/bbs-3.15-bioc/R/library’
* installing *source* package ‘BiSeq’ ...
** using staged installation
** R
** data
** inst
** byte-compile and prepare package for lazy loading
** help
*** installing help indices
** building package indices
** installing vignettes
** testing if installed package can be loaded from temporary location
** testing if installed package can be loaded from final location
** testing if installed package keeps a record of temporary installation path
* DONE (BiSeq)

Tests output


Example timings

BiSeq.Rcheck/BiSeq-Ex.timings

nameusersystemelapsed
BSraw-class0.1680.0520.220
BSrel-class0.1520.0120.163
DMRs0.0290.0000.029
annotateGRanges0.2090.0040.214
betaRegression17.469 0.50317.973
betaResults0.0060.0010.007
betaResultsNull0.0000.0040.004
binomLikelihoodSmooth0.0000.0030.002
clusterSites0.5140.0010.515
clusterSitesToGR0.3940.0080.402
compareTwoSamples2.9420.0312.975
covBoxplots0.0710.0080.078
covStatistics0.0350.0080.044
estLocCor4.7680.1214.887
filterByCov0.0980.0000.098
filterBySharedRegions0.1410.0000.141
findDMRs0.4540.0200.474
globalTest13.551 0.14813.699
limitCov0.4860.0190.506
logisticRegression1.0690.0001.070
makeVariogram3.2130.1473.361
plotBindingSites1.2410.0201.261
plotMeth0.1860.0000.186
plotMethMap0.1760.0040.181
plotSmoothMeth0.1200.0000.121
predictMeth1.0750.0161.091
predictedMeth0.0090.0000.008
promoters0.0430.0000.043
rawToRel0.0620.0000.061
readBismark0.0640.0000.064
rrbs0.0340.0000.033
smoothVariogram0.0470.0030.050
summarizeRegions2.3600.0482.408
testClusters0.0780.0000.078
trimClusters0.2370.0040.240
vario0.0000.0020.003
writeBED0.2110.0020.212