Back to Multiple platform build/check report for BioC 3.15
ABCDEFG[H]IJKLMNOPQRSTUVWXYZ

This page was generated on 2021-11-27 14:04:36 -0500 (Sat, 27 Nov 2021).

CHECK results for hiReadsProcessor on nebbiolo1

To the developers/maintainers of the hiReadsProcessor package:
- Please allow up to 24 hours (and sometimes 48 hours) for your latest push to git@git.bioconductor.org:packages/hiReadsProcessor.git to
reflect on this report. See How and When does the builder pull? When will my changes propagate? here for more information.
- Make sure to use the following settings in order to reproduce any error or warning you see on this page.

raw results

Package 870/2068HostnameOS / ArchINSTALLBUILDCHECKBUILD BIN
hiReadsProcessor 1.31.1  (landing page)
Nirav V Malani
Snapshot Date: 2021-11-26 14:50:14 -0500 (Fri, 26 Nov 2021)
git_url: https://git.bioconductor.org/packages/hiReadsProcessor
git_branch: master
git_last_commit: e98467a
git_last_commit_date: 2021-11-21 00:18:22 -0500 (Sun, 21 Nov 2021)
nebbiolo1Linux (Ubuntu 20.04.3 LTS) / x86_64  OK    OK    OK  UNNEEDED, same version is already published
riesling1Windows Server 2019 Standard / x64... NOT SUPPORTED ...
merida1macOS 10.14.6 Mojave / x86_64  OK    OK    OK    OK  UNNEEDED, same version is already published

Summary

Package: hiReadsProcessor
Version: 1.31.1
Command: /home/biocbuild/bbs-3.15-bioc/R/bin/R CMD check --install=check:hiReadsProcessor.install-out.txt --library=/home/biocbuild/bbs-3.15-bioc/R/library --no-vignettes --timings hiReadsProcessor_1.31.1.tar.gz
StartedAt: 2021-11-26 20:34:36 -0500 (Fri, 26 Nov 2021)
EndedAt: 2021-11-26 20:38:25 -0500 (Fri, 26 Nov 2021)
EllapsedTime: 229.5 seconds
RetCode: 0
Status:   OK  
CheckDir: hiReadsProcessor.Rcheck
Warnings: 0

Command output

##############################################################################
##############################################################################
###
### Running command:
###
###   /home/biocbuild/bbs-3.15-bioc/R/bin/R CMD check --install=check:hiReadsProcessor.install-out.txt --library=/home/biocbuild/bbs-3.15-bioc/R/library --no-vignettes --timings hiReadsProcessor_1.31.1.tar.gz
###
##############################################################################
##############################################################################


* using log directory ‘/home/biocbuild/bbs-3.15-bioc/meat/hiReadsProcessor.Rcheck’
* using R Under development (unstable) (2021-11-10 r81171)
* using platform: x86_64-pc-linux-gnu (64-bit)
* using session charset: UTF-8
* using option ‘--no-vignettes’
* checking for file ‘hiReadsProcessor/DESCRIPTION’ ... OK
* this is package ‘hiReadsProcessor’ version ‘1.31.1’
* checking package namespace information ... OK
* checking package dependencies ... OK
* checking if this is a source package ... OK
* checking if there is a namespace ... OK
* checking for hidden files and directories ... NOTE
Found the following hidden files and directories:
  .BBSoptions
These were most likely included in error. See section ‘Package
structure’ in the ‘Writing R Extensions’ manual.
* checking for portable file names ... OK
* checking for sufficient/correct file permissions ... OK
* checking whether package ‘hiReadsProcessor’ can be installed ... OK
* checking installed package size ... OK
* checking package directory ... OK
* checking ‘build’ directory ... OK
* checking DESCRIPTION meta-information ... OK
* checking top-level files ... OK
* checking for left-over files ... OK
* checking index information ... OK
* checking package subdirectories ... OK
* checking R files for non-ASCII characters ... OK
* checking R files for syntax errors ... OK
* checking whether the package can be loaded ... OK
* checking whether the package can be loaded with stated dependencies ... OK
* checking whether the package can be unloaded cleanly ... OK
* checking whether the namespace can be loaded with stated dependencies ... OK
* checking whether the namespace can be unloaded cleanly ... OK
* checking dependencies in R code ... OK
* checking S3 generic/method consistency ... OK
* checking replacement functions ... OK
* checking foreign function calls ... OK
* checking R code for possible problems ... NOTE
chunkize: no visible global function definition for ‘breakInChunks’
chunkize: no visible global function definition for ‘detectCores’
clusterSites : <anonymous>: no visible binding for global variable
  ‘queryHits’
clusterSites: no visible binding for global variable ‘clusteredValue’
clusterSites: no visible binding for global variable
  ‘clusteredValue.freq’
crossOverCheck: no visible binding for global variable ‘queryHits’
decodeByBarcode: no visible global function definition for ‘metadata<-’
decodeByBarcode: no visible global function definition for ‘metadata’
extractSeqs : <anonymous>: no visible global function definition for
  ‘metadata’
extractSeqs : <anonymous> : <anonymous> : <anonymous>: no visible
  global function definition for ‘IRanges’
extractSeqs : <anonymous> : <anonymous>: no visible global function
  definition for ‘IRanges’
findBarcodes: no visible global function definition for ‘metadata<-’
findBarcodes: no visible global function definition for ‘metadata’
findIntegrations: no visible global function definition for
  ‘fasta.info’
findIntegrations : <anonymous>: no visible global function definition
  for ‘IRanges’
findVector : <anonymous>: no visible global function definition for
  ‘IRanges’
pairUpAlignments : <anonymous>: no visible binding for global variable
  ‘queryHits’
pairwiseAlignSeqs: no visible global function definition for
  ‘IRangesList’
pairwiseAlignSeqs: no visible global function definition for ‘IRanges’
primerIDAlignSeqs: no visible global function definition for ‘IRanges’
primerIDAlignSeqs: no visible global function definition for
  ‘IRangesList’
pslToRangedObject: no visible global function definition for ‘IRanges’
read.BAMasPSL: no visible global function definition for ‘ScanBamParam’
read.BAMasPSL: no visible global function definition for ‘scanBamFlag’
read.BAMasPSL: no visible global function definition for ‘DataFrame’
read.SeqFolder: no visible global function definition for ‘SimpleList’
read.psl: no visible global function definition for ‘mclapply’
read.psl : <anonymous>: no visible binding for global variable
  ‘matches’
read.psl : <anonymous>: no visible binding for global variable
  ‘misMatches’
read.psl : <anonymous>: no visible binding for global variable
  ‘qBaseInsert’
read.psl : <anonymous>: no visible binding for global variable
  ‘tBaseInsert’
read.psl: no visible binding for global variable ‘matches’
read.psl: no visible binding for global variable ‘misMatches’
read.psl: no visible binding for global variable ‘qBaseInsert’
read.psl: no visible binding for global variable ‘tBaseInsert’
read.sampleInfo: no visible global function definition for ‘SimpleList’
splitSeqsToFiles: no visible global function definition for
  ‘fasta.info’
vpairwiseAlignSeqs: no visible global function definition for ‘Rle’
vpairwiseAlignSeqs: no visible global function definition for
  ‘runLength’
vpairwiseAlignSeqs: no visible global function definition for ‘IRanges’
vpairwiseAlignSeqs: no visible global function definition for
  ‘runValue’
Undefined global functions or variables:
  DataFrame IRanges IRangesList Rle ScanBamParam SimpleList
  breakInChunks clusteredValue clusteredValue.freq detectCores
  fasta.info matches mclapply metadata metadata<- misMatches
  qBaseInsert queryHits runLength runValue scanBamFlag tBaseInsert
* checking Rd files ... OK
* checking Rd metadata ... OK
* checking Rd cross-references ... OK
* checking for missing documentation entries ... OK
* checking for code/documentation mismatches ... OK
* checking Rd \usage sections ... OK
* checking Rd contents ... OK
* checking for unstated dependencies in examples ... OK
* checking contents of ‘data’ directory ... OK
* checking data for non-ASCII characters ... OK
* checking data for ASCII and uncompressed saves ... OK
* checking files in ‘vignettes’ ... OK
* checking examples ... OK
* checking for unstated dependencies in vignettes ... OK
* checking package vignettes in ‘inst/doc’ ... OK
* checking running R code from vignettes ... SKIPPED
* checking re-building of vignette outputs ... SKIPPED
* checking PDF version of manual ... OK
* DONE

Status: 2 NOTEs
See
  ‘/home/biocbuild/bbs-3.15-bioc/meat/hiReadsProcessor.Rcheck/00check.log’
for details.



Installation output

hiReadsProcessor.Rcheck/00install.out

##############################################################################
##############################################################################
###
### Running command:
###
###   /home/biocbuild/bbs-3.15-bioc/R/bin/R CMD INSTALL hiReadsProcessor
###
##############################################################################
##############################################################################


* installing to library ‘/home/biocbuild/bbs-3.15-bioc/R/library’
* installing *source* package ‘hiReadsProcessor’ ...
** using staged installation
** R
** data
** inst
** byte-compile and prepare package for lazy loading
** help
*** installing help indices
** building package indices
** installing vignettes
** testing if installed package can be loaded from temporary location
** testing if installed package can be loaded from final location
** testing if installed package keeps a record of temporary installation path
* DONE (hiReadsProcessor)

Tests output


Example timings

hiReadsProcessor.Rcheck/hiReadsProcessor-Ex.timings

nameusersystemelapsed
addFeature1.1410.0161.157
addListNameToReads0.2450.0040.249
annotateSites000
blatSeqs000
chunkize0.0170.0120.028
clusterSites0.2520.0120.264
crossOverCheck0.0710.0160.087
dereplicateReads0.0330.0120.045
doRCtest2.2130.0572.321
extractFeature0.2360.1080.200
extractSeqs0.3860.0200.406
findAndTrimSeq1.1940.1721.366
findBarcodes0.9540.0000.954
findIntegrations000
findLTRs000
findLinkers0.0010.0000.000
findPrimers0.0000.0010.001
findVector0.0000.0010.001
getIntegrationSites1.9330.0061.940
getSectorsForSamples0.0780.0040.082
getSonicAbund0.1090.0320.579
isuSites4.5880.3094.404
otuSites4.1140.0084.121
pairUpAlignments0.0010.0000.000
pairwiseAlignSeqs2.1840.4822.481
primerIDAlignSeqs3.2990.3033.507
pslCols0.0010.0000.001
pslToRangedObject0.1960.0000.195
read.BAMasPSL0.0010.0000.000
read.SeqFolder0.8770.0200.897
read.blast8000
read.psl000
read.sampleInfo0.8770.0070.885
read.seqsFromSector000
removeReadsWithNs0.020.000.02
replicateReads0.0400.0030.044
sampleSummary0.5000.0080.508
splitByBarcode0.0220.0030.026
splitSeqsToFiles0.1270.0010.128
startgfServer000
trimSeqs0.0240.0000.024
vpairwiseAlignSeqs2.2790.6992.716
write.listedDNAStringSet0.0010.0000.000
write.psl0.0250.0000.024