Back to Build/check report for BioC 3.15
ABCDEFGHIJKLMNOPQRS[T]UVWXYZ

This page was generated on 2021-12-03 12:48:51 -0500 (Fri, 03 Dec 2021).

BUILD results for TCseq on nebbiolo1

To the developers/maintainers of the TCseq package:
- Please allow up to 24 hours (and sometimes 48 hours) for your latest push to git@git.bioconductor.org:packages/TCseq.git to
reflect on this report. See How and When does the builder pull? When will my changes propagate? here for more information.
- Make sure to use the following settings in order to reproduce any error or warning you see on this page.

raw results

Package 1925/2068HostnameOS / ArchINSTALLBUILDCHECKBUILD BIN
TCseq 1.19.0  (landing page)
Mengjun Wu
Snapshot Date: 2021-12-02 13:55:08 -0500 (Thu, 02 Dec 2021)
git_url: https://git.bioconductor.org/packages/TCseq
git_branch: master
git_last_commit: 29167cf
git_last_commit_date: 2021-10-26 12:32:20 -0500 (Tue, 26 Oct 2021)
nebbiolo1Linux (Ubuntu 20.04.3 LTS) / x86_64  OK    OK    OK  UNNEEDED, same version is already published

Summary

Package: TCseq
Version: 1.19.0
Command: /home/biocbuild/bbs-3.15-bioc/R/bin/R CMD build --keep-empty-dirs --no-resave-data TCseq
StartedAt: 2021-12-02 18:08:40 -0500 (Thu, 02 Dec 2021)
EndedAt: 2021-12-02 18:09:18 -0500 (Thu, 02 Dec 2021)
EllapsedTime: 38.4 seconds
RetCode: 0
Status:   OK  
PackageFile: TCseq_1.19.0.tar.gz
PackageFileSize: 1.065 MiB

Command output

##############################################################################
##############################################################################
###
### Running command:
###
###   /home/biocbuild/bbs-3.15-bioc/R/bin/R CMD build --keep-empty-dirs --no-resave-data TCseq
###
##############################################################################
##############################################################################


* checking for file ‘TCseq/DESCRIPTION’ ... OK
* preparing ‘TCseq’:
* checking DESCRIPTION meta-information ... OK
* installing the package to build vignettes
* creating vignettes ... OK
* checking for LF line-endings in source and make files and shell scripts
* checking for empty or unneeded directories
* building ‘TCseq_1.19.0.tar.gz’