Back to Multiple platform build/check report for BioC 3.17 |
|
This page was generated on 2023-01-27 11:08:19 -0500 (Fri, 27 Jan 2023).
Hostname | OS | Arch (*) | R version | Installed pkgs |
---|---|---|---|---|
nebbiolo1 | Linux (Ubuntu 22.04.1 LTS) | x86_64 | R Under development (unstable) (2023-01-10 r83596) -- "Unsuffered Consequences" | 4465 |
palomino3 | Windows Server 2022 Datacenter | x64 | R Under development (unstable) (2023-01-10 r83596 ucrt) -- "Unsuffered Consequences" | 4246 |
merida1 | macOS 10.14.6 Mojave | x86_64 | R Under development (unstable) (2023-01-10 r83596) -- "Unsuffered Consequences" | 4269 |
Click on any hostname to see more info about the system (e.g. compilers) (*) as reported by 'uname -p', except on Windows and Mac OS X |
To the developers/maintainers of the RCAS package: - Please allow up to 24 hours (and sometimes 48 hours) for your latest push to git@git.bioconductor.org:packages/RCAS.git to reflect on this report. See How and When does the builder pull? When will my changes propagate? for more information. - Make sure to use the following settings in order to reproduce any error or warning you see on this page. |
Package 1595/2162 | Hostname | OS / Arch | INSTALL | BUILD | CHECK | BUILD BIN | ||||||||
RCAS 1.25.0 (landing page) Bora Uyar
| nebbiolo1 | Linux (Ubuntu 22.04.1 LTS) / x86_64 | OK | OK | OK | ![]() | ||||||||
palomino3 | Windows Server 2022 Datacenter / x64 | OK | OK | OK | OK | ![]() | ||||||||
merida1 | macOS 10.14.6 Mojave / x86_64 | OK | OK | OK | OK | ![]() | ||||||||
Package: RCAS |
Version: 1.25.0 |
Command: rm -rf RCAS.buildbin-libdir && mkdir RCAS.buildbin-libdir && F:\biocbuild\bbs-3.17-bioc\R\bin\R.exe CMD INSTALL --build --library=RCAS.buildbin-libdir RCAS_1.25.0.tar.gz |
StartedAt: 2023-01-27 08:36:02 -0500 (Fri, 27 Jan 2023) |
EndedAt: 2023-01-27 08:36:59 -0500 (Fri, 27 Jan 2023) |
EllapsedTime: 56.8 seconds |
RetCode: 0 |
Status: OK |
PackageFile: RCAS_1.25.0.zip |
PackageFileSize: 1.858 MiB |
############################################################################## ############################################################################## ### ### Running command: ### ### rm -rf RCAS.buildbin-libdir && mkdir RCAS.buildbin-libdir && F:\biocbuild\bbs-3.17-bioc\R\bin\R.exe CMD INSTALL --build --library=RCAS.buildbin-libdir RCAS_1.25.0.tar.gz ### ############################################################################## ############################################################################## * installing *source* package 'RCAS' ... ** using staged installation ** R ** data *** moving datasets to lazyload DB ** inst ** byte-compile and prepare package for lazy loading Warning: replacing previous import 'Biostrings::pattern' by 'grid::pattern' when loading 'genomation' ** help *** installing help indices ** building package indices ** installing vignettes ** testing if installed package can be loaded from temporary location Warning: replacing previous import 'Biostrings::pattern' by 'grid::pattern' when loading 'genomation' ** testing if installed package can be loaded from final location Warning: replacing previous import 'Biostrings::pattern' by 'grid::pattern' when loading 'genomation' ** testing if installed package keeps a record of temporary installation path * MD5 sums packaged installation of 'RCAS' as RCAS_1.25.0.zip * DONE (RCAS)