Back to Multiple platform build/check report for BioC 3.17
AB[C]DEFGHIJKLMNOPQRSTUVWXYZ

This page was generated on 2022-12-05 11:05:31 -0500 (Mon, 05 Dec 2022).

HostnameOSArch (*)R versionInstalled pkgs
nebbiolo1Linux (Ubuntu 22.04.1 LTS)x86_64R Under development (unstable) (2022-11-30 r83393) -- "Unsuffered Consequences" 4277
palomino3Windows Server 2022 Datacenterx64R Under development (unstable) (2022-11-30 r83393 ucrt) -- "Unsuffered Consequences" 4193
merida1macOS 10.14.6 Mojavex86_64R Under development (unstable) (2022-11-30 r83393) -- "Unsuffered Consequences" 4236
Click on any hostname to see more info about the system (e.g. compilers)      (*) as reported by 'uname -p', except on Windows and Mac OS X

INSTALL results for chipseq on nebbiolo1


To the developers/maintainers of the chipseq package:
- Please allow up to 24 hours (and sometimes 48 hours) for your latest push to git@git.bioconductor.org:packages/chipseq.git to
reflect on this report. See How and When does the builder pull? When will my changes propagate? for more information.
- Make sure to use the following settings in order to reproduce any error or warning you see on this page.

raw results

Package 310/2155HostnameOS / ArchINSTALLBUILDCHECKBUILD BIN
chipseq 1.49.0  (landing page)
Bioconductor Package Maintainer
Snapshot Date: 2022-12-04 14:00:12 -0500 (Sun, 04 Dec 2022)
git_url: https://git.bioconductor.org/packages/chipseq
git_branch: master
git_last_commit: 5a0e94e
git_last_commit_date: 2022-11-01 11:04:29 -0500 (Tue, 01 Nov 2022)
nebbiolo1Linux (Ubuntu 22.04.1 LTS) / x86_64  OK    OK    WARNINGS  UNNEEDED, same version is already published
palomino3Windows Server 2022 Datacenter / x64  OK    OK    WARNINGS    OK  NO, package depends on 'GenomicRanges' which is not available
merida1macOS 10.14.6 Mojave / x86_64  OK    OK    WARNINGS    OK  NO, package depends on 'ShortRead' which is not available

Summary

Package: chipseq
Version: 1.49.0
Command: /home/biocbuild/bbs-3.17-bioc/R/bin/R CMD INSTALL chipseq
StartedAt: 2022-12-04 15:24:18 -0500 (Sun, 04 Dec 2022)
EndedAt: 2022-12-04 15:24:45 -0500 (Sun, 04 Dec 2022)
EllapsedTime: 27.3 seconds
RetCode: 0
Status:   OK  

Command output

##############################################################################
##############################################################################
###
### Running command:
###
###   /home/biocbuild/bbs-3.17-bioc/R/bin/R CMD INSTALL chipseq
###
##############################################################################
##############################################################################


* installing to library ‘/home/biocbuild/bbs-3.17-bioc/R/library’
* installing *source* package ‘chipseq’ ...
** using staged installation
** libs
gcc -I"/home/biocbuild/bbs-3.17-bioc/R/include" -DNDEBUG   -I/usr/local/include    -fpic  -g -O2  -Wall -c rlesumprod.c -o rlesumprod.o
gcc -shared -L/home/biocbuild/bbs-3.17-bioc/R/lib -L/usr/local/lib -o chipseq.so rlesumprod.o -L/home/biocbuild/bbs-3.17-bioc/R/lib -lR
installing to /home/biocbuild/bbs-3.17-bioc/R/library/00LOCK-chipseq/00new/chipseq/libs
** R
** data
** inst
** byte-compile and prepare package for lazy loading
** help
*** installing help indices
** building package indices
** installing vignettes
** testing if installed package can be loaded from temporary location
** checking absolute paths in shared objects and dynamic libraries
** testing if installed package can be loaded from final location
** testing if installed package keeps a record of temporary installation path
* DONE (chipseq)