Back to Multiple platform build/check report for BioC 3.19:   simplified   long
[A]BCDEFGHIJKLMNOPQRSTUVWXYZ

This page was generated on 2024-03-28 11:36:11 -0400 (Thu, 28 Mar 2024).

HostnameOSArch (*)R versionInstalled pkgs
nebbiolo1Linux (Ubuntu 22.04.3 LTS)x86_64R Under development (unstable) (2024-03-18 r86148) -- "Unsuffered Consequences" 4708
palomino3Windows Server 2022 Datacenterx64R Under development (unstable) (2024-03-16 r86144 ucrt) -- "Unsuffered Consequences" 4446
lconwaymacOS 12.7.1 Montereyx86_64R Under development (unstable) (2024-03-18 r86148) -- "Unsuffered Consequences" 4471
kunpeng2Linux (openEuler 22.03 LTS-SP1)aarch64R Under development (unstable) (2024-03-19 r86153) -- "Unsuffered Consequences" 4426
Click on any hostname to see more info about the system (e.g. compilers)      (*) as reported by 'uname -p', except on Windows and Mac OS X

Package 107/2270HostnameOS / ArchINSTALLBUILDCHECKBUILD BIN
ATACseqTFEA 1.5.1  (landing page)
Jianhong Ou
Snapshot Date: 2024-03-27 14:00:18 -0400 (Wed, 27 Mar 2024)
git_url: https://git.bioconductor.org/packages/ATACseqTFEA
git_branch: devel
git_last_commit: bd2f07b
git_last_commit_date: 2024-02-05 17:31:24 -0400 (Mon, 05 Feb 2024)
nebbiolo1Linux (Ubuntu 22.04.3 LTS) / x86_64  OK    OK    OK  UNNEEDED, same version is already published
palomino3Windows Server 2022 Datacenter / x64  OK    OK    OK    OK  UNNEEDED, same version is already published
lconwaymacOS 12.7.1 Monterey / x86_64  OK    OK    OK    OK  UNNEEDED, same version is already published
kunpeng2Linux (openEuler 22.03 LTS-SP1) / aarch64  OK    OK    OK  

CHECK results for ATACseqTFEA on nebbiolo1


To the developers/maintainers of the ATACseqTFEA package:
- Allow up to 24 hours (and sometimes 48 hours) for your latest push to git@git.bioconductor.org:packages/ATACseqTFEA.git to reflect on this report. See Troubleshooting Build Report for more information.
- Use the following Renviron settings to reproduce errors and warnings.
- If 'R CMD check' started to fail recently on the Linux builder(s) over a missing dependency, add the missing dependency to 'Suggests:' in your DESCRIPTION file. See Renviron.bioc for more information.

raw results


Summary

Package: ATACseqTFEA
Version: 1.5.1
Command: /home/biocbuild/bbs-3.19-bioc/R/bin/R CMD check --install=check:ATACseqTFEA.install-out.txt --library=/home/biocbuild/bbs-3.19-bioc/R/site-library --timings ATACseqTFEA_1.5.1.tar.gz
StartedAt: 2024-03-27 20:19:13 -0400 (Wed, 27 Mar 2024)
EndedAt: 2024-03-27 20:26:59 -0400 (Wed, 27 Mar 2024)
EllapsedTime: 465.9 seconds
RetCode: 0
Status:   OK  
CheckDir: ATACseqTFEA.Rcheck
Warnings: 0

Command output

##############################################################################
##############################################################################
###
### Running command:
###
###   /home/biocbuild/bbs-3.19-bioc/R/bin/R CMD check --install=check:ATACseqTFEA.install-out.txt --library=/home/biocbuild/bbs-3.19-bioc/R/site-library --timings ATACseqTFEA_1.5.1.tar.gz
###
##############################################################################
##############################################################################


* using log directory ‘/home/biocbuild/bbs-3.19-bioc/meat/ATACseqTFEA.Rcheck’
* using R Under development (unstable) (2024-03-18 r86148)
* using platform: x86_64-pc-linux-gnu
* R was compiled by
    gcc (Ubuntu 11.4.0-1ubuntu1~22.04) 11.4.0
    GNU Fortran (Ubuntu 11.4.0-1ubuntu1~22.04) 11.4.0
* running under: Ubuntu 22.04.4 LTS
* using session charset: UTF-8
* checking for file ‘ATACseqTFEA/DESCRIPTION’ ... OK
* checking extension type ... Package
* this is package ‘ATACseqTFEA’ version ‘1.5.1’
* package encoding: UTF-8
* checking package namespace information ... OK
* checking package dependencies ... OK
* checking if this is a source package ... OK
* checking if there is a namespace ... OK
* checking for hidden files and directories ... OK
* checking for portable file names ... OK
* checking for sufficient/correct file permissions ... OK
* checking whether package ‘ATACseqTFEA’ can be installed ... OK
* checking installed package size ... OK
* checking package directory ... OK
* checking ‘build’ directory ... OK
* checking DESCRIPTION meta-information ... OK
* checking top-level files ... OK
* checking for left-over files ... OK
* checking index information ... OK
* checking package subdirectories ... OK
* checking code files for non-ASCII characters ... OK
* checking R files for syntax errors ... OK
* checking whether the package can be loaded ... OK
* checking whether the package can be loaded with stated dependencies ... OK
* checking whether the package can be unloaded cleanly ... OK
* checking whether the namespace can be loaded with stated dependencies ... OK
* checking whether the namespace can be unloaded cleanly ... OK
* checking loading without being on the library search path ... OK
* checking dependencies in R code ... OK
* checking S3 generic/method consistency ... OK
* checking replacement functions ... OK
* checking foreign function calls ... OK
* checking R code for possible problems ... OK
* checking Rd files ... OK
* checking Rd metadata ... OK
* checking Rd cross-references ... OK
* checking for missing documentation entries ... OK
* checking for code/documentation mismatches ... OK
* checking Rd \usage sections ... OK
* checking Rd contents ... OK
* checking for unstated dependencies in examples ... OK
* checking files in ‘vignettes’ ... OK
* checking examples ... OK
Examples with CPU (user + system) or elapsed time > 5s
                         user system elapsed
prepareBindingSites    20.895  0.504  21.399
importFimoBindingSites  8.012  0.260   8.274
* checking for unstated dependencies in ‘tests’ ... OK
* checking tests ...
  Running ‘runTests.R’
 OK
* checking for unstated dependencies in vignettes ... OK
* checking package vignettes ... OK
* checking re-building of vignette outputs ... OK
* checking PDF version of manual ... OK
* DONE

Status: OK


Installation output

ATACseqTFEA.Rcheck/00install.out

##############################################################################
##############################################################################
###
### Running command:
###
###   /home/biocbuild/bbs-3.19-bioc/R/bin/R CMD INSTALL ATACseqTFEA
###
##############################################################################
##############################################################################


* installing to library ‘/home/biocbuild/bbs-3.19-bioc/R/site-library’
* installing *source* package ‘ATACseqTFEA’ ...
** using staged installation
** R
** inst
** byte-compile and prepare package for lazy loading
** help
*** installing help indices
** building package indices
** installing vignettes
** testing if installed package can be loaded from temporary location
** testing if installed package can be loaded from final location
** testing if installed package keeps a record of temporary installation path
* DONE (ATACseqTFEA)

Tests output

ATACseqTFEA.Rcheck/tests/runTests.Rout


R Under development (unstable) (2024-03-18 r86148) -- "Unsuffered Consequences"
Copyright (C) 2024 The R Foundation for Statistical Computing
Platform: x86_64-pc-linux-gnu

R is free software and comes with ABSOLUTELY NO WARRANTY.
You are welcome to redistribute it under certain conditions.
Type 'license()' or 'licence()' for distribution details.

R is a collaborative project with many contributors.
Type 'contributors()' for more information and
'citation()' on how to cite R or R packages in publications.

Type 'demo()' for some demos, 'help()' for on-line help, or
'help.start()' for an HTML browser interface to help.
Type 'q()' to quit R.

> require("ATACseqTFEA") || stop("unable to load Package:ATACseqTFEA")
Loading required package: ATACseqTFEA

[1] TRUE
> require("BSgenome.Drerio.UCSC.danRer10") ||
+   stop("unable to load Package:BSgenome.Drerio.UCSC.danRer10")
Loading required package: BSgenome.Drerio.UCSC.danRer10
Loading required package: BSgenome
Loading required package: BiocGenerics

Attaching package: 'BiocGenerics'

The following objects are masked from 'package:stats':

    IQR, mad, sd, var, xtabs

The following objects are masked from 'package:base':

    Filter, Find, Map, Position, Reduce, anyDuplicated, aperm, append,
    as.data.frame, basename, cbind, colnames, dirname, do.call,
    duplicated, eval, evalq, get, grep, grepl, intersect, is.unsorted,
    lapply, mapply, match, mget, order, paste, pmax, pmax.int, pmin,
    pmin.int, rank, rbind, rownames, sapply, setdiff, table, tapply,
    union, unique, unsplit, which.max, which.min

Loading required package: S4Vectors
Loading required package: stats4

Attaching package: 'S4Vectors'

The following object is masked from 'package:utils':

    findMatches

The following objects are masked from 'package:base':

    I, expand.grid, unname

Loading required package: IRanges
Loading required package: GenomeInfoDb
Loading required package: GenomicRanges
Loading required package: Biostrings
Loading required package: XVector

Attaching package: 'Biostrings'

The following object is masked from 'package:base':

    strsplit

Loading required package: BiocIO
Loading required package: rtracklayer

Attaching package: 'rtracklayer'

The following object is masked from 'package:BiocIO':

    FileForFormat

[1] TRUE
> require("SummarizedExperiment") ||
+   stop("unable to load Package:SummarizedExperiment")
Loading required package: SummarizedExperiment
Loading required package: MatrixGenerics
Loading required package: matrixStats

Attaching package: 'MatrixGenerics'

The following objects are masked from 'package:matrixStats':

    colAlls, colAnyNAs, colAnys, colAvgsPerRowSet, colCollapse,
    colCounts, colCummaxs, colCummins, colCumprods, colCumsums,
    colDiffs, colIQRDiffs, colIQRs, colLogSumExps, colMadDiffs,
    colMads, colMaxs, colMeans2, colMedians, colMins, colOrderStats,
    colProds, colQuantiles, colRanges, colRanks, colSdDiffs, colSds,
    colSums2, colTabulates, colVarDiffs, colVars, colWeightedMads,
    colWeightedMeans, colWeightedMedians, colWeightedSds,
    colWeightedVars, rowAlls, rowAnyNAs, rowAnys, rowAvgsPerColSet,
    rowCollapse, rowCounts, rowCummaxs, rowCummins, rowCumprods,
    rowCumsums, rowDiffs, rowIQRDiffs, rowIQRs, rowLogSumExps,
    rowMadDiffs, rowMads, rowMaxs, rowMeans2, rowMedians, rowMins,
    rowOrderStats, rowProds, rowQuantiles, rowRanges, rowRanks,
    rowSdDiffs, rowSds, rowSums2, rowTabulates, rowVarDiffs, rowVars,
    rowWeightedMads, rowWeightedMeans, rowWeightedMedians,
    rowWeightedSds, rowWeightedVars

Loading required package: Biobase
Welcome to Bioconductor

    Vignettes contain introductory material; view with
    'browseVignettes()'. To cite Bioconductor, see
    'citation("Biobase")', and for packages 'citation("pkgname")'.


Attaching package: 'Biobase'

The following object is masked from 'package:MatrixGenerics':

    rowMedians

The following objects are masked from 'package:matrixStats':

    anyMissing, rowMedians

[1] TRUE
> require("GenomicRanges") ||
+   stop("unable to load Package:GenomicRanges")
[1] TRUE
> require("testthat") || stop("unable to load testthat")
Loading required package: testthat
[1] TRUE
> test_check("ATACseqTFEA")
[ FAIL 0 | WARN 0 | SKIP 0 | PASS 16 ]
> 
> proc.time()
   user  system elapsed 
 70.896   1.245  72.132 

Example timings

ATACseqTFEA.Rcheck/ATACseqTFEA-Ex.timings

nameusersystemelapsed
DBscore0.1950.0080.202
ESvolcanoplot0.2690.0150.285
TFEA3.6950.2123.913
TFEAresults-class0.0160.0030.018
TFEAresults-methods0.0250.0240.050
calWeights0.4420.0200.462
count5ends0.4020.0160.418
countsNormalization0.4310.0120.443
doTFEA2.6300.1242.754
eventsFilter0.5580.0120.570
expandBindingSites0.0840.0040.088
extdata0.1530.0030.158
getWeightedBindingScore0.4470.0200.467
importFimoBindingSites8.0120.2608.274
plotES0.1660.0120.177
prepareBindingSites20.895 0.50421.399
reduceByPercentage0.2760.0120.288