Back to Multiple platform build/check report for BioC 3.17:   simplified   long
AB[C]DEFGHIJKLMNOPQRSTUVWXYZ

This page was generated on 2023-02-04 11:04:46 -0500 (Sat, 04 Feb 2023).

HostnameOSArch (*)R versionInstalled pkgs
nebbiolo1Linux (Ubuntu 22.04.1 LTS)x86_64R Under development (unstable) (2023-01-10 r83596) -- "Unsuffered Consequences" 4483
palomino3Windows Server 2022 Datacenterx64R Under development (unstable) (2023-01-10 r83596 ucrt) -- "Unsuffered Consequences" 4249
merida1macOS 10.14.6 Mojavex86_64R Under development (unstable) (2023-01-10 r83596) -- "Unsuffered Consequences" 4272
Click on any hostname to see more info about the system (e.g. compilers)      (*) as reported by 'uname -p', except on Windows and Mac OS X

CHECK results for chipenrich on nebbiolo1


To the developers/maintainers of the chipenrich package:
- Please allow up to 24 hours (and sometimes 48 hours) for your latest push to git@git.bioconductor.org:packages/chipenrich.git to
reflect on this report. See How and When does the builder pull? When will my changes propagate? for more information.
- Make sure to use the following settings in order to reproduce any error or warning you see on this page.

raw results

Package 306/2164HostnameOS / ArchINSTALLBUILDCHECKBUILD BIN
chipenrich 2.23.0  (landing page)
Raymond G. Cavalcante
Snapshot Date: 2023-02-03 14:00:22 -0500 (Fri, 03 Feb 2023)
git_url: https://git.bioconductor.org/packages/chipenrich
git_branch: master
git_last_commit: 51c681f
git_last_commit_date: 2022-11-01 11:08:40 -0500 (Tue, 01 Nov 2022)
nebbiolo1Linux (Ubuntu 22.04.1 LTS) / x86_64  OK    OK    OK  UNNEEDED, same version is already published
palomino3Windows Server 2022 Datacenter / x64  OK    OK    OK    OK  UNNEEDED, same version is already published
merida1macOS 10.14.6 Mojave / x86_64  OK    OK    OK    OK  UNNEEDED, same version is already published

Summary

Package: chipenrich
Version: 2.23.0
Command: /home/biocbuild/bbs-3.17-bioc/R/bin/R CMD check --install=check:chipenrich.install-out.txt --library=/home/biocbuild/bbs-3.17-bioc/R/library --timings chipenrich_2.23.0.tar.gz
StartedAt: 2023-02-03 19:40:52 -0500 (Fri, 03 Feb 2023)
EndedAt: 2023-02-03 19:48:50 -0500 (Fri, 03 Feb 2023)
EllapsedTime: 478.2 seconds
RetCode: 0
Status:   OK  
CheckDir: chipenrich.Rcheck
Warnings: 0

Command output

##############################################################################
##############################################################################
###
### Running command:
###
###   /home/biocbuild/bbs-3.17-bioc/R/bin/R CMD check --install=check:chipenrich.install-out.txt --library=/home/biocbuild/bbs-3.17-bioc/R/library --timings chipenrich_2.23.0.tar.gz
###
##############################################################################
##############################################################################


* using log directory ‘/home/biocbuild/bbs-3.17-bioc/meat/chipenrich.Rcheck’
* using R Under development (unstable) (2023-01-10 r83596)
* using platform: x86_64-pc-linux-gnu (64-bit)
* R was compiled by
    gcc (Ubuntu 11.3.0-1ubuntu1~22.04) 11.3.0
    GNU Fortran (Ubuntu 11.3.0-1ubuntu1~22.04) 11.3.0
* running under: Ubuntu 22.04.1 LTS
* using session charset: UTF-8
* checking for file ‘chipenrich/DESCRIPTION’ ... OK
* checking extension type ... Package
* this is package ‘chipenrich’ version ‘2.23.0’
* checking package namespace information ... OK
* checking package dependencies ... OK
* checking if this is a source package ... OK
* checking if there is a namespace ... OK
* checking for hidden files and directories ... OK
* checking for portable file names ... OK
* checking for sufficient/correct file permissions ... OK
* checking whether package ‘chipenrich’ can be installed ... OK
* checking installed package size ... OK
* checking package directory ... OK
* checking ‘build’ directory ... OK
* checking DESCRIPTION meta-information ... OK
* checking top-level files ... OK
* checking for left-over files ... OK
* checking index information ... OK
* checking package subdirectories ... OK
* checking R files for non-ASCII characters ... OK
* checking R files for syntax errors ... OK
* checking whether the package can be loaded ... OK
* checking whether the package can be loaded with stated dependencies ... OK
* checking whether the package can be unloaded cleanly ... OK
* checking whether the namespace can be loaded with stated dependencies ... OK
* checking whether the namespace can be unloaded cleanly ... OK
* checking dependencies in R code ... OK
* checking S3 generic/method consistency ... OK
* checking replacement functions ... OK
* checking foreign function calls ... OK
* checking R code for possible problems ... OK
* checking Rd files ... NOTE
checkRd: (-1) broadenrich.Rd:134: Escaped LaTeX specials: \&
checkRd: (-1) chipenrich.Rd:148: Escaped LaTeX specials: \&
checkRd: (-1) hybridenrich.Rd:111: Escaped LaTeX specials: \&
checkRd: (-1) polyenrich.Rd:148: Escaped LaTeX specials: \&
checkRd: (-1) proxReg.Rd:117: Escaped LaTeX specials: \&
* checking Rd metadata ... OK
* checking Rd cross-references ... OK
* checking for missing documentation entries ... OK
* checking for code/documentation mismatches ... OK
* checking Rd \usage sections ... OK
* checking Rd contents ... OK
* checking for unstated dependencies in examples ... OK
* checking files in ‘vignettes’ ... OK
* checking examples ... OK
Examples with CPU (user + system) or elapsed time > 5s
             user system elapsed
broadenrich 7.498  0.221   7.720
polyenrich  5.852  0.072   5.924
* checking for unstated dependencies in ‘tests’ ... OK
* checking tests ...
  Running ‘testthat.R’
 OK
* checking for unstated dependencies in vignettes ... OK
* checking package vignettes in ‘inst/doc’ ... OK
* checking running R code from vignettes ...
  ‘chipenrich-vignette.Rmd’ using ‘UTF-8’... OK
 NONE
* checking re-building of vignette outputs ... OK
* checking PDF version of manual ... OK
* DONE

Status: 1 NOTE
See
  ‘/home/biocbuild/bbs-3.17-bioc/meat/chipenrich.Rcheck/00check.log’
for details.



Installation output

chipenrich.Rcheck/00install.out

##############################################################################
##############################################################################
###
### Running command:
###
###   /home/biocbuild/bbs-3.17-bioc/R/bin/R CMD INSTALL chipenrich
###
##############################################################################
##############################################################################


* installing to library ‘/home/biocbuild/bbs-3.17-bioc/R/library’
* installing *source* package ‘chipenrich’ ...
** using staged installation
** R
** inst
** byte-compile and prepare package for lazy loading
** help
*** installing help indices
** building package indices
** installing vignettes
** testing if installed package can be loaded from temporary location
** testing if installed package can be loaded from final location
** testing if installed package keeps a record of temporary installation path
* DONE (chipenrich)

Tests output

chipenrich.Rcheck/tests/testthat.Rout


R Under development (unstable) (2023-01-10 r83596) -- "Unsuffered Consequences"
Copyright (C) 2023 The R Foundation for Statistical Computing
Platform: x86_64-pc-linux-gnu (64-bit)

R is free software and comes with ABSOLUTELY NO WARRANTY.
You are welcome to redistribute it under certain conditions.
Type 'license()' or 'licence()' for distribution details.

R is a collaborative project with many contributors.
Type 'contributors()' for more information and
'citation()' on how to cite R or R packages in publications.

Type 'demo()' for some demos, 'help()' for on-line help, or
'help.start()' for an HTML browser interface to help.
Type 'q()' to quit R.

> library(testthat)
> library(chipenrich)





> 
> test_check("chipenrich")
[ FAIL 0 | WARN 0 | SKIP 3 | PASS 170 ]

══ Skipped tests ═══════════════════════════════════════════════════════════════
• empty test (3)

[ FAIL 0 | WARN 0 | SKIP 3 | PASS 170 ]
> 
> proc.time()
   user  system elapsed 
155.647   2.751 158.404 

Example timings

chipenrich.Rcheck/chipenrich-Ex.timings

nameusersystemelapsed
assign_peak_segments0.3110.0130.325
assign_peaks0.6470.0070.656
broadenrich7.4980.2217.720
calc_peak_gene_overlap0.2960.0040.300
chipenrich1.5290.0161.545
load_peaks0.0590.0000.059
num_peaks_per_gene0.4570.0000.457
peaks2genes0.4580.0040.462
plot_chipenrich_spline2.3740.1242.500
plot_dist_to_tss0.3040.0320.336
plot_gene_coverage0.8070.0000.808
plot_polyenrich_spline2.6580.0282.686
polyenrich5.8520.0725.924
proxReg0.4540.0160.470
read_bed0.2600.0200.281
supported_genesets0.010.000.01
supported_genomes0.0030.0000.003
supported_locusdefs0.0110.0000.011
supported_methods0.0020.0000.002
supported_read_lengths0.0060.0040.010