Back to Multiple platform build/check report for BioC 3.19:   simplified   long
[A]BCDEFGHIJKLMNOPQRSTUVWXYZ

This page was generated on 2024-02-22 12:48:00 -0500 (Thu, 22 Feb 2024).

HostnameOSArch (*)R versionInstalled pkgs
nebbiolo1Linux (Ubuntu 22.04.3 LTS)x86_64R Under development (unstable) (2024-01-16 r85808) -- "Unsuffered Consequences" 4657
palomino3Windows Server 2022 Datacenterx64R Under development (unstable) (2024-01-14 r85805 ucrt) -- "Unsuffered Consequences" 4397
Click on any hostname to see more info about the system (e.g. compilers)      (*) as reported by 'uname -p', except on Windows and Mac OS X

Package 72/2244HostnameOS / ArchINSTALLBUILDCHECKBUILD BIN
AnnotationForge 1.45.0  (landing page)
Bioconductor Package Maintainer
Snapshot Date: 2024-02-21 14:10:10 -0500 (Wed, 21 Feb 2024)
git_url: https://git.bioconductor.org/packages/AnnotationForge
git_branch: devel
git_last_commit: 2bba05a
git_last_commit_date: 2023-10-24 09:50:31 -0500 (Tue, 24 Oct 2023)
nebbiolo1Linux (Ubuntu 22.04.3 LTS) / x86_64  OK    OK    OK  UNNEEDED, same version is already published
palomino3Windows Server 2022 Datacenter / x64  OK    OK    OK    OK  UNNEEDED, same version is already published

CHECK results for AnnotationForge on nebbiolo1


To the developers/maintainers of the AnnotationForge package:
- Allow up to 24 hours (and sometimes 48 hours) for your latest push to git@git.bioconductor.org:packages/AnnotationForge.git to reflect on this report. See Troubleshooting Build Report for more information.
- Use the following Renviron settings to reproduce errors and warnings.
- If 'R CMD check' started to fail recently on the Linux builder(s) over a missing dependency, add the missing dependency to 'Suggests:' in your DESCRIPTION file. See Renviron.bioc for more information.

raw results


Summary

Package: AnnotationForge
Version: 1.45.0
Command: /home/biocbuild/bbs-3.19-bioc/R/bin/R CMD check --install=check:AnnotationForge.install-out.txt --library=/home/biocbuild/bbs-3.19-bioc/R/site-library --timings AnnotationForge_1.45.0.tar.gz
StartedAt: 2024-02-21 20:33:57 -0500 (Wed, 21 Feb 2024)
EndedAt: 2024-02-21 20:38:36 -0500 (Wed, 21 Feb 2024)
EllapsedTime: 278.7 seconds
RetCode: 0
Status:   OK  
CheckDir: AnnotationForge.Rcheck
Warnings: 0

Command output

##############################################################################
##############################################################################
###
### Running command:
###
###   /home/biocbuild/bbs-3.19-bioc/R/bin/R CMD check --install=check:AnnotationForge.install-out.txt --library=/home/biocbuild/bbs-3.19-bioc/R/site-library --timings AnnotationForge_1.45.0.tar.gz
###
##############################################################################
##############################################################################


* using log directory ‘/home/biocbuild/bbs-3.19-bioc/meat/AnnotationForge.Rcheck’
* using R Under development (unstable) (2024-01-16 r85808)
* using platform: x86_64-pc-linux-gnu
* R was compiled by
    gcc (Ubuntu 11.4.0-1ubuntu1~22.04) 11.4.0
    GNU Fortran (Ubuntu 11.4.0-1ubuntu1~22.04) 11.4.0
* running under: Ubuntu 22.04.3 LTS
* using session charset: UTF-8
* checking for file ‘AnnotationForge/DESCRIPTION’ ... OK
* this is package ‘AnnotationForge’ version ‘1.45.0’
* package encoding: UTF-8
* checking package namespace information ... OK
* checking package dependencies ... OK
* checking if this is a source package ... OK
* checking if there is a namespace ... OK
* checking for hidden files and directories ... OK
* checking for portable file names ... OK
* checking for sufficient/correct file permissions ... OK
* checking whether package ‘AnnotationForge’ can be installed ... OK
* checking installed package size ... NOTE
  installed size is  5.6Mb
  sub-directories of 1Mb or more:
    AnnDbPkg-templates   1.8Mb
    extdata              3.1Mb
* checking package directory ... OK
* checking ‘build’ directory ... OK
* checking DESCRIPTION meta-information ... OK
* checking top-level files ... OK
* checking for left-over files ... OK
* checking index information ... OK
* checking package subdirectories ... OK
* checking R files for non-ASCII characters ... OK
* checking R files for syntax errors ... OK
* checking whether the package can be loaded ... OK
* checking whether the package can be loaded with stated dependencies ... OK
* checking whether the package can be unloaded cleanly ... OK
* checking whether the namespace can be loaded with stated dependencies ... OK
* checking whether the namespace can be unloaded cleanly ... OK
* checking loading without being on the library search path ... OK
* checking dependencies in R code ... NOTE
Unexported objects imported by ':::' calls:
  ‘BiocGenerics:::testPackage’
  ‘GenomeInfoDb:::lookup_organism_by_tax_id’
  See the note in ?`:::` about the use of this operator.
* checking S3 generic/method consistency ... OK
* checking replacement functions ... OK
* checking foreign function calls ... OK
* checking R code for possible problems ... OK
* checking Rd files ... OK
* checking Rd metadata ... OK
* checking Rd cross-references ... OK
* checking for missing documentation entries ... OK
* checking for code/documentation mismatches ... OK
* checking Rd \usage sections ... OK
* checking Rd contents ... OK
* checking for unstated dependencies in examples ... OK
* checking files in ‘vignettes’ ... OK
* checking examples ... OK
* checking for unstated dependencies in ‘tests’ ... OK
* checking tests ...
  Running ‘AnnotationForge_unit_tests.R’
 OK
* checking for unstated dependencies in vignettes ... OK
* checking package vignettes ... OK
* checking re-building of vignette outputs ... OK
* checking PDF version of manual ... OK
* DONE

Status: 2 NOTEs
See
  ‘/home/biocbuild/bbs-3.19-bioc/meat/AnnotationForge.Rcheck/00check.log’
for details.



Installation output

AnnotationForge.Rcheck/00install.out

##############################################################################
##############################################################################
###
### Running command:
###
###   /home/biocbuild/bbs-3.19-bioc/R/bin/R CMD INSTALL AnnotationForge
###
##############################################################################
##############################################################################


* installing to library ‘/home/biocbuild/bbs-3.19-bioc/R/site-library’
* installing *source* package ‘AnnotationForge’ ...
** using staged installation
** R
** inst
** byte-compile and prepare package for lazy loading
** help
*** installing help indices
** building package indices
** installing vignettes
** testing if installed package can be loaded from temporary location
** testing if installed package can be loaded from final location
** testing if installed package keeps a record of temporary installation path
* DONE (AnnotationForge)

Tests output

AnnotationForge.Rcheck/tests/AnnotationForge_unit_tests.Rout


R Under development (unstable) (2024-01-16 r85808) -- "Unsuffered Consequences"
Copyright (C) 2024 The R Foundation for Statistical Computing
Platform: x86_64-pc-linux-gnu

R is free software and comes with ABSOLUTELY NO WARRANTY.
You are welcome to redistribute it under certain conditions.
Type 'license()' or 'licence()' for distribution details.

R is a collaborative project with many contributors.
Type 'contributors()' for more information and
'citation()' on how to cite R or R packages in publications.

Type 'demo()' for some demos, 'help()' for on-line help, or
'help.start()' for an HTML browser interface to help.
Type 'q()' to quit R.

> require("AnnotationForge") || stop("unable to load AnnotationForge package")
Loading required package: AnnotationForge
Loading required package: BiocGenerics

Attaching package: 'BiocGenerics'

The following objects are masked from 'package:stats':

    IQR, mad, sd, var, xtabs

The following objects are masked from 'package:base':

    Filter, Find, Map, Position, Reduce, anyDuplicated, aperm, append,
    as.data.frame, basename, cbind, colnames, dirname, do.call,
    duplicated, eval, evalq, get, grep, grepl, intersect, is.unsorted,
    lapply, mapply, match, mget, order, paste, pmax, pmax.int, pmin,
    pmin.int, rank, rbind, rownames, sapply, setdiff, table, tapply,
    union, unique, unsplit, which.max, which.min

Loading required package: Biobase
Welcome to Bioconductor

    Vignettes contain introductory material; view with
    'browseVignettes()'. To cite Bioconductor, see
    'citation("Biobase")', and for packages 'citation("pkgname")'.

Loading required package: AnnotationDbi
Loading required package: stats4
Loading required package: IRanges
Loading required package: S4Vectors

Attaching package: 'S4Vectors'

The following object is masked from 'package:utils':

    findMatches

The following objects are masked from 'package:base':

    I, expand.grid, unname

[1] TRUE
> AnnotationForge:::.test()

'select()' returned many:1 mapping between keys and columns
'select()' returned many:1 mapping between keys and columns
Populating genes table:
genes table filled
Populating gene_info table:
gene_info table filled
Populating chromosome table:
chromosome table filled
Populating go table:
go table filled
table metadata filled
'select()' returned many:1 mapping between keys and columns
Dropping GO IDs that are too new for the current GO.db
Populating go table:
go table filled
Populating go_bp table:
go_bp table filled
Populating go_cc table:
go_cc table filled
Populating go_mf table:
go_mf table filled
'select()' returned many:1 mapping between keys and columns
Populating go_bp_all table:
go_bp_all table filled
Populating go_cc_all table:
go_cc_all table filled
Populating go_mf_all table:
go_mf_all table filled
Populating go_all table:
go_all table filled
Creating package in /tmp/Rtmp1nWDIm/file19e1606abd3fb5/org.Tguttata.eg.db 
Now deleting temporary database file


RUNIT TEST PROTOCOL -- Wed Feb 21 20:35:45 2024 
*********************************************** 
Number of test functions: 4 
Number of errors: 0 
Number of failures: 0 

 
1 Test Suite : 
AnnotationForge RUnit Tests - 4 test functions, 0 errors, 0 failures
Number of test functions: 4 
Number of errors: 0 
Number of failures: 0 
> 
> proc.time()
   user  system elapsed 
  5.616   0.442   6.054 

Example timings

AnnotationForge.Rcheck/AnnotationForge-Ex.timings

nameusersystemelapsed
AnnDbPkg-maker0.1060.0360.142
available.db0pkgs0.0900.0040.194
generateSeqnames_db0.0010.0000.000
getProbeDataAffy0.0000.0000.001
getProbeData_1lq000
makeChipPackageFromDataFrames0.0020.0000.001
makeInpDb000
makeOrgPackage0.0000.0020.002
makeOrgPackageFromNCBI0.0000.0010.000
makeProbePackage2.5280.1022.630
sqlForge-makeCHIPDB0.0000.0000.001
sqlForge-popDB0.0010.0000.001
sqlForge-wrapDBPackages0.0000.0000.001