Back to Multiple platform build/check report for BioC 3.16
A[B]CDEFGHIJKLMNOPQRSTUVWXYZ

This page was generated on 2022-06-24 11:07:32 -0400 (Fri, 24 Jun 2022).

HostnameOSArch (*)R versionInstalled pkgs
nebbiolo2Linux (Ubuntu 20.04.4 LTS)x86_644.2.0 Patched (2022-06-02 r82447) -- "Vigorous Calisthenics" 4331
palomino4Windows Server 2022 Datacenterx644.2.0 Patched (2022-06-02 r82447 ucrt) -- "Vigorous Calisthenics" 4136
lconwaymacOS 12.2.1 Montereyx86_644.2.0 Patched (2022-05-29 r82424) -- "Vigorous Calisthenics" 4147
Click on any hostname to see more info about the system (e.g. compilers)      (*) as reported by 'uname -p', except on Windows and Mac OS X

CHECK results for bioassayR on lconway


To the developers/maintainers of the bioassayR package:
- Please allow up to 24 hours (and sometimes 48 hours) for your latest push to git@git.bioconductor.org:packages/bioassayR.git to
reflect on this report. See How and When does the builder pull? When will my changes propagate? for more information.
- Make sure to use the following settings in order to reproduce any error or warning you see on this page.

raw results

Package 150/2118HostnameOS / ArchINSTALLBUILDCHECKBUILD BIN
bioassayR 1.35.0  (landing page)
Daniela Cassol
Snapshot Date: 2022-06-23 14:00:04 -0400 (Thu, 23 Jun 2022)
git_url: https://git.bioconductor.org/packages/bioassayR
git_branch: master
git_last_commit: 526955f
git_last_commit_date: 2022-04-26 11:16:32 -0400 (Tue, 26 Apr 2022)
nebbiolo2Linux (Ubuntu 20.04.4 LTS) / x86_64  OK    OK    OK  UNNEEDED, same version is already published
palomino4Windows Server 2022 Datacenter / x64  OK    OK    OK    OK  UNNEEDED, same version is already published
lconwaymacOS 12.2.1 Monterey / x86_64  OK    OK    OK    OK  UNNEEDED, same version is already published

Summary

Package: bioassayR
Version: 1.35.0
Command: /Library/Frameworks/R.framework/Resources/bin/R CMD check --install=check:bioassayR.install-out.txt --library=/Library/Frameworks/R.framework/Resources/library --no-vignettes --timings bioassayR_1.35.0.tar.gz
StartedAt: 2022-06-23 19:01:16 -0400 (Thu, 23 Jun 2022)
EndedAt: 2022-06-23 19:02:57 -0400 (Thu, 23 Jun 2022)
EllapsedTime: 100.3 seconds
RetCode: 0
Status:   OK  
CheckDir: bioassayR.Rcheck
Warnings: 0

Command output

##############################################################################
##############################################################################
###
### Running command:
###
###   /Library/Frameworks/R.framework/Resources/bin/R CMD check --install=check:bioassayR.install-out.txt --library=/Library/Frameworks/R.framework/Resources/library --no-vignettes --timings bioassayR_1.35.0.tar.gz
###
##############################################################################
##############################################################################


* using log directory ‘/Users/biocbuild/bbs-3.16-bioc/meat/bioassayR.Rcheck’
* using R version 4.2.0 Patched (2022-05-29 r82424)
* using platform: x86_64-apple-darwin17.0 (64-bit)
* using session charset: UTF-8
* using option ‘--no-vignettes’
* checking for file ‘bioassayR/DESCRIPTION’ ... OK
* checking extension type ... Package
* this is package ‘bioassayR’ version ‘1.35.0’
* checking package namespace information ... OK
* checking package dependencies ... OK
* checking if this is a source package ... OK
* checking if there is a namespace ... OK
* checking for hidden files and directories ... OK
* checking for portable file names ... OK
* checking for sufficient/correct file permissions ... OK
* checking whether package ‘bioassayR’ can be installed ... OK
* checking installed package size ... OK
* checking package directory ... OK
* checking ‘build’ directory ... OK
* checking DESCRIPTION meta-information ... OK
* checking top-level files ... OK
* checking for left-over files ... OK
* checking index information ... OK
* checking package subdirectories ... OK
* checking R files for non-ASCII characters ... OK
* checking R files for syntax errors ... OK
* checking whether the package can be loaded ... OK
* checking whether the package can be loaded with stated dependencies ... OK
* checking whether the package can be unloaded cleanly ... OK
* checking whether the namespace can be loaded with stated dependencies ... OK
* checking whether the namespace can be unloaded cleanly ... OK
* checking dependencies in R code ... OK
* checking S3 generic/method consistency ... OK
* checking replacement functions ... OK
* checking foreign function calls ... OK
* checking R code for possible problems ... OK
* checking Rd files ... OK
* checking Rd metadata ... OK
* checking Rd cross-references ... OK
* checking for missing documentation entries ... OK
* checking for code/documentation mismatches ... OK
* checking Rd \usage sections ... OK
* checking Rd contents ... OK
* checking for unstated dependencies in examples ... OK
* checking contents of ‘data’ directory ... OK
* checking data for non-ASCII characters ... OK
* checking data for ASCII and uncompressed saves ... OK
* checking line endings in Makefiles ... OK
* checking for GNU extensions in Makefiles ... OK
* checking include directives in Makefiles ... OK
* checking files in ‘vignettes’ ... OK
* checking examples ... OK
* checking for unstated dependencies in ‘tests’ ... OK
* checking tests ...
  Running ‘testthat.R’
 OK
* checking for unstated dependencies in vignettes ... OK
* checking package vignettes in ‘inst/doc’ ... OK
* checking running R code from vignettes ... SKIPPED
* checking re-building of vignette outputs ... SKIPPED
* checking PDF version of manual ... OK
* DONE

Status: OK


Installation output

bioassayR.Rcheck/00install.out

##############################################################################
##############################################################################
###
### Running command:
###
###   /Library/Frameworks/R.framework/Resources/bin/R CMD INSTALL bioassayR
###
##############################################################################
##############################################################################


* installing to library ‘/Library/Frameworks/R.framework/Versions/4.2/Resources/library’
* installing *source* package ‘bioassayR’ ...
** using staged installation
** R
** data
** inst
** byte-compile and prepare package for lazy loading
Creating a new generic function for ‘organism’ in package ‘bioassayR’
Creating a new generic function for ‘organism<-’ in package ‘bioassayR’
** help
*** installing help indices
** building package indices
** installing vignettes
** testing if installed package can be loaded from temporary location
** testing if installed package can be loaded from final location
** testing if installed package keeps a record of temporary installation path
* DONE (bioassayR)

Tests output

bioassayR.Rcheck/tests/testthat.Rout


R version 4.2.0 Patched (2022-05-29 r82424) -- "Vigorous Calisthenics"
Copyright (C) 2022 The R Foundation for Statistical Computing
Platform: x86_64-apple-darwin17.0 (64-bit)

R is free software and comes with ABSOLUTELY NO WARRANTY.
You are welcome to redistribute it under certain conditions.
Type 'license()' or 'licence()' for distribution details.

R is a collaborative project with many contributors.
Type 'contributors()' for more information and
'citation()' on how to cite R or R packages in publications.

Type 'demo()' for some demos, 'help()' for on-line help, or
'help.start()' for an HTML browser interface to help.
Type 'q()' to quit R.

> library(testthat)
> library(bioassayR)
Loading required package: DBI
Loading required package: RSQLite
Loading required package: Matrix
Loading required package: rjson
Loading required package: BiocGenerics

Attaching package: 'BiocGenerics'

The following objects are masked from 'package:stats':

    IQR, mad, sd, var, xtabs

The following objects are masked from 'package:base':

    Filter, Find, Map, Position, Reduce, anyDuplicated, append,
    as.data.frame, basename, cbind, colnames, dirname, do.call,
    duplicated, eval, evalq, get, grep, grepl, intersect, is.unsorted,
    lapply, mapply, match, mget, order, paste, pmax, pmax.int, pmin,
    pmin.int, rank, rbind, rownames, sapply, setdiff, sort, table,
    tapply, union, unique, unsplit, which.max, which.min


Attaching package: 'bioassayR'

The following objects are masked from 'package:BiocGenerics':

    organism, organism<-

> 
> test_check("bioassayR")
[ FAIL 0 | WARN 1 | SKIP 0 | PASS 22 ]

[ FAIL 0 | WARN 1 | SKIP 0 | PASS 22 ]
> 
> proc.time()
   user  system elapsed 
  4.676   0.371   5.060 

Example timings

bioassayR.Rcheck/bioassayR-Ex.timings

nameusersystemelapsed
BioAssayDB-class0.0020.0000.002
activeAgainst0.0250.0030.029
activeTargets0.0370.0010.038
addBioassayIndex0.0180.0100.034
addDataSource0.0190.0070.030
allCids0.0060.0010.008
allTargets0.0060.0010.008
assaySetTargets0.0600.0030.063
bioactivityFingerprint0.1590.0040.167
bioassay-class0.0160.0040.021
bioassaySet-class000
connectBioassayDB0.0130.0050.022
crossReactivityProbability0.1450.0030.149
disconnectBioassayDB0.0130.0050.021
dropBioassay0.0490.0120.069
dropBioassayIndex0.0290.0170.057
getAssay0.0090.0020.011
getAssays0.0460.0030.049
getBioassaySetByCids0.1510.0030.156
inactiveTargets0.0100.0010.011
loadBioassay0.0330.0100.071
loadIdMapping0.0160.0080.044
newBioassayDB0.0120.0060.021
parsePubChemBioassay0.0110.0030.013
perTargetMatrix0.1570.0030.161
queryBioassayDB0.0160.0210.038
samplebioassay0.0020.0020.004
scaleBioassaySet0.0260.0040.032
screenedAtLeast0.0110.0020.014
selectiveAgainst0.0890.0040.095
targetSelectivity0.0220.0020.025
translateTargetId0.0190.0080.030
trinarySimilarity0.1430.0020.144