Back to Multiple platform build/check report for BioC 3.18:   simplified   long
ABCDEFGHIJKLMNOPQRS[T]UVWXYZ

This page was generated on 2023-09-21 11:41:26 -0400 (Thu, 21 Sep 2023).

HostnameOSArch (*)R versionInstalled pkgs
nebbiolo2Linux (Ubuntu 22.04.2 LTS)x86_644.3.1 (2023-06-16) -- "Beagle Scouts" 4654
palomino4Windows Server 2022 Datacenterx644.3.1 (2023-06-16 ucrt) -- "Beagle Scouts" 4388
lconwaymacOS 12.6.5 Montereyx86_644.3.1 Patched (2023-06-17 r84564) -- "Beagle Scouts" 4402
kunpeng2Linux (openEuler 22.03 LTS-SP1)aarch644.3.1 (2023-06-16) -- "Beagle Scouts" 4391
Click on any hostname to see more info about the system (e.g. compilers)      (*) as reported by 'uname -p', except on Windows and Mac OS X

Package 2088/2229HostnameOS / ArchINSTALLBUILDCHECKBUILD BIN
TFBSTools 1.39.0  (landing page)
Ge Tan
Snapshot Date: 2023-09-20 14:05:05 -0400 (Wed, 20 Sep 2023)
git_url: https://git.bioconductor.org/packages/TFBSTools
git_branch: devel
git_last_commit: a1c5016
git_last_commit_date: 2023-04-25 10:29:19 -0400 (Tue, 25 Apr 2023)
nebbiolo2Linux (Ubuntu 22.04.2 LTS) / x86_64  OK    OK    OK  UNNEEDED, same version is already published
palomino4Windows Server 2022 Datacenter / x64  OK    OK    OK    OK  UNNEEDED, same version is already published
lconwaymacOS 12.6.5 Monterey / x86_64  OK    OK    OK    OK  UNNEEDED, same version is already published
kunpeng2Linux (openEuler 22.03 LTS-SP1) / aarch64  OK    OK    OK  

CHECK results for TFBSTools on kunpeng2


To the developers/maintainers of the TFBSTools package:
- Allow up to 24 hours (and sometimes 48 hours) for your latest push to git@git.bioconductor.org:packages/TFBSTools.git to reflect on this report. See Troubleshooting Build Report for more information.
- Use the following Renviron settings to reproduce errors and warnings.
- If 'R CMD check' started to fail recently on the Linux builder(s) over a missing dependency, add the missing dependency to 'Suggests:' in your DESCRIPTION file. See Renviron.bioc for more information.
- See Martin Grigorov's blog post for how to debug Linux ARM64 related issues on a x86_64 host.

raw results


Summary

Package: TFBSTools
Version: 1.39.0
Command: /home/biocbuild/R/R-4.3.1/bin/R CMD check --install=check:TFBSTools.install-out.txt --library=/home/biocbuild/R/R-4.3.1/site-library --timings TFBSTools_1.39.0.tar.gz
StartedAt: 2023-09-21 11:12:14 -0000 (Thu, 21 Sep 2023)
EndedAt: 2023-09-21 11:21:23 -0000 (Thu, 21 Sep 2023)
EllapsedTime: 549.0 seconds
RetCode: 0
Status:   OK  
CheckDir: TFBSTools.Rcheck
Warnings: 0

Command output

##############################################################################
##############################################################################
###
### Running command:
###
###   /home/biocbuild/R/R-4.3.1/bin/R CMD check --install=check:TFBSTools.install-out.txt --library=/home/biocbuild/R/R-4.3.1/site-library --timings TFBSTools_1.39.0.tar.gz
###
##############################################################################
##############################################################################


* using log directory ‘/home/biocbuild/bbs-3.18-bioc/meat/TFBSTools.Rcheck’
* using R version 4.3.1 (2023-06-16)
* using platform: aarch64-unknown-linux-gnu (64-bit)
* R was compiled by
    gcc (GCC) 10.3.1
    GNU Fortran (GCC) 10.3.1
* running under: openEuler 22.03 (LTS-SP1)
* using session charset: UTF-8
* checking for file ‘TFBSTools/DESCRIPTION’ ... OK
* checking extension type ... Package
* this is package ‘TFBSTools’ version ‘1.39.0’
* checking package namespace information ... OK
* checking package dependencies ... OK
* checking if this is a source package ... OK
* checking if there is a namespace ... OK
* checking for hidden files and directories ... OK
* checking for portable file names ... OK
* checking for sufficient/correct file permissions ... OK
* checking whether package ‘TFBSTools’ can be installed ... OK
* used C compiler: ‘gcc (GCC) 10.3.1’
* checking installed package size ... OK
* checking package directory ... OK
* checking ‘build’ directory ... OK
* checking DESCRIPTION meta-information ... OK
* checking top-level files ... OK
* checking for left-over files ... OK
* checking index information ... OK
* checking package subdirectories ... OK
* checking R files for non-ASCII characters ... OK
* checking R files for syntax errors ... OK
* checking whether the package can be loaded ... OK
* checking whether the package can be loaded with stated dependencies ... OK
* checking whether the package can be unloaded cleanly ... OK
* checking whether the namespace can be loaded with stated dependencies ... OK
* checking whether the namespace can be unloaded cleanly ... OK
* checking loading without being on the library search path ... OK
* checking dependencies in R code ... NOTE
Unexported objects imported by ':::' calls:
  ‘S4Vectors:::new_SimpleList_from_list’ ‘seqLogo:::pwm2ic’
  See the note in ?`:::` about the use of this operator.
* checking S3 generic/method consistency ... OK
* checking replacement functions ... OK
* checking foreign function calls ... OK
* checking R code for possible problems ... OK
* checking Rd files ... OK
* checking Rd metadata ... OK
* checking Rd cross-references ... OK
* checking for missing documentation entries ... OK
* checking for code/documentation mismatches ... OK
* checking Rd \usage sections ... OK
* checking Rd contents ... OK
* checking for unstated dependencies in examples ... OK
* checking contents of ‘data’ directory ... OK
* checking data for non-ASCII characters ... OK
* checking LazyData ... OK
* checking data for ASCII and uncompressed saves ... OK
* checking line endings in C/C++/Fortran sources/headers ... OK
* checking line endings in Makefiles ... OK
* checking compilation flags in Makevars ... OK
* checking for GNU extensions in Makefiles ... OK
* checking for portable use of $(BLAS_LIBS) and $(LAPACK_LIBS) ... OK
* checking use of PKG_*FLAGS in Makefiles ... OK
* checking compiled code ... NOTE
Note: information on .o files is not available
* checking files in ‘vignettes’ ... OK
* checking examples ... OK
Examples with CPU (user + system) or elapsed time > 5s
                        user system elapsed
SiteSetList-class     79.510  0.195  79.838
searchAln-methods     13.172  0.156  13.357
toGRangesList-methods 11.623  0.044  11.691
SiteSet-class         10.735  0.215  10.971
* checking for unstated dependencies in ‘tests’ ... OK
* checking tests ...
  Running ‘testthat.R’
 OK
* checking for unstated dependencies in vignettes ... OK
* checking package vignettes in ‘inst/doc’ ... OK
* checking running R code from vignettes ...
  ‘TFBSTools.Rmd’ using ‘UTF-8’... OK
 NONE
* checking re-building of vignette outputs ... OK
* checking PDF version of manual ... OK
* DONE

Status: 2 NOTEs
See
  ‘/home/biocbuild/bbs-3.18-bioc/meat/TFBSTools.Rcheck/00check.log’
for details.



Installation output

TFBSTools.Rcheck/00install.out

##############################################################################
##############################################################################
###
### Running command:
###
###   /home/biocbuild/R/R-4.3.1/bin/R CMD INSTALL TFBSTools
###
##############################################################################
##############################################################################


* installing to library ‘/home/biocbuild/R/R-4.3.1/site-library’
* installing *source* package ‘TFBSTools’ ...
** using staged installation
** libs
using C compiler: ‘gcc (GCC) 10.3.1’
gcc -I"/home/biocbuild/R/R-4.3.1/include" -DNDEBUG   -I/usr/local/include    -fPIC  -g -O2  -Wall -c matrixAlignerDynamic.c -o matrixAlignerDynamic.o
matrixAlignerDynamic.c: In function ‘score’:
matrixAlignerDynamic.c:235:22: warning: ‘best_pntr’ may be used uninitialized in this function [-Wmaybe-uninitialized]
  235 |   while (current_pntr->father != NULL){ // while the father of the current pointer exists, walk through the best posible alignment
      |          ~~~~~~~~~~~~^~~~~~~~
gcc -I"/home/biocbuild/R/R-4.3.1/include" -DNDEBUG   -I/usr/local/include    -fPIC  -g -O2  -Wall -c R_init_TFBSTools.c -o R_init_TFBSTools.o
gcc -shared -L/home/biocbuild/R/R-4.3.1/lib -L/usr/local/lib -o TFBSTools.so matrixAlignerDynamic.o R_init_TFBSTools.o -L/home/biocbuild/R/R-4.3.1/lib -lR
installing to /home/biocbuild/R/R-4.3.1/site-library/00LOCK-TFBSTools/00new/TFBSTools/libs
** R
** data
*** moving datasets to lazyload DB
** inst
** byte-compile and prepare package for lazy loading
Creating a new generic function for ‘seqLogo’ in package ‘TFBSTools’
Creating a generic function for ‘colSums’ from package ‘base’ in package ‘TFBSTools’
Creating a generic function for ‘rowSums’ from package ‘base’ in package ‘TFBSTools’
** help
*** installing help indices
** building package indices
** installing vignettes
** testing if installed package can be loaded from temporary location
** checking absolute paths in shared objects and dynamic libraries
** testing if installed package can be loaded from final location
** testing if installed package keeps a record of temporary installation path
* DONE (TFBSTools)

Tests output

TFBSTools.Rcheck/tests/testthat.Rout


R version 4.3.1 (2023-06-16) -- "Beagle Scouts"
Copyright (C) 2023 The R Foundation for Statistical Computing
Platform: aarch64-unknown-linux-gnu (64-bit)

R is free software and comes with ABSOLUTELY NO WARRANTY.
You are welcome to redistribute it under certain conditions.
Type 'license()' or 'licence()' for distribution details.

R is a collaborative project with many contributors.
Type 'contributors()' for more information and
'citation()' on how to cite R or R packages in publications.

Type 'demo()' for some demos, 'help()' for on-line help, or
'help.start()' for an HTML browser interface to help.
Type 'q()' to quit R.

> library(testthat)
> library(TFBSTools)

> 
> test_check("TFBSTools")
[ FAIL 0 | WARN 0 | SKIP 0 | PASS 34 ]
> 
> proc.time()
   user  system elapsed 
 18.667   0.732  19.423 

Example timings

TFBSTools.Rcheck/TFBSTools-Ex.timings

nameusersystemelapsed
IUPAC2Matrix0.0020.0000.001
MA0004.10.0050.0000.004
MotifSet-class000
PFMSimilarity-methods0.3190.0100.370
PWMSimilarity-methods0.0110.0000.010
SiteSet-class10.735 0.21510.971
SiteSetList-class79.510 0.19579.838
TFFM-class0.0370.0000.037
XMatrix-class0.0180.0000.018
XMatrixList-class0.0030.0000.004
deleteMatrixHavingID-methods0.0900.0080.099
dmmEM-methods000
getEmissionProb0.2580.0040.263
getMatrixByID-methods0.2640.0070.299
getMatrixSet-methods0.0000.0010.000
getPosProb0.2690.0000.271
makeFlatFileDir000
parseMEMEOutput0.1970.0120.211
permuteMatrix-methods0.0780.0000.078
rPWMDmm-methods000
readJASPARMatrix0.0150.0000.016
readXMLTFFM0.0290.0000.029
runMEME-methods000
sampleRanges0.3520.0080.361
searchAln-methods13.172 0.15613.357
searchPairBSgenome-methods000
searchSeq-methods1.3610.0001.363
seqLogo0.8760.0600.937
shannon.entropy000
toGRangesList-methods11.623 0.04411.691
toICM-methods0.0130.0000.013
toPWM-methods0.0090.0000.009