Back to Multiple platform build/check report for BioC 3.15
A[B]CDEFGHIJKLMNOPQRSTUVWXYZ

This page was generated on 2022-01-26 11:05:42 -0500 (Wed, 26 Jan 2022).

HostnameOSArch (*)R versionInstalled pkgs
nebbiolo1Linux (Ubuntu 20.04.4 LTS)x86_64R Under development (unstable) (2022-01-05 r81451) -- "Unsuffered Consequences" 4164
riesling1Windows Server 2019 Standardx64R Under development (unstable) (2021-11-21 r81221) -- "Unsuffered Consequences" 4059
palomino3Windows Server 2022 Datacenterx64R Under development (unstable) (2021-12-21 r81400 ucrt) -- "Unsuffered Consequences" 4001
merida1macOS 10.14.6 Mojavex86_64R Under development (unstable) (2022-01-05 r81451) -- "Unsuffered Consequences" 4118
Click on any hostname to see more info about the system (e.g. compilers)      (*) as reported by 'uname -p', except on Windows and Mac OS X

INSTALL results for biovizBase on nebbiolo1


To the developers/maintainers of the biovizBase package:
- Please allow up to 24 hours (and sometimes 48 hours) for your latest push to git@git.bioconductor.org:packages/biovizBase.git to
reflect on this report. See How and When does the builder pull? When will my changes propagate? here for more information.
- Make sure to use the following settings in order to reproduce any error or warning you see on this page.

raw results

Package 193/2075HostnameOS / ArchINSTALLBUILDCHECKBUILD BIN
biovizBase 1.43.1  (landing page)
Michael Lawrence
Snapshot Date: 2022-01-25 13:55:17 -0500 (Tue, 25 Jan 2022)
git_url: https://git.bioconductor.org/packages/biovizBase
git_branch: master
git_last_commit: d459e88
git_last_commit_date: 2021-11-17 08:55:41 -0500 (Wed, 17 Nov 2021)
nebbiolo1Linux (Ubuntu 20.04.4 LTS) / x86_64  OK    OK    WARNINGS  UNNEEDED, same version is already published
riesling1Windows Server 2019 Standard / x64  OK    OK    WARNINGS    OK  
palomino3Windows Server 2022 Datacenter / x64  OK    OK    WARNINGS    OK  NO, package depends on 'BiocGenerics' which is not available
merida1macOS 10.14.6 Mojave / x86_64  OK    OK    WARNINGS    OK  UNNEEDED, same version is already published

Summary

Package: biovizBase
Version: 1.43.1
Command: /home/biocbuild/bbs-3.15-bioc/R/bin/R CMD INSTALL biovizBase
StartedAt: 2022-01-25 15:35:39 -0500 (Tue, 25 Jan 2022)
EndedAt: 2022-01-25 15:36:17 -0500 (Tue, 25 Jan 2022)
EllapsedTime: 38.0 seconds
RetCode: 0
Status:   OK  

Command output

##############################################################################
##############################################################################
###
### Running command:
###
###   /home/biocbuild/bbs-3.15-bioc/R/bin/R CMD INSTALL biovizBase
###
##############################################################################
##############################################################################


* installing to library ‘/home/biocbuild/bbs-3.15-bioc/R/library’
* installing *source* package ‘biovizBase’ ...
** using staged installation
** libs
gcc -I"/home/biocbuild/bbs-3.15-bioc/R/include" -DNDEBUG   -I/usr/local/include   -fpic  -g -O2  -Wall -c R_init_biovizBase.c -o R_init_biovizBase.o
gcc -I"/home/biocbuild/bbs-3.15-bioc/R/include" -DNDEBUG   -I/usr/local/include   -fpic  -g -O2  -Wall -c bin_offsets.c -o bin_offsets.o
bin_offsets.c: In function ‘scan_bam_bin_offsets’:
bin_offsets.c:57:15: warning: pointer targets in passing argument 1 of ‘strncmp’ differ in signedness [-Wpointer-sign]
   57 |   if (strncmp(b, "BAI\1", 4))
      |               ^
      |               |
      |               Rbyte * {aka unsigned char *}
In file included from /home/biocbuild/bbs-3.15-bioc/R/include/R_ext/RS.h:34,
                 from /home/biocbuild/bbs-3.15-bioc/R/include/Rdefines.h:38,
                 from bin_offsets.h:1,
                 from bin_offsets.c:3:
/usr/include/string.h:140:33: note: expected ‘const char *’ but argument is of type ‘Rbyte *’ {aka ‘unsigned char *’}
  140 | extern int strncmp (const char *__s1, const char *__s2, size_t __n)
      |                     ~~~~~~~~~~~~^~~~
gcc -shared -L/home/biocbuild/bbs-3.15-bioc/R/lib -L/usr/local/lib -o biovizBase.so R_init_biovizBase.o bin_offsets.o -L/home/biocbuild/bbs-3.15-bioc/R/lib -lR
installing to /home/biocbuild/bbs-3.15-bioc/R/library/00LOCK-biovizBase/00new/biovizBase/libs
** R
** data
*** moving datasets to lazyload DB
** inst
** byte-compile and prepare package for lazy loading
** help
*** installing help indices
** building package indices
** installing vignettes
** testing if installed package can be loaded from temporary location
** checking absolute paths in shared objects and dynamic libraries
** testing if installed package can be loaded from final location
** testing if installed package keeps a record of temporary installation path
* DONE (biovizBase)