Back to Multiple platform build/check report for BioC 3.17:   simplified   long
ABC[D]EFGHIJKLMNOPQRSTUVWXYZ

This page was generated on 2023-02-06 11:05:05 -0500 (Mon, 06 Feb 2023).

HostnameOSArch (*)R versionInstalled pkgs
nebbiolo1Linux (Ubuntu 22.04.1 LTS)x86_64R Under development (unstable) (2023-01-10 r83596) -- "Unsuffered Consequences" 4483
palomino3Windows Server 2022 Datacenterx64R Under development (unstable) (2023-01-10 r83596 ucrt) -- "Unsuffered Consequences" 4249
merida1macOS 10.14.6 Mojavex86_64R Under development (unstable) (2023-01-10 r83596) -- "Unsuffered Consequences" 4272
Click on any hostname to see more info about the system (e.g. compilers)      (*) as reported by 'uname -p', except on Windows and Mac OS X

CHECK results for derfinder on nebbiolo1


To the developers/maintainers of the derfinder package:
- Please allow up to 24 hours (and sometimes 48 hours) for your latest push to git@git.bioconductor.org:packages/derfinder.git to
reflect on this report. See How and When does the builder pull? When will my changes propagate? for more information.
- Make sure to use the following settings in order to reproduce any error or warning you see on this page.

raw results

Package 509/2164HostnameOS / ArchINSTALLBUILDCHECKBUILD BIN
derfinder 1.33.0  (landing page)
Leonardo Collado-Torres
Snapshot Date: 2023-02-05 14:00:11 -0500 (Sun, 05 Feb 2023)
git_url: https://git.bioconductor.org/packages/derfinder
git_branch: master
git_last_commit: 4da8676
git_last_commit_date: 2022-11-01 11:10:24 -0500 (Tue, 01 Nov 2022)
nebbiolo1Linux (Ubuntu 22.04.1 LTS) / x86_64  OK    OK    OK  UNNEEDED, same version is already published
palomino3Windows Server 2022 Datacenter / x64  OK    OK    OK    OK  UNNEEDED, same version is already published
merida1macOS 10.14.6 Mojave / x86_64  OK    OK    OK    OK  UNNEEDED, same version is already published

Summary

Package: derfinder
Version: 1.33.0
Command: /home/biocbuild/bbs-3.17-bioc/R/bin/R CMD check --install=check:derfinder.install-out.txt --library=/home/biocbuild/bbs-3.17-bioc/R/library --timings derfinder_1.33.0.tar.gz
StartedAt: 2023-02-05 20:09:58 -0500 (Sun, 05 Feb 2023)
EndedAt: 2023-02-05 20:22:43 -0500 (Sun, 05 Feb 2023)
EllapsedTime: 765.6 seconds
RetCode: 0
Status:   OK  
CheckDir: derfinder.Rcheck
Warnings: 0

Command output

##############################################################################
##############################################################################
###
### Running command:
###
###   /home/biocbuild/bbs-3.17-bioc/R/bin/R CMD check --install=check:derfinder.install-out.txt --library=/home/biocbuild/bbs-3.17-bioc/R/library --timings derfinder_1.33.0.tar.gz
###
##############################################################################
##############################################################################


* using log directory ‘/home/biocbuild/bbs-3.17-bioc/meat/derfinder.Rcheck’
* using R Under development (unstable) (2023-01-10 r83596)
* using platform: x86_64-pc-linux-gnu (64-bit)
* R was compiled by
    gcc (Ubuntu 11.3.0-1ubuntu1~22.04) 11.3.0
    GNU Fortran (Ubuntu 11.3.0-1ubuntu1~22.04) 11.3.0
* running under: Ubuntu 22.04.1 LTS
* using session charset: UTF-8
* checking for file ‘derfinder/DESCRIPTION’ ... OK
* checking extension type ... Package
* this is package ‘derfinder’ version ‘1.33.0’
* package encoding: UTF-8
* checking package namespace information ... OK
* checking package dependencies ... OK
* checking if this is a source package ... OK
* checking if there is a namespace ... OK
* checking for hidden files and directories ... OK
* checking for portable file names ... OK
* checking for sufficient/correct file permissions ... OK
* checking whether package ‘derfinder’ can be installed ... OK
* checking installed package size ... OK
* checking package directory ... OK
* checking ‘build’ directory ... OK
* checking DESCRIPTION meta-information ... OK
* checking top-level files ... OK
* checking for left-over files ... OK
* checking index information ... OK
* checking package subdirectories ... OK
* checking R files for non-ASCII characters ... OK
* checking R files for syntax errors ... OK
* checking whether the package can be loaded ... OK
* checking whether the package can be loaded with stated dependencies ... OK
* checking whether the package can be unloaded cleanly ... OK
* checking whether the namespace can be loaded with stated dependencies ... OK
* checking whether the namespace can be unloaded cleanly ... OK
* checking dependencies in R code ... NOTE
Unexported objects imported by ':::' calls:
  ‘GenomeInfoDb:::.guessSpeciesStyle’
  ‘GenomeInfoDb:::.supportedSeqnameMappings’
  See the note in ?`:::` about the use of this operator.
There are ::: calls to the package's namespace in its code. A package
  almost never needs to use ::: for its own objects:
  ‘.smootherFstats’
* checking S3 generic/method consistency ... OK
* checking replacement functions ... OK
* checking foreign function calls ... OK
* checking R code for possible problems ... OK
* checking Rd files ... OK
* checking Rd metadata ... OK
* checking Rd cross-references ... OK
* checking for missing documentation entries ... OK
* checking for code/documentation mismatches ... OK
* checking Rd \usage sections ... OK
* checking Rd contents ... OK
* checking for unstated dependencies in examples ... OK
* checking contents of ‘data’ directory ... OK
* checking data for non-ASCII characters ... OK
* checking LazyData ... OK
* checking data for ASCII and uncompressed saves ... OK
* checking files in ‘vignettes’ ... OK
* checking examples ... OK
Examples with CPU (user + system) or elapsed time > 5s
                user system elapsed
railMatrix     9.487  0.396   9.904
coverageToExon 5.254  0.648   5.903
* checking for unstated dependencies in ‘tests’ ... OK
* checking tests ...
  Running ‘test-all.R’
 OK
* checking for unstated dependencies in vignettes ... OK
* checking package vignettes in ‘inst/doc’ ... OK
* checking running R code from vignettes ...
  ‘derfinder-quickstart.Rmd’ using ‘UTF-8’... OK
  ‘derfinder-users-guide.Rmd’ using ‘UTF-8’... OK
 NONE
* checking re-building of vignette outputs ... OK
* checking PDF version of manual ... OK
* DONE

Status: 1 NOTE
See
  ‘/home/biocbuild/bbs-3.17-bioc/meat/derfinder.Rcheck/00check.log’
for details.



Installation output

derfinder.Rcheck/00install.out

##############################################################################
##############################################################################
###
### Running command:
###
###   /home/biocbuild/bbs-3.17-bioc/R/bin/R CMD INSTALL derfinder
###
##############################################################################
##############################################################################


* installing to library ‘/home/biocbuild/bbs-3.17-bioc/R/library’
* installing *source* package ‘derfinder’ ...
** using staged installation
** R
** data
*** moving datasets to lazyload DB
** inst
** byte-compile and prepare package for lazy loading
** help
*** installing help indices
** building package indices
** installing vignettes
** testing if installed package can be loaded from temporary location
** testing if installed package can be loaded from final location
** testing if installed package keeps a record of temporary installation path
* DONE (derfinder)

Tests output

derfinder.Rcheck/tests/test-all.Rout


R Under development (unstable) (2023-01-10 r83596) -- "Unsuffered Consequences"
Copyright (C) 2023 The R Foundation for Statistical Computing
Platform: x86_64-pc-linux-gnu (64-bit)

R is free software and comes with ABSOLUTELY NO WARRANTY.
You are welcome to redistribute it under certain conditions.
Type 'license()' or 'licence()' for distribution details.

R is a collaborative project with many contributors.
Type 'contributors()' for more information and
'citation()' on how to cite R or R packages in publications.

Type 'demo()' for some demos, 'help()' for on-line help, or
'help.start()' for an HTML browser interface to help.
Type 'q()' to quit R.

> ## Disable the tests if the system variable 'R_DISABLE_TESTS' is set to TRUE
> 
> flag <- as.logical(Sys.getenv("R_DISABLE_TESTS"))
> if (is.na(flag) | flag == FALSE) {
+     library("testthat")
+     test_check("derfinder")
+ }
Loading required package: derfinder
class: SerialParam
  bpisup: FALSE; bpnworkers: 1; bptasks: 0; bpjobname: BPJOB
  bplog: FALSE; bpthreshold: INFO; bpstopOnError: TRUE
  bpRNGseed: ; bptimeout: NA; bpprogressbar: FALSE
  bpexportglobals: FALSE; bpexportvariables: FALSE; bpforceGC: FALSE
  bpfallback: FALSE
  bplogdir: NA
  bpresultdir: NA
Error in x$.self$finalize() : attempt to apply non-function
class: SerialParam
  bpisup: FALSE; bpnworkers: 1; bptasks: 0; bpjobname: BPJOB
  bplog: FALSE; bpthreshold: INFO; bpstopOnError: TRUE
  bpRNGseed: ; bptimeout: NA; bpprogressbar: FALSE
  bpexportglobals: FALSE; bpexportvariables: FALSE; bpforceGC: FALSE
  bpfallback: FALSE
  bplogdir: NA
  bpresultdir: NA
class: SerialParam
  bpisup: FALSE; bpnworkers: 1; bptasks: 0; bpjobname: BPJOB
  bplog: FALSE; bpthreshold: INFO; bpstopOnError: TRUE
  bpRNGseed: ; bptimeout: NA; bpprogressbar: FALSE
  bpexportglobals: FALSE; bpexportvariables: FALSE; bpforceGC: FALSE
  bpfallback: FALSE
  bplogdir: NA
  bpresultdir: NA
class: SerialParam
  bpisup: FALSE; bpnworkers: 1; bptasks: 0; bpjobname: BPJOB
  bplog: FALSE; bpthreshold: INFO; bpstopOnError: TRUE
  bpRNGseed: ; bptimeout: NA; bpprogressbar: FALSE
  bpexportglobals: FALSE; bpexportvariables: FALSE; bpforceGC: FALSE
  bpfallback: FALSE
  bplogdir: NA
  bpresultdir: NA
class: SerialParam
  bpisup: FALSE; bpnworkers: 1; bptasks: 0; bpjobname: BPJOB
  bplog: FALSE; bpthreshold: INFO; bpstopOnError: TRUE
  bpRNGseed: ; bptimeout: NA; bpprogressbar: FALSE
  bpexportglobals: FALSE; bpexportvariables: FALSE; bpforceGC: FALSE
  bpfallback: FALSE
  bplogdir: NA
  bpresultdir: NA
class: SerialParam
  bpisup: FALSE; bpnworkers: 1; bptasks: 0; bpjobname: BPJOB
  bplog: FALSE; bpthreshold: INFO; bpstopOnError: TRUE
  bpRNGseed: ; bptimeout: NA; bpprogressbar: FALSE
  bpexportglobals: FALSE; bpexportvariables: FALSE; bpforceGC: FALSE
  bpfallback: FALSE
  bplogdir: NA
  bpresultdir: NA
class: SerialParam
  bpisup: FALSE; bpnworkers: 1; bptasks: 0; bpjobname: BPJOB
  bplog: FALSE; bpthreshold: INFO; bpstopOnError: TRUE
  bpRNGseed: ; bptimeout: NA; bpprogressbar: FALSE
  bpexportglobals: FALSE; bpexportvariables: FALSE; bpforceGC: FALSE
  bpfallback: FALSE
  bplogdir: NA
  bpresultdir: NA
class: SerialParam
  bpisup: FALSE; bpnworkers: 1; bptasks: 0; bpjobname: BPJOB
  bplog: FALSE; bpthreshold: INFO; bpstopOnError: TRUE
  bpRNGseed: ; bptimeout: NA; bpprogressbar: FALSE
  bpexportglobals: FALSE; bpexportvariables: FALSE; bpforceGC: FALSE
  bpfallback: FALSE
  bplogdir: NA
  bpresultdir: NA
[ FAIL 0 | WARN 0 | SKIP 0 | PASS 137 ]
Warning message:
call dbDisconnect() when finished working with a connection 
> 
> proc.time()
   user  system elapsed 
229.471   8.972 238.676 

Example timings

derfinder.Rcheck/derfinder-Ex.timings

nameusersystemelapsed
analyzeChr1.4200.0561.477
annotateRegions0.3200.0080.328
calculatePvalues1.0530.0321.085
calculateStats0.6460.0070.654
coerceGR0.0880.0000.088
collapseFullCoverage0.0060.0040.009
coverageToExon5.2540.6485.903
createBw0.1720.0000.172
createBwSample0.0580.0000.057
define_cluster0.0050.0000.005
derfinder-deprecated0.0020.0000.002
extendedMapSeqlevels0.0580.0080.065
filterData0.1280.0000.128
findRegions0.6400.0240.664
fullCoverage0.2300.0040.234
getRegionCoverage0.2990.0160.607
getTotalMapped0.0090.0000.010
loadCoverage0.1580.0070.165
makeGenomicState3.6830.1053.786
makeModels0.0140.0020.016
mergeResults0.3530.0170.371
preprocessCoverage0.4800.0010.479
railMatrix9.4870.3969.904
rawFiles0.0020.0000.002
regionMatrix0.8560.0320.888
sampleDepth0.0120.0000.013