Back to Multiple platform build/check report for BioC 3.17:   simplified   long
ABCDEFGHIJKL[M]NOPQRSTUVWXYZ

This page was generated on 2023-03-20 11:05:11 -0400 (Mon, 20 Mar 2023).

HostnameOSArch (*)R versionInstalled pkgs
nebbiolo1Linux (Ubuntu 22.04.1 LTS)x86_64R Under development (unstable) (2023-03-16 r83996) -- "Unsuffered Consequences" 4297
palomino3Windows Server 2022 Datacenterx64R Under development (unstable) (2023-03-15 r83984 ucrt) -- "Unsuffered Consequences" 4286
merida1macOS 10.14.6 Mojavex86_64R Under development (unstable) (2023-03-16 r83985) -- "Unsuffered Consequences" 4150
Click on any hostname to see more info about the system (e.g. compilers)      (*) as reported by 'uname -p', except on Windows and Mac OS X

CHECK results for microbiomeMarker on nebbiolo1


To the developers/maintainers of the microbiomeMarker package:
- Please allow up to 24 hours (and sometimes 48 hours) for your latest push to git@git.bioconductor.org:packages/microbiomeMarker.git to
reflect on this report. See How and When does the builder pull? When will my changes propagate? for more information.
- Make sure to use the following settings in order to reproduce any error or warning you see on this page.

raw results

Package 1202/2189HostnameOS / ArchINSTALLBUILDCHECKBUILD BIN
microbiomeMarker 1.5.0  (landing page)
Yang Cao
Snapshot Date: 2023-03-19 14:00:12 -0400 (Sun, 19 Mar 2023)
git_url: https://git.bioconductor.org/packages/microbiomeMarker
git_branch: master
git_last_commit: 9ef4bd2
git_last_commit_date: 2022-11-01 11:25:50 -0400 (Tue, 01 Nov 2022)
nebbiolo1Linux (Ubuntu 22.04.1 LTS) / x86_64  OK    OK    OK  UNNEEDED, same version is already published
palomino3Windows Server 2022 Datacenter / x64  OK    OK    OK    OK  UNNEEDED, same version is already published
merida1macOS 10.14.6 Mojave / x86_64  OK    OK    OK    OK  NO, package depends on 'ANCOMBC' which is not available

Summary

Package: microbiomeMarker
Version: 1.5.0
Command: /home/biocbuild/bbs-3.17-bioc/R/bin/R CMD check --install=check:microbiomeMarker.install-out.txt --library=/home/biocbuild/bbs-3.17-bioc/R/site-library --timings microbiomeMarker_1.5.0.tar.gz
StartedAt: 2023-03-19 21:42:27 -0400 (Sun, 19 Mar 2023)
EndedAt: 2023-03-19 21:54:07 -0400 (Sun, 19 Mar 2023)
EllapsedTime: 700.1 seconds
RetCode: 0
Status:   OK  
CheckDir: microbiomeMarker.Rcheck
Warnings: 0

Command output

##############################################################################
##############################################################################
###
### Running command:
###
###   /home/biocbuild/bbs-3.17-bioc/R/bin/R CMD check --install=check:microbiomeMarker.install-out.txt --library=/home/biocbuild/bbs-3.17-bioc/R/site-library --timings microbiomeMarker_1.5.0.tar.gz
###
##############################################################################
##############################################################################


* using log directory ‘/home/biocbuild/bbs-3.17-bioc/meat/microbiomeMarker.Rcheck’
* using R Under development (unstable) (2023-03-16 r83996)
* using platform: x86_64-pc-linux-gnu (64-bit)
* R was compiled by
    gcc (Ubuntu 11.3.0-1ubuntu1~22.04) 11.3.0
    GNU Fortran (Ubuntu 11.3.0-1ubuntu1~22.04) 11.3.0
* running under: Ubuntu 22.04.2 LTS
* using session charset: UTF-8
* checking for file ‘microbiomeMarker/DESCRIPTION’ ... OK
* this is package ‘microbiomeMarker’ version ‘1.5.0’
* package encoding: UTF-8
* checking package namespace information ... OK
* checking package dependencies ... OK
* checking if this is a source package ... OK
* checking if there is a namespace ... OK
* checking for hidden files and directories ... OK
* checking for portable file names ... OK
* checking for sufficient/correct file permissions ... OK
* checking whether package ‘microbiomeMarker’ can be installed ... OK
* checking installed package size ... OK
* checking package directory ... OK
* checking ‘build’ directory ... OK
* checking DESCRIPTION meta-information ... OK
* checking top-level files ... OK
* checking for left-over files ... OK
* checking index information ... OK
* checking package subdirectories ... OK
* checking R files for non-ASCII characters ... OK
* checking R files for syntax errors ... OK
* checking whether the package can be loaded ... OK
* checking whether the package can be loaded with stated dependencies ... OK
* checking whether the package can be unloaded cleanly ... OK
* checking whether the namespace can be loaded with stated dependencies ... OK
* checking whether the namespace can be unloaded cleanly ... OK
* checking loading without being on the library search path ... OK
* checking dependencies in R code ... OK
* checking S3 generic/method consistency ... OK
* checking replacement functions ... OK
* checking foreign function calls ... OK
* checking R code for possible problems ... OK
* checking Rd files ... OK
* checking Rd metadata ... OK
* checking Rd cross-references ... OK
* checking for missing documentation entries ... OK
* checking for code/documentation mismatches ... OK
* checking Rd \usage sections ... OK
* checking Rd contents ... OK
* checking for unstated dependencies in examples ... OK
* checking contents of ‘data’ directory ... OK
* checking data for non-ASCII characters ... OK
* checking data for ASCII and uncompressed saves ... OK
* checking R/sysdata.rda ... OK
* checking files in ‘vignettes’ ... OK
* checking examples ... OK
Examples with CPU (user + system) or elapsed time > 5s
                 user system elapsed
plot_cladogram 10.118  0.256  10.374
run_ancombc     9.262  0.213  31.418
run_aldex       8.621  0.252   8.874
run_lefse       7.176  0.148   7.324
run_deseq2      6.313  0.024   6.337
plot_heatmap    5.929  0.120   6.049
* checking for unstated dependencies in ‘tests’ ... OK
* checking tests ...
  Running ‘testthat.R’
 OK
* checking for unstated dependencies in vignettes ... OK
* checking package vignettes in ‘inst/doc’ ... OK
* checking running R code from vignettes ...
  ‘microbiomeMarker-vignette.Rmd’ using ‘UTF-8’... OK
 NONE
* checking re-building of vignette outputs ... OK
* checking PDF version of manual ... OK
* DONE

Status: OK


Installation output

microbiomeMarker.Rcheck/00install.out

##############################################################################
##############################################################################
###
### Running command:
###
###   /home/biocbuild/bbs-3.17-bioc/R/bin/R CMD INSTALL microbiomeMarker
###
##############################################################################
##############################################################################


* installing to library ‘/home/biocbuild/bbs-3.17-bioc/R/site-library’
* installing *source* package ‘microbiomeMarker’ ...
** using staged installation
** R
** data
** inst
** byte-compile and prepare package for lazy loading
** help
*** installing help indices
*** copying figures
** building package indices
** installing vignettes
** testing if installed package can be loaded from temporary location
** testing if installed package can be loaded from final location
** testing if installed package keeps a record of temporary installation path
* DONE (microbiomeMarker)

Tests output

microbiomeMarker.Rcheck/tests/testthat.Rout


R Under development (unstable) (2023-03-16 r83996) -- "Unsuffered Consequences"
Copyright (C) 2023 The R Foundation for Statistical Computing
Platform: x86_64-pc-linux-gnu (64-bit)

R is free software and comes with ABSOLUTELY NO WARRANTY.
You are welcome to redistribute it under certain conditions.
Type 'license()' or 'licence()' for distribution details.

R is a collaborative project with many contributors.
Type 'contributors()' for more information and
'citation()' on how to cite R or R packages in publications.

Type 'demo()' for some demos, 'help()' for on-line help, or
'help.start()' for an HTML browser interface to help.
Type 'q()' to quit R.

> library(testthat)
> library(microbiomeMarker)
> 
> test_check("microbiomeMarker")
operating in serial mode
computing center with all features
New names:
* `` -> `...1`
* `` -> `...2`
* `` -> `...3`
* `` -> `...4`
* `` -> `...5`
* `` -> `...6`
* `` -> `...7`
* `` -> `...8`
* `` -> `...9`
* `` -> `...10`
* `` -> `...11`
* `` -> `...12`
New names:
* `` -> `...1`
* `` -> `...2`
* `` -> `...3`
* `` -> `...4`
* `` -> `...5`
* `` -> `...6`
* `` -> `...7`
* `` -> `...8`
* `` -> `...9`
* `` -> `...10`
* `` -> `...11`
* `` -> `...12`
operating in serial mode
New names:
* `` -> `...1`
* `` -> `...2`
* `` -> `...3`
* `` -> `...4`
* `` -> `...5`
* `` -> `...6`
* `` -> `...7`
* `` -> `...8`
* `` -> `...9`
* `` -> `...10`
* `` -> `...11`
* `` -> `...12`
New names:
* `` -> `...1`
* `` -> `...2`
* `` -> `...3`
* `` -> `...4`
* `` -> `...5`
* `` -> `...6`
* `` -> `...7`
* `` -> `...8`
* `` -> `...9`
* `` -> `...10`
* `` -> `...11`
* `` -> `...12`
New names:
* `` -> `...1`
* `` -> `...2`
* `` -> `...3`
* `` -> `...4`
* `` -> `...5`
* `` -> `...6`
* `` -> `...7`
* `` -> `...8`
* `` -> `...9`
* `` -> `...10`
* `` -> `...11`
* `` -> `...12`
New names:
* `` -> `...1`
* `` -> `...2`
* `` -> `...3`
* `` -> `...4`
* `` -> `...5`
* `` -> `...6`
* `` -> `...7`
* `` -> `...8`
* `` -> `...9`
* `` -> `...10`
* `` -> `...11`
* `` -> `...12`
`set.seed(2020)` was used to initialize repeatable random subsampling.
Please record this for your records so others can reproduce.
Try `set.seed(2020); .Random.seed` for the full vector
...
46OTUs were removed because they are no longer 
present in any sample after random subsampling

...
`set.seed(2020)` was used to initialize repeatable random subsampling.
Please record this for your records so others can reproduce.
Try `set.seed(2020); .Random.seed` for the full vector
...
46OTUs were removed because they are no longer 
present in any sample after random subsampling

...
`set.seed(2020)` was used to initialize repeatable random subsampling.
Please record this for your records so others can reproduce.
Try `set.seed(2020); .Random.seed` for the full vector
...
46OTUs were removed because they are no longer 
present in any sample after random subsampling

...
`set.seed(2020)` was used to initialize repeatable random subsampling.
Please record this for your records so others can reproduce.
Try `set.seed(2020); .Random.seed` for the full vector
...
46OTUs were removed because they are no longer 
present in any sample after random subsampling

...
Default value being used.
Default value being used.
Default value being used.
Default value being used.
converting counts to integer mode
Loading required package: ggplot2
Loading required package: lattice
[ FAIL 0 | WARN 43 | SKIP 8 | PASS 217 ]

══ Skipped tests ═══════════════════════════════════════════════════════════════
• On CRAN (7)
• empty test (1)

[ FAIL 0 | WARN 43 | SKIP 8 | PASS 217 ]
> 
> proc.time()
   user  system elapsed 
 77.006   2.601  79.600 

Example timings

microbiomeMarker.Rcheck/microbiomeMarker-Ex.timings

nameusersystemelapsed
abundances-methods0.0710.0040.075
aggregate_taxa0.6340.0320.666
assign-marker_table2.9750.1813.155
confounder1.8300.0151.846
effect_size-plot2.9900.0443.033
extract_posthoc_res0.1270.0010.128
import_dada20.0690.0070.078
import_picrust20.0300.0040.036
import_qiime20.2440.0080.254
marker_table-methods2.8010.0512.853
microbiomeMarker0.0150.0000.016
nmarker-methods0.0010.0000.002
normalize-methods0.0940.0080.102
phyloseq2DESeq22.0420.1962.238
phyloseq2edgeR0.1430.0200.163
phyloseq2metagenomeSeq0.1920.0080.201
plot_abundance4.1210.0084.130
plot_cladogram10.118 0.25610.374
plot_heatmap5.9290.1206.049
plot_postHocTest1.1730.0041.177
plot_sl_roc4.2870.0514.340
postHocTest0.1060.0000.106
run_aldex8.6210.2528.874
run_ancom000
run_ancombc 9.262 0.21331.418
run_deseq26.3130.0246.337
run_edger2.7270.0122.739
run_lefse7.1760.1487.324
run_limma_voom2.7170.0562.773
run_metagenomeseq3.2740.0043.278
run_posthoc_test0.5970.0350.632
run_simple_stat2.8230.0322.855
run_sl1.7030.0081.711
run_test_multiple_groups3.0580.0083.067
run_test_two_groups3.0050.0003.005
subset_marker2.7310.0002.731
summarize_taxa0.3290.0000.329
transform_abundances0.1410.0160.157