Back to Multiple platform build/check report for BioC 3.17
ABCD[E]FGHIJKLMNOPQRSTUVWXYZ

This page was generated on 2022-12-03 11:05:31 -0500 (Sat, 03 Dec 2022).

HostnameOSArch (*)R versionInstalled pkgs
nebbiolo1Linux (Ubuntu 22.04.1 LTS)x86_64R Under development (unstable) (2022-11-30 r83393) -- "Unsuffered Consequences" 4277
palomino3Windows Server 2022 Datacenterx64R Under development (unstable) (2022-11-30 r83393 ucrt) -- "Unsuffered Consequences" 4152
merida1macOS 10.14.6 Mojavex86_64R Under development (unstable) (2022-11-30 r83393) -- "Unsuffered Consequences" 4236
Click on any hostname to see more info about the system (e.g. compilers)      (*) as reported by 'uname -p', except on Windows and Mac OS X

INSTALL results for esATAC on nebbiolo1


To the developers/maintainers of the esATAC package:
- Please allow up to 24 hours (and sometimes 48 hours) for your latest push to git@git.bioconductor.org:packages/esATAC.git to
reflect on this report. See How and When does the builder pull? When will my changes propagate? for more information.
- Make sure to use the following settings in order to reproduce any error or warning you see on this page.

raw results

Package 626/2155HostnameOS / ArchINSTALLBUILDCHECKBUILD BIN
esATAC 1.21.0  (landing page)
Zheng Wei
Snapshot Date: 2022-12-02 14:00:12 -0500 (Fri, 02 Dec 2022)
git_url: https://git.bioconductor.org/packages/esATAC
git_branch: master
git_last_commit: dc1b794
git_last_commit_date: 2022-11-01 11:16:47 -0500 (Tue, 01 Nov 2022)
nebbiolo1Linux (Ubuntu 22.04.1 LTS) / x86_64  OK    OK    WARNINGS  UNNEEDED, same version is already published
palomino3Windows Server 2022 Datacenter / x64  OK    OK    WARNINGS    OK  NO, package depends on 'Rsamtools' which is not available
merida1macOS 10.14.6 Mojave / x86_64  OK    OK    WARNINGS    OK  NO, package depends on 'Rsamtools' which is not available

Summary

Package: esATAC
Version: 1.21.0
Command: /home/biocbuild/bbs-3.17-bioc/R/bin/R CMD INSTALL esATAC
StartedAt: 2022-12-02 15:42:13 -0500 (Fri, 02 Dec 2022)
EndedAt: 2022-12-02 15:43:53 -0500 (Fri, 02 Dec 2022)
EllapsedTime: 99.4 seconds
RetCode: 0
Status:   OK  

Command output

##############################################################################
##############################################################################
###
### Running command:
###
###   /home/biocbuild/bbs-3.17-bioc/R/bin/R CMD INSTALL esATAC
###
##############################################################################
##############################################################################


* installing to library ‘/home/biocbuild/bbs-3.17-bioc/R/library’
* installing *source* package ‘esATAC’ ...
** using staged installation
** libs
g++ -std=gnu++11 -I"/home/biocbuild/bbs-3.17-bioc/R/include" -DNDEBUG -DNDEBUG -DPLF_SYS_LINUX  -DR_EVN_FLAG -I'/home/biocbuild/bbs-3.17-bioc/R/library/Rcpp/include' -I/usr/local/include    -fpic  -g -O2  -Wall -c BedLine.cpp -o BedLine.o
g++ -std=gnu++11 -I"/home/biocbuild/bbs-3.17-bioc/R/include" -DNDEBUG -DNDEBUG -DPLF_SYS_LINUX  -DR_EVN_FLAG -I'/home/biocbuild/bbs-3.17-bioc/R/library/Rcpp/include' -I/usr/local/include    -fpic  -g -O2  -Wall -c BedUtils.cpp -o BedUtils.o
g++ -std=gnu++11 -I"/home/biocbuild/bbs-3.17-bioc/R/include" -DNDEBUG -DNDEBUG -DPLF_SYS_LINUX  -DR_EVN_FLAG -I'/home/biocbuild/bbs-3.17-bioc/R/library/Rcpp/include' -I/usr/local/include    -fpic  -g -O2  -Wall -c ChrDivi.cpp -o ChrDivi.o
g++ -std=gnu++11 -I"/home/biocbuild/bbs-3.17-bioc/R/include" -DNDEBUG -DNDEBUG -DPLF_SYS_LINUX  -DR_EVN_FLAG -I'/home/biocbuild/bbs-3.17-bioc/R/library/Rcpp/include' -I/usr/local/include    -fpic  -g -O2  -Wall -c CutCountPre.cpp -o CutCountPre.o
g++ -std=gnu++11 -I"/home/biocbuild/bbs-3.17-bioc/R/include" -DNDEBUG -DNDEBUG -DPLF_SYS_LINUX  -DR_EVN_FLAG -I'/home/biocbuild/bbs-3.17-bioc/R/library/Rcpp/include' -I/usr/local/include    -fpic  -g -O2  -Wall -c CutSiteCount.cpp -o CutSiteCount.o
g++ -std=gnu++11 -I"/home/biocbuild/bbs-3.17-bioc/R/include" -DNDEBUG -DNDEBUG -DPLF_SYS_LINUX  -DR_EVN_FLAG -I'/home/biocbuild/bbs-3.17-bioc/R/library/Rcpp/include' -I/usr/local/include    -fpic  -g -O2  -Wall -c LibComplexQC.cpp -o LibComplexQC.o
g++ -std=gnu++11 -I"/home/biocbuild/bbs-3.17-bioc/R/include" -DNDEBUG -DNDEBUG -DPLF_SYS_LINUX  -DR_EVN_FLAG -I'/home/biocbuild/bbs-3.17-bioc/R/library/Rcpp/include' -I/usr/local/include    -fpic  -g -O2  -Wall -c RcppExports.cpp -o RcppExports.o
g++ -std=gnu++11 -I"/home/biocbuild/bbs-3.17-bioc/R/include" -DNDEBUG -DNDEBUG -DPLF_SYS_LINUX  -DR_EVN_FLAG -I'/home/biocbuild/bbs-3.17-bioc/R/library/Rcpp/include' -I/usr/local/include    -fpic  -g -O2  -Wall -c SortBed.cpp -o SortBed.o
g++ -std=gnu++11 -I"/home/biocbuild/bbs-3.17-bioc/R/include" -DNDEBUG -DNDEBUG -DPLF_SYS_LINUX  -DR_EVN_FLAG -I'/home/biocbuild/bbs-3.17-bioc/R/library/Rcpp/include' -I/usr/local/include    -fpic  -g -O2  -Wall -c rcpp_wrapper.cpp -o rcpp_wrapper.o
rcpp_wrapper.cpp: In function ‘int CutSiteCount_wrapper(Rcpp::List)’:
rcpp_wrapper.cpp:334:7: warning: variable ‘tmp_k’ set but not used [-Wunused-but-set-variable]
  334 |   int tmp_k;
      |       ^~~~~
g++ -std=gnu++11 -I"/home/biocbuild/bbs-3.17-bioc/R/include" -DNDEBUG -DNDEBUG -DPLF_SYS_LINUX  -DR_EVN_FLAG -I'/home/biocbuild/bbs-3.17-bioc/R/library/Rcpp/include' -I/usr/local/include    -fpic  -g -O2  -Wall -c renamer.cpp -o renamer.o
g++ -std=gnu++11 -I"/home/biocbuild/bbs-3.17-bioc/R/include" -DNDEBUG -DNDEBUG -DPLF_SYS_LINUX  -DR_EVN_FLAG -I'/home/biocbuild/bbs-3.17-bioc/R/library/Rcpp/include' -I/usr/local/include    -fpic  -g -O2  -Wall -c sam2bed.cc -o sam2bed.o
sam2bed.cc: In member function ‘int SamToBed::sam2bed(int, int, char**, int, bool, bool)’:
sam2bed.cc:125:16: warning: unused variable ‘xspm’ [-Wunused-variable]
  125 |     regmatch_t xspm[1];
      |                ^~~~
sam2bed.cc: In member function ‘int SamToBed::sam2bed_merge(int, int, char**, int, bool, bool, int, int, bool)’:
sam2bed.cc:294:16: warning: unused variable ‘xspm’ [-Wunused-variable]
  294 |     regmatch_t xspm[1];
      |                ^~~~
g++ -std=gnu++11 -shared -L/home/biocbuild/bbs-3.17-bioc/R/lib -L/usr/local/lib -o esATAC.so BedLine.o BedUtils.o ChrDivi.o CutCountPre.o CutSiteCount.o LibComplexQC.o RcppExports.o SortBed.o rcpp_wrapper.o renamer.o sam2bed.o -L/home/biocbuild/bbs-3.17-bioc/R/lib -lR
installing to /home/biocbuild/bbs-3.17-bioc/R/library/00LOCK-esATAC/00new/esATAC/libs
** R
** inst
** byte-compile and prepare package for lazy loading
** help
*** installing help indices
** building package indices
** installing vignettes
** testing if installed package can be loaded from temporary location
** checking absolute paths in shared objects and dynamic libraries
** testing if installed package can be loaded from final location
** testing if installed package keeps a record of temporary installation path
* DONE (esATAC)