Back to Multiple platform build/check report for BioC 3.15
ABCDEFG[H]IJKLMNOPQRSTUVWXYZ

This page was generated on 2021-11-27 14:04:36 -0500 (Sat, 27 Nov 2021).

BUILD results for hiReadsProcessor on nebbiolo1

To the developers/maintainers of the hiReadsProcessor package:
- Please allow up to 24 hours (and sometimes 48 hours) for your latest push to git@git.bioconductor.org:packages/hiReadsProcessor.git to
reflect on this report. See How and When does the builder pull? When will my changes propagate? here for more information.
- Make sure to use the following settings in order to reproduce any error or warning you see on this page.

raw results

Package 870/2068HostnameOS / ArchINSTALLBUILDCHECKBUILD BIN
hiReadsProcessor 1.31.1  (landing page)
Nirav V Malani
Snapshot Date: 2021-11-26 14:50:14 -0500 (Fri, 26 Nov 2021)
git_url: https://git.bioconductor.org/packages/hiReadsProcessor
git_branch: master
git_last_commit: e98467a
git_last_commit_date: 2021-11-21 00:18:22 -0500 (Sun, 21 Nov 2021)
nebbiolo1Linux (Ubuntu 20.04.3 LTS) / x86_64  OK    OK    OK  UNNEEDED, same version is already published
riesling1Windows Server 2019 Standard / x64... NOT SUPPORTED ...
merida1macOS 10.14.6 Mojave / x86_64  OK    OK    OK    OK  UNNEEDED, same version is already published

Summary

Package: hiReadsProcessor
Version: 1.31.1
Command: /home/biocbuild/bbs-3.15-bioc/R/bin/R CMD build --keep-empty-dirs --no-resave-data hiReadsProcessor
StartedAt: 2021-11-26 17:32:44 -0500 (Fri, 26 Nov 2021)
EndedAt: 2021-11-26 17:33:39 -0500 (Fri, 26 Nov 2021)
EllapsedTime: 55.3 seconds
RetCode: 0
Status:   OK  
PackageFile: hiReadsProcessor_1.31.1.tar.gz
PackageFileSize: 3.151 MiB

Command output

##############################################################################
##############################################################################
###
### Running command:
###
###   /home/biocbuild/bbs-3.15-bioc/R/bin/R CMD build --keep-empty-dirs --no-resave-data hiReadsProcessor
###
##############################################################################
##############################################################################


* checking for file ‘hiReadsProcessor/DESCRIPTION’ ... OK
* preparing ‘hiReadsProcessor’:
* checking DESCRIPTION meta-information ... OK
* installing the package to build vignettes
* creating vignettes ... OK
* checking for LF line-endings in source and make files and shell scripts
* checking for empty or unneeded directories
* looking to see if a ‘data/datalist’ file should be added
  NB: this package now depends on R (>= 3.5.0)
  WARNING: Added dependency on R >= 3.5.0 because serialized objects in
  serialize/load version 3 cannot be read in older versions of R.
  File(s) containing such objects:
    ‘hiReadsProcessor/data/FLX_seqProps.RData’
* building ‘hiReadsProcessor_1.31.1.tar.gz’