Back to Multiple platform build/check report for BioC 3.15
ABC[D]EFGHIJKLMNOPQRSTUVWXYZ

This page was generated on 2022-01-18 11:05:34 -0500 (Tue, 18 Jan 2022).

HostnameOSArch (*)R versionInstalled pkgs
nebbiolo1Linux (Ubuntu 20.04.4 LTS)x86_64R Under development (unstable) (2022-01-05 r81451) -- "Unsuffered Consequences" 4161
riesling1Windows Server 2019 Standardx64R Under development (unstable) (2021-11-21 r81221) -- "Unsuffered Consequences" 4056
palomino3Windows Server 2022 Datacenterx64R Under development (unstable) (2021-12-21 r81400 ucrt) -- "Unsuffered Consequences" 3998
merida1macOS 10.14.6 Mojavex86_64R Under development (unstable) (2022-01-05 r81451) -- "Unsuffered Consequences" 4115
Click on any hostname to see more info about the system (e.g. compilers)      (*) as reported by 'uname -p', except on Windows and Mac OS X

BUILD results for DEScan2 on nebbiolo1


To the developers/maintainers of the DEScan2 package:
- Please allow up to 24 hours (and sometimes 48 hours) for your latest push to git@git.bioconductor.org:packages/DEScan2.git to
reflect on this report. See How and When does the builder pull? When will my changes propagate? here for more information.
- Make sure to use the following settings in order to reproduce any error or warning you see on this page.

raw results

Package 495/2074HostnameOS / ArchINSTALLBUILDCHECKBUILD BIN
DEScan2 1.15.3  (landing page)
Dario Righelli
Snapshot Date: 2022-01-17 13:55:17 -0500 (Mon, 17 Jan 2022)
git_url: https://git.bioconductor.org/packages/DEScan2
git_branch: master
git_last_commit: b99080b
git_last_commit_date: 2022-01-10 09:52:57 -0500 (Mon, 10 Jan 2022)
nebbiolo1Linux (Ubuntu 20.04.4 LTS) / x86_64  OK    OK    OK  UNNEEDED, same version is already published
riesling1Windows Server 2019 Standard / x64  OK    OK    OK    OK  
palomino3Windows Server 2022 Datacenter / x64  OK    OK    OK    OK  NO, package depends on 'GenomicRanges' which is not available
merida1macOS 10.14.6 Mojave / x86_64  OK    OK    OK    OK  UNNEEDED, same version is already published

Summary

Package: DEScan2
Version: 1.15.3
Command: /home/biocbuild/bbs-3.15-bioc/R/bin/R CMD build --keep-empty-dirs --no-resave-data DEScan2
StartedAt: 2022-01-17 16:10:59 -0500 (Mon, 17 Jan 2022)
EndedAt: 2022-01-17 16:12:29 -0500 (Mon, 17 Jan 2022)
EllapsedTime: 89.2 seconds
RetCode: 0
Status:   OK  
PackageFile: DEScan2_1.15.3.tar.gz
PackageFileSize: 2.458 MiB

Command output

##############################################################################
##############################################################################
###
### Running command:
###
###   /home/biocbuild/bbs-3.15-bioc/R/bin/R CMD build --keep-empty-dirs --no-resave-data DEScan2
###
##############################################################################
##############################################################################


* checking for file ‘DEScan2/DESCRIPTION’ ... OK
* preparing ‘DEScan2’:
* checking DESCRIPTION meta-information ... OK
* cleaning src
* installing the package to build vignettes
* creating vignettes ... OK
* cleaning src
* checking for LF line-endings in source and make files and shell scripts
* checking for empty or unneeded directories
Omitted ‘LazyData’ from DESCRIPTION
* building ‘DEScan2_1.15.3.tar.gz’