Back to Multiple platform build/check report for BioC 3.17
ABCDEF[G]HIJKLMNOPQRSTUVWXYZ

This page was generated on 2022-11-26 11:05:31 -0500 (Sat, 26 Nov 2022).

HostnameOSArch (*)R versionInstalled pkgs
nebbiolo1Linux (Ubuntu 20.04.5 LTS)x86_64R Under development (unstable) (2022-10-25 r83175) -- "Unsuffered Consequences" 4462
palomino3Windows Server 2022 Datacenterx64R Under development (unstable) (2022-10-11 r83083 ucrt) -- "Unsuffered Consequences" 4201
merida1macOS 10.14.6 Mojavex86_64R Under development (unstable) (2022-11-13 r83342) -- "Unsuffered Consequences" 4231
Click on any hostname to see more info about the system (e.g. compilers)      (*) as reported by 'uname -p', except on Windows and Mac OS X

INSTALL results for GenomicFeatures on nebbiolo1


To the developers/maintainers of the GenomicFeatures package:
- Please allow up to 24 hours (and sometimes 48 hours) for your latest push to git@git.bioconductor.org:packages/GenomicFeatures.git to
reflect on this report. See How and When does the builder pull? When will my changes propagate? for more information.
- Make sure to use the following settings in order to reproduce any error or warning you see on this page.

raw results

Package 772/2154HostnameOS / ArchINSTALLBUILDCHECKBUILD BIN
GenomicFeatures 1.51.2  (landing page)
H. Pagès
Snapshot Date: 2022-11-25 14:00:12 -0500 (Fri, 25 Nov 2022)
git_url: https://git.bioconductor.org/packages/GenomicFeatures
git_branch: master
git_last_commit: df02299
git_last_commit_date: 2022-11-03 03:54:13 -0500 (Thu, 03 Nov 2022)
nebbiolo1Linux (Ubuntu 20.04.5 LTS) / x86_64  OK    OK    ERROR  
palomino3Windows Server 2022 Datacenter / x64  OK    OK    WARNINGS    OK  NO, package depends on 'GenomicRanges' which is not available
merida1macOS 10.14.6 Mojave / x86_64  OK    OK    WARNINGS    OK  NO, package depends on 'rtracklayer' which is not available

Summary

Package: GenomicFeatures
Version: 1.51.2
Command: /home/biocbuild/bbs-3.17-bioc/R/bin/R CMD INSTALL GenomicFeatures
StartedAt: 2022-11-25 15:15:10 -0500 (Fri, 25 Nov 2022)
EndedAt: 2022-11-25 15:15:50 -0500 (Fri, 25 Nov 2022)
EllapsedTime: 40.2 seconds
RetCode: 0
Status:   OK  

Command output

##############################################################################
##############################################################################
###
### Running command:
###
###   /home/biocbuild/bbs-3.17-bioc/R/bin/R CMD INSTALL GenomicFeatures
###
##############################################################################
##############################################################################


* installing to library ‘/home/biocbuild/bbs-3.17-bioc/R/library’
* installing *source* package ‘GenomicFeatures’ ...
** using staged installation
** R
** inst
** byte-compile and prepare package for lazy loading
** help
*** installing help indices
** building package indices
** installing vignettes
** testing if installed package can be loaded from temporary location
** testing if installed package can be loaded from final location
** testing if installed package keeps a record of temporary installation path
* DONE (GenomicFeatures)