Back to Multiple platform build/check report for BioC 3.15
ABCDEFGHIJKLMNOPQ[R]STUVWXYZ

This page was generated on 2022-01-17 11:06:22 -0500 (Mon, 17 Jan 2022).

HostnameOSArch (*)R versionInstalled pkgs
nebbiolo1Linux (Ubuntu 20.04.4 LTS)x86_64R Under development (unstable) (2022-01-05 r81451) -- "Unsuffered Consequences" 4161
riesling1Windows Server 2019 Standardx64R Under development (unstable) (2021-11-21 r81221) -- "Unsuffered Consequences" 4056
palomino3Windows Server 2022 Datacenterx64R Under development (unstable) (2021-12-21 r81400 ucrt) -- "Unsuffered Consequences" 3998
merida1macOS 10.14.6 Mojavex86_64R Under development (unstable) (2022-01-05 r81451) -- "Unsuffered Consequences" 4115
Click on any hostname to see more info about the system (e.g. compilers)      (*) as reported by 'uname -p', except on Windows and Mac OS X

CHECK results for ribosomeProfilingQC on nebbiolo1


To the developers/maintainers of the ribosomeProfilingQC package:
- Please allow up to 24 hours (and sometimes 48 hours) for your latest push to git@git.bioconductor.org:packages/ribosomeProfilingQC.git to
reflect on this report. See How and When does the builder pull? When will my changes propagate? here for more information.
- Make sure to use the following settings in order to reproduce any error or warning you see on this page.

raw results

Package 1602/2074HostnameOS / ArchINSTALLBUILDCHECKBUILD BIN
ribosomeProfilingQC 1.7.2  (landing page)
Jianhong Ou
Snapshot Date: 2022-01-16 13:55:18 -0500 (Sun, 16 Jan 2022)
git_url: https://git.bioconductor.org/packages/ribosomeProfilingQC
git_branch: master
git_last_commit: a97d282
git_last_commit_date: 2021-11-21 00:49:04 -0500 (Sun, 21 Nov 2021)
nebbiolo1Linux (Ubuntu 20.04.4 LTS) / x86_64  OK    OK    OK  UNNEEDED, same version is already published
riesling1Windows Server 2019 Standard / x64  OK    OK    OK    OK  
palomino3Windows Server 2022 Datacenter / x64  OK    OK    OK    OK  NO, package depends on 'GenomicRanges' which is not available
merida1macOS 10.14.6 Mojave / x86_64  OK    OK    OK    OK  UNNEEDED, same version is already published

Summary

Package: ribosomeProfilingQC
Version: 1.7.2
Command: /home/biocbuild/bbs-3.15-bioc/R/bin/R CMD check --install=check:ribosomeProfilingQC.install-out.txt --library=/home/biocbuild/bbs-3.15-bioc/R/library --no-vignettes --timings ribosomeProfilingQC_1.7.2.tar.gz
StartedAt: 2022-01-16 20:44:48 -0500 (Sun, 16 Jan 2022)
EndedAt: 2022-01-16 20:51:16 -0500 (Sun, 16 Jan 2022)
EllapsedTime: 388.3 seconds
RetCode: 0
Status:   OK  
CheckDir: ribosomeProfilingQC.Rcheck
Warnings: 0

Command output

##############################################################################
##############################################################################
###
### Running command:
###
###   /home/biocbuild/bbs-3.15-bioc/R/bin/R CMD check --install=check:ribosomeProfilingQC.install-out.txt --library=/home/biocbuild/bbs-3.15-bioc/R/library --no-vignettes --timings ribosomeProfilingQC_1.7.2.tar.gz
###
##############################################################################
##############################################################################


* using log directory ‘/home/biocbuild/bbs-3.15-bioc/meat/ribosomeProfilingQC.Rcheck’
* using R Under development (unstable) (2022-01-05 r81451)
* using platform: x86_64-pc-linux-gnu (64-bit)
* using session charset: UTF-8
* using option ‘--no-vignettes’
* checking for file ‘ribosomeProfilingQC/DESCRIPTION’ ... OK
* checking extension type ... Package
* this is package ‘ribosomeProfilingQC’ version ‘1.7.2’
* package encoding: UTF-8
* checking package namespace information ... OK
* checking package dependencies ... OK
* checking if this is a source package ... OK
* checking if there is a namespace ... OK
* checking for hidden files and directories ... OK
* checking for portable file names ... OK
* checking for sufficient/correct file permissions ... OK
* checking whether package ‘ribosomeProfilingQC’ can be installed ... OK
* checking installed package size ... OK
* checking package directory ... OK
* checking ‘build’ directory ... OK
* checking DESCRIPTION meta-information ... OK
* checking top-level files ... OK
* checking for left-over files ... OK
* checking index information ... OK
* checking package subdirectories ... OK
* checking R files for non-ASCII characters ... OK
* checking R files for syntax errors ... OK
* checking whether the package can be loaded ... OK
* checking whether the package can be loaded with stated dependencies ... OK
* checking whether the package can be unloaded cleanly ... OK
* checking whether the namespace can be loaded with stated dependencies ... OK
* checking whether the namespace can be unloaded cleanly ... OK
* checking dependencies in R code ... OK
* checking S3 generic/method consistency ... OK
* checking replacement functions ... OK
* checking foreign function calls ... OK
* checking R code for possible problems ... OK
* checking Rd files ... OK
* checking Rd metadata ... OK
* checking Rd cross-references ... OK
* checking for missing documentation entries ... OK
* checking for code/documentation mismatches ... OK
* checking Rd \usage sections ... OK
* checking Rd contents ... OK
* checking for unstated dependencies in examples ... OK
* checking files in ‘vignettes’ ... OK
* checking examples ... OK
Examples with CPU (user + system) or elapsed time > 5s
                   user system elapsed
readsDistribution 9.714  0.204   9.920
coverageRates     7.007  0.100   7.108
coverageDepth     6.205  0.120   6.327
shiftReadsByFrame 5.226  0.220   5.447
readsEndPlot      4.997  0.108   5.106
* checking for unstated dependencies in ‘tests’ ... OK
* checking tests ...
  Running ‘runTests.R’
 OK
* checking for unstated dependencies in vignettes ... OK
* checking package vignettes in ‘inst/doc’ ... OK
* checking running R code from vignettes ... SKIPPED
* checking re-building of vignette outputs ... SKIPPED
* checking PDF version of manual ... OK
* DONE

Status: OK


Installation output

ribosomeProfilingQC.Rcheck/00install.out

##############################################################################
##############################################################################
###
### Running command:
###
###   /home/biocbuild/bbs-3.15-bioc/R/bin/R CMD INSTALL ribosomeProfilingQC
###
##############################################################################
##############################################################################


* installing to library ‘/home/biocbuild/bbs-3.15-bioc/R/library’
* installing *source* package ‘ribosomeProfilingQC’ ...
** using staged installation
** R
** inst
** byte-compile and prepare package for lazy loading
** help
*** installing help indices
** building package indices
** installing vignettes
** testing if installed package can be loaded from temporary location
** testing if installed package can be loaded from final location
** testing if installed package keeps a record of temporary installation path
* DONE (ribosomeProfilingQC)

Tests output

ribosomeProfilingQC.Rcheck/tests/runTests.Rout


R Under development (unstable) (2022-01-05 r81451) -- "Unsuffered Consequences"
Copyright (C) 2022 The R Foundation for Statistical Computing
Platform: x86_64-pc-linux-gnu (64-bit)

R is free software and comes with ABSOLUTELY NO WARRANTY.
You are welcome to redistribute it under certain conditions.
Type 'license()' or 'licence()' for distribution details.

R is a collaborative project with many contributors.
Type 'contributors()' for more information and
'citation()' on how to cite R or R packages in publications.

Type 'demo()' for some demos, 'help()' for on-line help, or
'help.start()' for an HTML browser interface to help.
Type 'q()' to quit R.

> require("ribosomeProfilingQC") || stop("unable to load Package:ribosomeProfilingQC")
Loading required package: ribosomeProfilingQC
Loading required package: GenomicRanges
Loading required package: stats4
Loading required package: BiocGenerics

Attaching package: 'BiocGenerics'

The following objects are masked from 'package:stats':

    IQR, mad, sd, var, xtabs

The following objects are masked from 'package:base':

    Filter, Find, Map, Position, Reduce, anyDuplicated, append,
    as.data.frame, basename, cbind, colnames, dirname, do.call,
    duplicated, eval, evalq, get, grep, grepl, intersect, is.unsorted,
    lapply, mapply, match, mget, order, paste, pmax, pmax.int, pmin,
    pmin.int, rank, rbind, rownames, sapply, setdiff, sort, table,
    tapply, union, unique, unsplit, which.max, which.min

Loading required package: S4Vectors

Attaching package: 'S4Vectors'

The following objects are masked from 'package:base':

    I, expand.grid, unname

Loading required package: IRanges
Loading required package: GenomeInfoDb
[1] TRUE
> require("GenomicRanges") || stop("unable to load Package::GenomicRanges")
[1] TRUE
> require("GenomicFeatures") || stop("unable to load Package::GenomicFeatures")
Loading required package: GenomicFeatures
Loading required package: AnnotationDbi
Loading required package: Biobase
Welcome to Bioconductor

    Vignettes contain introductory material; view with
    'browseVignettes()'. To cite Bioconductor, see
    'citation("Biobase")', and for packages 'citation("pkgname")'.

[1] TRUE
> require("GenomicAlignments") || stop("unalbe to load Package:GenomicAlignments")
Loading required package: GenomicAlignments
Loading required package: SummarizedExperiment
Loading required package: MatrixGenerics
Loading required package: matrixStats

Attaching package: 'matrixStats'

The following objects are masked from 'package:Biobase':

    anyMissing, rowMedians


Attaching package: 'MatrixGenerics'

The following objects are masked from 'package:matrixStats':

    colAlls, colAnyNAs, colAnys, colAvgsPerRowSet, colCollapse,
    colCounts, colCummaxs, colCummins, colCumprods, colCumsums,
    colDiffs, colIQRDiffs, colIQRs, colLogSumExps, colMadDiffs,
    colMads, colMaxs, colMeans2, colMedians, colMins, colOrderStats,
    colProds, colQuantiles, colRanges, colRanks, colSdDiffs, colSds,
    colSums2, colTabulates, colVarDiffs, colVars, colWeightedMads,
    colWeightedMeans, colWeightedMedians, colWeightedSds,
    colWeightedVars, rowAlls, rowAnyNAs, rowAnys, rowAvgsPerColSet,
    rowCollapse, rowCounts, rowCummaxs, rowCummins, rowCumprods,
    rowCumsums, rowDiffs, rowIQRDiffs, rowIQRs, rowLogSumExps,
    rowMadDiffs, rowMads, rowMaxs, rowMeans2, rowMedians, rowMins,
    rowOrderStats, rowProds, rowQuantiles, rowRanges, rowRanks,
    rowSdDiffs, rowSds, rowSums2, rowTabulates, rowVarDiffs, rowVars,
    rowWeightedMads, rowWeightedMeans, rowWeightedMedians,
    rowWeightedSds, rowWeightedVars

The following object is masked from 'package:Biobase':

    rowMedians

Loading required package: Biostrings
Loading required package: XVector

Attaching package: 'Biostrings'

The following object is masked from 'package:base':

    strsplit

Loading required package: Rsamtools
[1] TRUE
> require("utils") || stop("unable to load Package:utils")
[1] TRUE
> require("AnnotationDbi") || stop("unable to load Package:AnnotationDbi")
[1] TRUE
> require("BSgenome.Drerio.UCSC.danRer10") || stop("unable to load Package:BSgenome.Drerio.UCSC.danRer10")
Loading required package: BSgenome.Drerio.UCSC.danRer10
Loading required package: BSgenome
Loading required package: rtracklayer
[1] TRUE
> require("Rsamtools") || stop("unable to load Rsamtools")
[1] TRUE
> require("rtracklayer") || stop("unable to load rtracklayer")
[1] TRUE
> require("testthat") || stop("unable to load testthat")
Loading required package: testthat
[1] TRUE
> test_check("ribosomeProfilingQC")
[ FAIL 0 | WARN 11 | SKIP 0 | PASS 35 ]
> 
> proc.time()
   user  system elapsed 
 65.115   2.101  67.209 

Example timings

ribosomeProfilingQC.Rcheck/ribosomeProfilingQC-Ex.timings

nameusersystemelapsed
FLOSS3.6960.1193.941
PAmotif0.110.000.11
assignReadingFrame1.1110.0281.138
codonUsage0.4370.0280.465
countReads4.7630.1444.911
coverageDepth6.2050.1206.327
coverageRates7.0070.1007.108
cvgd-class0.0150.0000.015
estimatePsite3.7600.1003.861
filterCDS0.1660.0080.175
frameCounts0.0770.0000.076
getFPKM0.0080.0000.008
getORFscore0.0270.0070.034
getPsiteCoordinates0.5490.0520.601
ggBar0.1360.0040.141
metaPlot0.0000.0000.001
normByRUVs0.0000.0000.001
plotDistance2Codon0.0300.0020.032
plotFrameDensity0.1970.0000.199
plotSpliceEvent000
plotTE0.0310.0000.030
plotTranscript0.0730.0000.073
prepareCDS0.4270.0040.431
readsDistribution9.7140.2049.920
readsEndPlot4.9970.1085.106
readsLenToKeep0.0220.0000.021
ribosomeReleaseScore0.0010.0000.000
shiftReadsByFrame5.2260.2205.447
simulateRPF1.5970.1641.762
spliceEvent000
strandPlot2.9940.5563.549
summaryReadsLength0.1010.0040.105
translationalEfficiency000