Back to Multiple platform build/check report for BioC 3.15
AB[C]DEFGHIJKLMNOPQRSTUVWXYZ

This page was generated on 2022-01-18 11:05:29 -0500 (Tue, 18 Jan 2022).

HostnameOSArch (*)R versionInstalled pkgs
nebbiolo1Linux (Ubuntu 20.04.4 LTS)x86_64R Under development (unstable) (2022-01-05 r81451) -- "Unsuffered Consequences" 4161
riesling1Windows Server 2019 Standardx64R Under development (unstable) (2021-11-21 r81221) -- "Unsuffered Consequences" 4056
palomino3Windows Server 2022 Datacenterx64R Under development (unstable) (2021-12-21 r81400 ucrt) -- "Unsuffered Consequences" 3998
merida1macOS 10.14.6 Mojavex86_64R Under development (unstable) (2022-01-05 r81451) -- "Unsuffered Consequences" 4115
Click on any hostname to see more info about the system (e.g. compilers)      (*) as reported by 'uname -p', except on Windows and Mac OS X

CHECK results for consensusSeekeR on nebbiolo1


To the developers/maintainers of the consensusSeekeR package:
- Please allow up to 24 hours (and sometimes 48 hours) for your latest push to git@git.bioconductor.org:packages/consensusSeekeR.git to
reflect on this report. See How and When does the builder pull? When will my changes propagate? here for more information.
- Make sure to use the following settings in order to reproduce any error or warning you see on this page.

raw results

Package 389/2074HostnameOS / ArchINSTALLBUILDCHECKBUILD BIN
consensusSeekeR 1.23.1  (landing page)
Astrid Deschenes
Snapshot Date: 2022-01-17 13:55:17 -0500 (Mon, 17 Jan 2022)
git_url: https://git.bioconductor.org/packages/consensusSeekeR
git_branch: master
git_last_commit: b92c485
git_last_commit_date: 2021-11-20 03:56:22 -0500 (Sat, 20 Nov 2021)
nebbiolo1Linux (Ubuntu 20.04.4 LTS) / x86_64  OK    OK    OK  UNNEEDED, same version is already published
riesling1Windows Server 2019 Standard / x64  OK    OK    OK    OK  
palomino3Windows Server 2022 Datacenter / x64  OK    OK    OK    OK  NO, package depends on 'BiocGenerics' which is not available
merida1macOS 10.14.6 Mojave / x86_64  OK    OK    OK    OK  UNNEEDED, same version is already published

Summary

Package: consensusSeekeR
Version: 1.23.1
Command: /home/biocbuild/bbs-3.15-bioc/R/bin/R CMD check --install=check:consensusSeekeR.install-out.txt --library=/home/biocbuild/bbs-3.15-bioc/R/library --no-vignettes --timings consensusSeekeR_1.23.1.tar.gz
StartedAt: 2022-01-17 18:41:26 -0500 (Mon, 17 Jan 2022)
EndedAt: 2022-01-17 18:44:41 -0500 (Mon, 17 Jan 2022)
EllapsedTime: 195.4 seconds
RetCode: 0
Status:   OK  
CheckDir: consensusSeekeR.Rcheck
Warnings: 0

Command output

##############################################################################
##############################################################################
###
### Running command:
###
###   /home/biocbuild/bbs-3.15-bioc/R/bin/R CMD check --install=check:consensusSeekeR.install-out.txt --library=/home/biocbuild/bbs-3.15-bioc/R/library --no-vignettes --timings consensusSeekeR_1.23.1.tar.gz
###
##############################################################################
##############################################################################


* using log directory ‘/home/biocbuild/bbs-3.15-bioc/meat/consensusSeekeR.Rcheck’
* using R Under development (unstable) (2022-01-05 r81451)
* using platform: x86_64-pc-linux-gnu (64-bit)
* using session charset: UTF-8
* using option ‘--no-vignettes’
* checking for file ‘consensusSeekeR/DESCRIPTION’ ... OK
* this is package ‘consensusSeekeR’ version ‘1.23.1’
* checking package namespace information ... OK
* checking package dependencies ... OK
* checking if this is a source package ... OK
* checking if there is a namespace ... OK
* checking for hidden files and directories ... OK
* checking for portable file names ... OK
* checking for sufficient/correct file permissions ... OK
* checking whether package ‘consensusSeekeR’ can be installed ... OK
* checking installed package size ... OK
* checking package directory ... OK
* checking ‘build’ directory ... OK
* checking DESCRIPTION meta-information ... OK
* checking top-level files ... OK
* checking for left-over files ... OK
* checking index information ... OK
* checking package subdirectories ... OK
* checking R files for non-ASCII characters ... OK
* checking R files for syntax errors ... OK
* checking whether the package can be loaded ... OK
* checking whether the package can be loaded with stated dependencies ... OK
* checking whether the package can be unloaded cleanly ... OK
* checking whether the namespace can be loaded with stated dependencies ... OK
* checking whether the namespace can be unloaded cleanly ... OK
* checking dependencies in R code ... OK
* checking S3 generic/method consistency ... OK
* checking replacement functions ... OK
* checking foreign function calls ... OK
* checking R code for possible problems ... OK
* checking Rd files ... OK
* checking Rd metadata ... OK
* checking Rd cross-references ... OK
* checking for missing documentation entries ... OK
* checking for code/documentation mismatches ... OK
* checking Rd \usage sections ... OK
* checking Rd contents ... OK
* checking for unstated dependencies in examples ... OK
* checking contents of ‘data’ directory ... OK
* checking data for non-ASCII characters ... OK
* checking data for ASCII and uncompressed saves ... OK
* checking files in ‘vignettes’ ... OK
* checking examples ... OK
* checking for unstated dependencies in ‘tests’ ... OK
* checking tests ...
  Running ‘runTests.R’
 OK
* checking for unstated dependencies in vignettes ... OK
* checking package vignettes in ‘inst/doc’ ... OK
* checking running R code from vignettes ... SKIPPED
* checking re-building of vignette outputs ... SKIPPED
* checking PDF version of manual ... OK
* DONE

Status: OK


Installation output

consensusSeekeR.Rcheck/00install.out

##############################################################################
##############################################################################
###
### Running command:
###
###   /home/biocbuild/bbs-3.15-bioc/R/bin/R CMD INSTALL consensusSeekeR
###
##############################################################################
##############################################################################


* installing to library ‘/home/biocbuild/bbs-3.15-bioc/R/library’
* installing *source* package ‘consensusSeekeR’ ...
** using staged installation
** R
** data
** inst
** byte-compile and prepare package for lazy loading
** help
*** installing help indices
** building package indices
** installing vignettes
** testing if installed package can be loaded from temporary location
** testing if installed package can be loaded from final location
** testing if installed package keeps a record of temporary installation path
* DONE (consensusSeekeR)

Tests output

consensusSeekeR.Rcheck/tests/runTests.Rout


R Under development (unstable) (2022-01-05 r81451) -- "Unsuffered Consequences"
Copyright (C) 2022 The R Foundation for Statistical Computing
Platform: x86_64-pc-linux-gnu (64-bit)

R is free software and comes with ABSOLUTELY NO WARRANTY.
You are welcome to redistribute it under certain conditions.
Type 'license()' or 'licence()' for distribution details.

R is a collaborative project with many contributors.
Type 'contributors()' for more information and
'citation()' on how to cite R or R packages in publications.

Type 'demo()' for some demos, 'help()' for on-line help, or
'help.start()' for an HTML browser interface to help.
Type 'q()' to quit R.

> ## Run all tests present in the package
> BiocGenerics:::testPackage("consensusSeekeR")

Attaching package: 'BiocGenerics'

The following objects are masked from 'package:stats':

    IQR, mad, sd, var, xtabs

The following objects are masked from 'package:base':

    Filter, Find, Map, Position, Reduce, anyDuplicated, append,
    as.data.frame, basename, cbind, colnames, dirname, do.call,
    duplicated, eval, evalq, get, grep, grepl, intersect, is.unsorted,
    lapply, mapply, match, mget, order, paste, pmax, pmax.int, pmin,
    pmin.int, rank, rbind, rownames, sapply, setdiff, sort, table,
    tapply, union, unique, unsplit, which.max, which.min


Attaching package: 'S4Vectors'

The following objects are masked from 'package:base':

    I, expand.grid, unname



RUNIT TEST PROTOCOL -- Mon Jan 17 18:44:38 2022 
*********************************************** 
Number of test functions: 56 
Number of errors: 0 
Number of failures: 0 

 
1 Test Suite : 
consensusSeekeR RUnit Tests - 56 test functions, 0 errors, 0 failures
Number of test functions: 56 
Number of errors: 0 
Number of failures: 0 
> 
> proc.time()
   user  system elapsed 
 14.086   0.512  14.584 

Example timings

consensusSeekeR.Rcheck/consensusSeekeR-Ex.timings

nameusersystemelapsed
A549_CTCF_MYJ_NarrowPeaks_partial0.7780.0690.847
A549_CTCF_MYJ_Peaks_partial1.1030.0351.140
A549_CTCF_MYN_NarrowPeaks_partial0.2700.0010.270
A549_CTCF_MYN_Peaks_partial0.3620.0040.367
A549_FOSL2_01_NarrowPeaks_partial0.2350.0120.247
A549_FOSL2_01_Peaks_partial0.3270.0000.327
A549_FOXA1_01_NarrowPeaks_partial0.3480.0000.347
A549_FOXA1_01_Peaks_partial0.4440.0080.452
A549_NR3C1_CFQ_NarrowPeaks_partial0.2760.0040.279
A549_NR3C1_CFQ_Peaks_partial0.3300.0080.338
A549_NR3C1_CFR_NarrowPeaks_partial0.2540.0040.258
A549_NR3C1_CFR_Peaks_partial0.2580.0000.258
A549_NR3C1_CFS_NarrowPeaks_partial0.6910.0150.707
A549_NR3C1_CFS_Peaks_partial0.7130.0090.721
NOrMAL_nucleosome_positions0.5410.0040.545
NOrMAL_nucleosome_ranges0.5350.0080.543
NucPosSimulator_nucleosome_positions0.5380.0200.558
NucPosSimulator_nucleosome_ranges0.5480.0000.548
PING_nucleosome_positions0.3400.0080.347
PING_nucleosome_ranges0.2940.0000.295
findConsensusPeakRegions0.6190.0110.631
findConsensusPeakRegionsValidation0.0650.0010.065
readNarrowPeakFile0.0770.0030.081