Back to Multiple platform build/check report for BioC 3.17
ABCDE[F]GHIJKLMNOPQRSTUVWXYZ

This page was generated on 2023-01-27 11:05:44 -0500 (Fri, 27 Jan 2023).

HostnameOSArch (*)R versionInstalled pkgs
nebbiolo1Linux (Ubuntu 22.04.1 LTS)x86_64R Under development (unstable) (2023-01-10 r83596) -- "Unsuffered Consequences" 4465
palomino3Windows Server 2022 Datacenterx64R Under development (unstable) (2023-01-10 r83596 ucrt) -- "Unsuffered Consequences" 4246
merida1macOS 10.14.6 Mojavex86_64R Under development (unstable) (2023-01-10 r83596) -- "Unsuffered Consequences" 4269
Click on any hostname to see more info about the system (e.g. compilers)      (*) as reported by 'uname -p', except on Windows and Mac OS X

INSTALL results for fastseg on nebbiolo1


To the developers/maintainers of the fastseg package:
- Please allow up to 24 hours (and sometimes 48 hours) for your latest push to git@git.bioconductor.org:packages/fastseg.git to
reflect on this report. See How and When does the builder pull? When will my changes propagate? for more information.
- Make sure to use the following settings in order to reproduce any error or warning you see on this page.

raw results

Package 653/2162HostnameOS / ArchINSTALLBUILDCHECKBUILD BIN
fastseg 1.45.0  (landing page)
Alexander Blume
Snapshot Date: 2023-01-26 14:00:20 -0500 (Thu, 26 Jan 2023)
git_url: https://git.bioconductor.org/packages/fastseg
git_branch: master
git_last_commit: 1d51d68
git_last_commit_date: 2022-11-01 11:06:32 -0500 (Tue, 01 Nov 2022)
nebbiolo1Linux (Ubuntu 22.04.1 LTS) / x86_64  OK    OK    OK  UNNEEDED, same version is already published
palomino3Windows Server 2022 Datacenter / x64  OK    OK    OK    OK  UNNEEDED, same version is already published
merida1macOS 10.14.6 Mojave / x86_64  OK    OK    OK    OK  UNNEEDED, same version is already published

Summary

Package: fastseg
Version: 1.45.0
Command: /home/biocbuild/bbs-3.17-bioc/R/bin/R CMD INSTALL fastseg
StartedAt: 2023-01-26 15:07:27 -0500 (Thu, 26 Jan 2023)
EndedAt: 2023-01-26 15:07:39 -0500 (Thu, 26 Jan 2023)
EllapsedTime: 11.9 seconds
RetCode: 0
Status:   OK  

Command output

##############################################################################
##############################################################################
###
### Running command:
###
###   /home/biocbuild/bbs-3.17-bioc/R/bin/R CMD INSTALL fastseg
###
##############################################################################
##############################################################################


* installing to library ‘/home/biocbuild/bbs-3.17-bioc/R/library’
* installing *source* package ‘fastseg’ ...
** using staged installation
** libs
using C compiler: ‘gcc (Ubuntu 11.3.0-1ubuntu1~22.04) 11.3.0’
using C++ compiler: ‘g++ (Ubuntu 11.3.0-1ubuntu1~22.04) 11.3.0’
gcc -I"/home/biocbuild/bbs-3.17-bioc/R/include" -DNDEBUG   -I/usr/local/include    -fpic  -g -O2  -Wall -c R_init_fastseg.c -o R_init_fastseg.o
g++ -std=gnu++14 -I"/home/biocbuild/bbs-3.17-bioc/R/include" -DNDEBUG   -I/usr/local/include    -fpic  -g -O2  -Wall -c segment.cpp -o segment.o
segment.cpp: In function ‘SEXPREC* segment(SEXP, SEXP, SEXP, SEXP, SEXP, SEXP, SEXP)’:
segment.cpp:60:27: warning: variable ‘globalSd’ set but not used [-Wunused-but-set-variable]
   60 |         double globalMean,globalSd,diff,M2,globalVariance;
      |                           ^~~~~~~~
segment.cpp:61:16: warning: variable ‘oldStatistic’ set but not used [-Wunused-but-set-variable]
   61 |         double oldStatistic, meanLeft,meanRight,varLeft,varRight;
      |                ^~~~~~~~~~~~
segment.cpp:62:38: warning: variable ‘maxStatistic’ set but not used [-Wunused-but-set-variable]
   62 |         double newStatistic,meanDiff,maxStatistic,DOF,a,b,eps1;
      |                                      ^~~~~~~~~~~~
segment.cpp:63:47: warning: variable ‘maxIdx’ set but not used [-Wunused-but-set-variable]
   63 |         double newPValue, maxPValue,oldPValue,maxIdx;
      |                                               ^~~~~~
In file included from segment.cpp:10:
/home/biocbuild/bbs-3.17-bioc/R/include/Rmath.h:210:25: warning: unused variable ‘Rf_beta’ [-Wunused-variable]
  210 | #define beta            Rf_beta
      |                         ^~~~~~~
segment.cpp:65:16: note: in expansion of macro ‘beta’
   65 |         double beta,nn;
      |                ^~~~
g++ -std=gnu++14 -I"/home/biocbuild/bbs-3.17-bioc/R/include" -DNDEBUG   -I/usr/local/include    -fpic  -g -O2  -Wall -c segmentCyberT.cpp -o segmentCyberT.o
segmentCyberT.cpp: In function ‘SEXPREC* segmentCyberT(SEXP, SEXP, SEXP, SEXP, SEXP, SEXP, SEXP, SEXP)’:
segmentCyberT.cpp:59:27: warning: variable ‘globalSd’ set but not used [-Wunused-but-set-variable]
   59 |         double globalMean,globalSd,diff,M2,globalVariance;
      |                           ^~~~~~~~
segmentCyberT.cpp:60:16: warning: variable ‘oldStatistic’ set but not used [-Wunused-but-set-variable]
   60 |         double oldStatistic,meanLeft,meanRight,varLeft,varRight;
      |                ^~~~~~~~~~~~
segmentCyberT.cpp:61:38: warning: variable ‘maxStatistic’ set but not used [-Wunused-but-set-variable]
   61 |         double newStatistic,meanDiff,maxStatistic,DOF,a,b,eps1;
      |                                      ^~~~~~~~~~~~
In file included from segmentCyberT.cpp:10:
/home/biocbuild/bbs-3.17-bioc/R/include/Rmath.h:210:25: warning: unused variable ‘Rf_beta’ [-Wunused-variable]
  210 | #define beta            Rf_beta
      |                         ^~~~~~~
segmentCyberT.cpp:63:57: note: in expansion of macro ‘beta’
   63 |         double newStatisticBptLeft,newStatisticBptRight,beta,nn;
      |                                                         ^~~~
g++ -std=gnu++14 -shared -L/home/biocbuild/bbs-3.17-bioc/R/lib -L/usr/local/lib -o fastseg.so R_init_fastseg.o segment.o segmentCyberT.o -L/home/biocbuild/bbs-3.17-bioc/R/lib -lR
installing to /home/biocbuild/bbs-3.17-bioc/R/library/00LOCK-fastseg/00new/fastseg/libs
** R
** data
** inst
** byte-compile and prepare package for lazy loading
** help
*** installing help indices
** building package indices
** installing vignettes
** testing if installed package can be loaded from temporary location
** checking absolute paths in shared objects and dynamic libraries
** testing if installed package can be loaded from final location
** testing if installed package keeps a record of temporary installation path
* DONE (fastseg)