Back to Build/check report for BioC 3.19:   simplified   long
ABC[D]EFGHIJKLMNOPQRSTUVWXYZ

This page was generated on 2024-02-20 13:14:57 -0500 (Tue, 20 Feb 2024).

HostnameOSArch (*)R versionInstalled pkgs
nebbiolo1Linux (Ubuntu 22.04.3 LTS)x86_64R Under development (unstable) (2024-01-16 r85808) -- "Unsuffered Consequences" 4657
Click on any hostname to see more info about the system (e.g. compilers)      (*) as reported by 'uname -p', except on Windows and Mac OS X

Package 514/2244HostnameOS / ArchINSTALLBUILDCHECKBUILD BIN
decompTumor2Sig 2.19.0  (landing page)
Rosario M. Piro
Snapshot Date: 2024-02-19 14:10:08 -0500 (Mon, 19 Feb 2024)
git_url: https://git.bioconductor.org/packages/decompTumor2Sig
git_branch: devel
git_last_commit: 7809b28
git_last_commit_date: 2023-10-24 11:09:45 -0500 (Tue, 24 Oct 2023)
nebbiolo1Linux (Ubuntu 22.04.3 LTS) / x86_64  OK    OK    OK  UNNEEDED, same version is already published

BUILD results for decompTumor2Sig on nebbiolo1


To the developers/maintainers of the decompTumor2Sig package:
- Allow up to 24 hours (and sometimes 48 hours) for your latest push to git@git.bioconductor.org:packages/decompTumor2Sig.git to reflect on this report. See Troubleshooting Build Report for more information.
- Use the following Renviron settings to reproduce errors and warnings.
- If 'R CMD check' started to fail recently on the Linux builder(s) over a missing dependency, add the missing dependency to 'Suggests:' in your DESCRIPTION file. See Renviron.bioc for more information.

raw results


Summary

Package: decompTumor2Sig
Version: 2.19.0
Command: /home/biocbuild/bbs-3.19-bioc/R/bin/R CMD build --keep-empty-dirs --no-resave-data decompTumor2Sig
StartedAt: 2024-02-19 16:42:38 -0500 (Mon, 19 Feb 2024)
EndedAt: 2024-02-19 16:46:55 -0500 (Mon, 19 Feb 2024)
EllapsedTime: 257.9 seconds
RetCode: 0
Status:   OK  
PackageFile: decompTumor2Sig_2.19.0.tar.gz
PackageFileSize: 2.581 MiB

Command output

##############################################################################
##############################################################################
###
### Running command:
###
###   /home/biocbuild/bbs-3.19-bioc/R/bin/R CMD build --keep-empty-dirs --no-resave-data decompTumor2Sig
###
##############################################################################
##############################################################################


* checking for file ‘decompTumor2Sig/DESCRIPTION’ ... OK
* preparing ‘decompTumor2Sig’:
* checking DESCRIPTION meta-information ... OK
* installing the package to build vignettes
* creating vignettes ... OK
* checking for LF line-endings in source and make files and shell scripts
* checking for empty or unneeded directories
* building ‘decompTumor2Sig_2.19.0.tar.gz’