Back to Multiple platform build/check report for BioC 3.19:   simplified   long
ABCDEFGHIJKLMNOPQR[S]TUVWXYZ

This page was generated on 2023-11-29 11:38:35 -0500 (Wed, 29 Nov 2023).

HostnameOSArch (*)R versionInstalled pkgs
nebbiolo1Linux (Ubuntu 22.04.2 LTS)x86_64R Under development (unstable) (2023-11-11 r85510) -- "Unsuffered Consequences" 4601
palomino3Windows Server 2022 Datacenterx64R Under development (unstable) (2023-11-14 r85524 ucrt) -- "Unsuffered Consequences" 4343
merida1macOS 12.7.1 Montereyx86_64R Under development (unstable) (2023-11-11 r85510) -- "Unsuffered Consequences" 4368
kunpeng2Linux (openEuler 22.03 LTS-SP1)aarch64R Under development (unstable) (2023-11-01 r85459) -- "Unsuffered Consequences" 4253
Click on any hostname to see more info about the system (e.g. compilers)      (*) as reported by 'uname -p', except on Windows and Mac OS X

Package 1822/2225HostnameOS / ArchINSTALLBUILDCHECKBUILD BIN
SCArray.sat 1.3.0  (landing page)
Xiuwen Zheng
Snapshot Date: 2023-11-28 14:00:17 -0500 (Tue, 28 Nov 2023)
git_url: https://git.bioconductor.org/packages/SCArray.sat
git_branch: devel
git_last_commit: e8a0c58
git_last_commit_date: 2023-10-24 11:47:50 -0500 (Tue, 24 Oct 2023)
nebbiolo1Linux (Ubuntu 22.04.2 LTS) / x86_64  OK    ERROR  skipped
palomino3Windows Server 2022 Datacenter / x64  OK    ERROR  skippedskipped
merida1macOS 12.7.1 Monterey / x86_64  OK    ERROR  skippedskipped
kunpeng2Linux (openEuler 22.03 LTS-SP1) / aarch64  ERROR    ERROR  skipped

INSTALL results for SCArray.sat on kunpeng2


To the developers/maintainers of the SCArray.sat package:
- Allow up to 24 hours (and sometimes 48 hours) for your latest push to git@git.bioconductor.org:packages/SCArray.sat.git to reflect on this report. See Troubleshooting Build Report for more information.
- Use the following Renviron settings to reproduce errors and warnings.
- If 'R CMD check' started to fail recently on the Linux builder(s) over a missing dependency, add the missing dependency to 'Suggests:' in your DESCRIPTION file. See Renviron.bioc for more information.
- See Martin Grigorov's blog post for how to debug Linux ARM64 related issues on a x86_64 host.

raw results


Summary

Package: SCArray.sat
Version: 1.3.0
Command: /home/biocbuild/R/R-4.4-devel-2023.11.02/bin/R CMD INSTALL SCArray.sat
StartedAt: 2023-11-28 21:30:39 -0000 (Tue, 28 Nov 2023)
EndedAt: 2023-11-28 21:30:40 -0000 (Tue, 28 Nov 2023)
EllapsedTime: 1.3 seconds
RetCode: 1
Status:   ERROR  

Command output

##############################################################################
##############################################################################
###
### Running command:
###
###   /home/biocbuild/R/R-4.4-devel-2023.11.02/bin/R CMD INSTALL SCArray.sat
###
##############################################################################
##############################################################################


* installing to library ‘/home/biocbuild/R/R-4.4-devel-2023.11.02/site-library’
ERROR: dependency ‘Seurat’ is not available for package ‘SCArray.sat’
* removing ‘/home/biocbuild/R/R-4.4-devel-2023.11.02/site-library/SCArray.sat’