Back to Multiple platform build/check report for BioC 3.19:   simplified   long
ABCDEFGHIJKLMNOPQRSTU[V]WXYZ

This page was generated on 2024-03-01 11:38:30 -0500 (Fri, 01 Mar 2024).

HostnameOSArch (*)R versionInstalled pkgs
nebbiolo1Linux (Ubuntu 22.04.3 LTS)x86_64R Under development (unstable) (2024-01-16 r85808) -- "Unsuffered Consequences" 4676
palomino3Windows Server 2022 Datacenterx64R Under development (unstable) (2024-01-14 r85805 ucrt) -- "Unsuffered Consequences" 4414
merida1macOS 12.7.1 Montereyx86_64R Under development (unstable) (2024-01-16 r85808) -- "Unsuffered Consequences" 4441
kunpeng2Linux (openEuler 22.03 LTS-SP1)aarch64R Under development (unstable) (2024-01-16 r85812) -- "Unsuffered Consequences" 4417
Click on any hostname to see more info about the system (e.g. compilers)      (*) as reported by 'uname -p', except on Windows and Mac OS X

Package 2209/2251HostnameOS / ArchINSTALLBUILDCHECKBUILD BIN
velociraptor 1.13.1  (landing page)
Kevin Rue-Albrecht
Snapshot Date: 2024-02-28 14:00:14 -0500 (Wed, 28 Feb 2024)
git_url: https://git.bioconductor.org/packages/velociraptor
git_branch: devel
git_last_commit: 7c71d63
git_last_commit_date: 2024-01-30 07:21:14 -0500 (Tue, 30 Jan 2024)
nebbiolo1Linux (Ubuntu 22.04.3 LTS) / x86_64  OK    OK    OK  UNNEEDED, same version is already published
palomino3Windows Server 2022 Datacenter / x64  OK    OK    OK    OK  UNNEEDED, same version is already published
merida1macOS 12.7.1 Monterey / x86_64  OK    OK    OK    OK  UNNEEDED, same version is already published
kunpeng2Linux (openEuler 22.03 LTS-SP1) / aarch64  OK    TIMEOUT  skipped

BUILD results for velociraptor on palomino3


To the developers/maintainers of the velociraptor package:
- Allow up to 24 hours (and sometimes 48 hours) for your latest push to git@git.bioconductor.org:packages/velociraptor.git to reflect on this report. See Troubleshooting Build Report for more information.
- Use the following Renviron settings to reproduce errors and warnings.
- If 'R CMD check' started to fail recently on the Linux builder(s) over a missing dependency, add the missing dependency to 'Suggests:' in your DESCRIPTION file. See Renviron.bioc for more information.

raw results


Summary

Package: velociraptor
Version: 1.13.1
Command: chmod a+r velociraptor -R && F:\biocbuild\bbs-3.19-bioc\R\bin\R.exe CMD build --keep-empty-dirs --no-resave-data velociraptor
StartedAt: 2024-02-29 00:55:14 -0500 (Thu, 29 Feb 2024)
EndedAt: 2024-02-29 00:59:19 -0500 (Thu, 29 Feb 2024)
EllapsedTime: 244.8 seconds
RetCode: 0
Status:   OK  
PackageFile: velociraptor_1.13.1.tar.gz
PackageFileSize: 528.5 KiB

Command output

##############################################################################
##############################################################################
###
### Running command:
###
###   chmod a+r velociraptor -R && F:\biocbuild\bbs-3.19-bioc\R\bin\R.exe CMD build --keep-empty-dirs --no-resave-data velociraptor
###
##############################################################################
##############################################################################


* checking for file 'velociraptor/DESCRIPTION' ... OK
* preparing 'velociraptor':
* checking DESCRIPTION meta-information ... OK
* installing the package to build vignettes
* creating vignettes ... OK
* checking for LF line-endings in source and make files and shell scripts
* checking for empty or unneeded directories
* building 'velociraptor_1.13.1.tar.gz'
Warning: file 'velociraptor/configure' did not have execute permissions: corrected