Back to Multiple platform build/check report for BioC 3.15
ABCDEFGHIJKLMNOPQRS[T]UVWXYZ

This page was generated on 2022-01-20 11:06:36 -0500 (Thu, 20 Jan 2022).

HostnameOSArch (*)R versionInstalled pkgs
nebbiolo1Linux (Ubuntu 20.04.4 LTS)x86_64R Under development (unstable) (2022-01-05 r81451) -- "Unsuffered Consequences" 4162
riesling1Windows Server 2019 Standardx64R Under development (unstable) (2021-11-21 r81221) -- "Unsuffered Consequences" 4057
palomino3Windows Server 2022 Datacenterx64R Under development (unstable) (2021-12-21 r81400 ucrt) -- "Unsuffered Consequences" 3999
merida1macOS 10.14.6 Mojavex86_64R Under development (unstable) (2022-01-05 r81451) -- "Unsuffered Consequences" 4116
Click on any hostname to see more info about the system (e.g. compilers)      (*) as reported by 'uname -p', except on Windows and Mac OS X

INSTALL results for TransView on nebbiolo1


To the developers/maintainers of the TransView package:
- Please allow up to 24 hours (and sometimes 48 hours) for your latest push to git@git.bioconductor.org:packages/TransView.git to
reflect on this report. See How and When does the builder pull? When will my changes propagate? here for more information.
- Make sure to use the following settings in order to reproduce any error or warning you see on this page.

raw results

Package 1980/2074HostnameOS / ArchINSTALLBUILDCHECKBUILD BIN
TransView 1.39.0  (landing page)
Julius Muller
Snapshot Date: 2022-01-19 13:55:26 -0500 (Wed, 19 Jan 2022)
git_url: https://git.bioconductor.org/packages/TransView
git_branch: master
git_last_commit: 75274a3
git_last_commit_date: 2021-10-26 12:05:10 -0500 (Tue, 26 Oct 2021)
nebbiolo1Linux (Ubuntu 20.04.4 LTS) / x86_64  OK    OK    OK  UNNEEDED, same version is already published
riesling1Windows Server 2019 Standard / x64  OK    OK    OK    OK  
palomino3Windows Server 2022 Datacenter / x64  OK    OK    OK    OK  NO, package depends on 'GenomicRanges' which is not available
merida1macOS 10.14.6 Mojave / x86_64  OK    OK    OK    OK  UNNEEDED, same version is already published

Summary

Package: TransView
Version: 1.39.0
Command: /home/biocbuild/bbs-3.15-bioc/R/bin/R CMD INSTALL TransView
StartedAt: 2022-01-19 15:09:42 -0500 (Wed, 19 Jan 2022)
EndedAt: 2022-01-19 15:09:58 -0500 (Wed, 19 Jan 2022)
EllapsedTime: 16.0 seconds
RetCode: 0
Status:   OK  

Command output

##############################################################################
##############################################################################
###
### Running command:
###
###   /home/biocbuild/bbs-3.15-bioc/R/bin/R CMD INSTALL TransView
###
##############################################################################
##############################################################################


* installing to library ‘/home/biocbuild/bbs-3.15-bioc/R/library’
* installing *source* package ‘TransView’ ...
** using staged installation
** libs
gcc -I"/home/biocbuild/bbs-3.15-bioc/R/include" -DNDEBUG -D_FILE_OFFSET_BITS=64 -I'/home/biocbuild/bbs-3.15-bioc/R/library/Rhtslib/include' -I/usr/local/include   -fpic  -g -O2  -Wall -c R_init_TransView.c -o R_init_TransView.o
gcc -I"/home/biocbuild/bbs-3.15-bioc/R/include" -DNDEBUG -D_FILE_OFFSET_BITS=64 -I'/home/biocbuild/bbs-3.15-bioc/R/library/Rhtslib/include' -I/usr/local/include   -fpic  -g -O2  -Wall -c bam_plbuf.c -o bam_plbuf.o
gcc -I"/home/biocbuild/bbs-3.15-bioc/R/include" -DNDEBUG -D_FILE_OFFSET_BITS=64 -I'/home/biocbuild/bbs-3.15-bioc/R/library/Rhtslib/include' -I/usr/local/include   -fpic  -g -O2  -Wall -c bin_density.c -o bin_density.o
gcc -I"/home/biocbuild/bbs-3.15-bioc/R/include" -DNDEBUG -D_FILE_OFFSET_BITS=64 -I'/home/biocbuild/bbs-3.15-bioc/R/library/Rhtslib/include' -I/usr/local/include   -fpic  -g -O2  -Wall -c construct_dc.c -o construct_dc.o
In file included from /home/biocbuild/bbs-3.15-bioc/R/library/Rhtslib/include/htslib/hts.h:35,
                 from /home/biocbuild/bbs-3.15-bioc/R/library/Rhtslib/include/htslib/sam.h:31,
                 from /home/biocbuild/bbs-3.15-bioc/R/library/Rhtslib/include/sam.h:28,
                 from parse_sam.h:4,
                 from construct_dc.c:23:
/home/biocbuild/bbs-3.15-bioc/R/library/Rhtslib/include/htslib/hts_log.h:72:1: warning: ‘Rprintf’ is an unrecognized format function type [-Wformat=]
   72 | HTS_FORMAT(printf, 3, 4);
      | ^~~~~~~~~~
gcc -I"/home/biocbuild/bbs-3.15-bioc/R/include" -DNDEBUG -D_FILE_OFFSET_BITS=64 -I'/home/biocbuild/bbs-3.15-bioc/R/library/Rhtslib/include' -I/usr/local/include   -fpic  -g -O2  -Wall -c parse_sam.c -o parse_sam.o
gcc -I"/home/biocbuild/bbs-3.15-bioc/R/include" -DNDEBUG -D_FILE_OFFSET_BITS=64 -I'/home/biocbuild/bbs-3.15-bioc/R/library/Rhtslib/include' -I/usr/local/include   -fpic  -g -O2  -Wall -c sam.c -o sam.o
gcc -I"/home/biocbuild/bbs-3.15-bioc/R/include" -DNDEBUG -D_FILE_OFFSET_BITS=64 -I'/home/biocbuild/bbs-3.15-bioc/R/library/Rhtslib/include' -I/usr/local/include   -fpic  -g -O2  -Wall -c slice_dc.c -o slice_dc.o
slice_dc.c: In function ‘slice_dc’:
slice_dc.c:179:5: warning: ‘slicep’ may be used uninitialized in this function [-Wmaybe-uninitialized]
  179 |     shrink(slicep,new_vecp,rebuildc,wsize,summarizep);
      |     ^~~~~~~~~~~~~~~~~~~~~~~~~~~~~~~~~~~~~~~~~~~~~~~~~
gcc -I"/home/biocbuild/bbs-3.15-bioc/R/include" -DNDEBUG -D_FILE_OFFSET_BITS=64 -I'/home/biocbuild/bbs-3.15-bioc/R/library/Rhtslib/include' -I/usr/local/include   -fpic  -g -O2  -Wall -c visuals.c -o visuals.o
gcc -shared -L/home/biocbuild/bbs-3.15-bioc/R/lib -L/usr/local/lib -o TransView.so R_init_TransView.o bam_plbuf.o bin_density.o construct_dc.o parse_sam.o sam.o slice_dc.o visuals.o /home/biocbuild/bbs-3.15-bioc/R/library/Rhtslib/usrlib/libhts.a -lcurl -L/home/biocbuild/bbs-3.15-bioc/R/lib -lR
installing to /home/biocbuild/bbs-3.15-bioc/R/library/00LOCK-TransView/00new/TransView/libs
** R
** inst
** byte-compile and prepare package for lazy loading
** help
*** installing help indices
** building package indices
** installing vignettes
** testing if installed package can be loaded from temporary location
** checking absolute paths in shared objects and dynamic libraries
** testing if installed package can be loaded from final location
** testing if installed package keeps a record of temporary installation path
* DONE (TransView)