Back to Multiple platform build/check report for BioC 3.19:   simplified   long
ABCDEFGHIJKLMNOPQRS[T]UVWXYZ

This page was generated on 2024-03-28 11:41:26 -0400 (Thu, 28 Mar 2024).

HostnameOSArch (*)R versionInstalled pkgs
nebbiolo1Linux (Ubuntu 22.04.3 LTS)x86_64R Under development (unstable) (2024-03-18 r86148) -- "Unsuffered Consequences" 4708
palomino3Windows Server 2022 Datacenterx64R Under development (unstable) (2024-03-16 r86144 ucrt) -- "Unsuffered Consequences" 4446
lconwaymacOS 12.7.1 Montereyx86_64R Under development (unstable) (2024-03-18 r86148) -- "Unsuffered Consequences" 4471
kunpeng2Linux (openEuler 22.03 LTS-SP1)aarch64R Under development (unstable) (2024-03-19 r86153) -- "Unsuffered Consequences" 4426
Click on any hostname to see more info about the system (e.g. compilers)      (*) as reported by 'uname -p', except on Windows and Mac OS X

Package 2132/2270HostnameOS / ArchINSTALLBUILDCHECKBUILD BIN
tigre 1.57.0  (landing page)
Antti Honkela
Snapshot Date: 2024-03-27 14:00:18 -0400 (Wed, 27 Mar 2024)
git_url: https://git.bioconductor.org/packages/tigre
git_branch: devel
git_last_commit: b501d81
git_last_commit_date: 2023-10-24 09:43:43 -0400 (Tue, 24 Oct 2023)
nebbiolo1Linux (Ubuntu 22.04.3 LTS) / x86_64  OK    OK    OK  UNNEEDED, same version is already published
palomino3Windows Server 2022 Datacenter / x64  OK    OK    OK    OK  UNNEEDED, same version is already published
lconwaymacOS 12.7.1 Monterey / x86_64  OK    OK    OK    OK  UNNEEDED, same version is already published
kunpeng2Linux (openEuler 22.03 LTS-SP1) / aarch64  OK    OK    OK  

INSTALL results for tigre on kunpeng2


To the developers/maintainers of the tigre package:
- Allow up to 24 hours (and sometimes 48 hours) for your latest push to git@git.bioconductor.org:packages/tigre.git to reflect on this report. See Troubleshooting Build Report for more information.
- Use the following Renviron settings to reproduce errors and warnings.
- If 'R CMD check' started to fail recently on the Linux builder(s) over a missing dependency, add the missing dependency to 'Suggests:' in your DESCRIPTION file. See Renviron.bioc for more information.
- See Martin Grigorov's blog post for how to debug Linux ARM64 related issues on a x86_64 host.

raw results


Summary

Package: tigre
Version: 1.57.0
Command: /home/biocbuild/R/R-4.4-devel-2024.03.20/bin/R CMD INSTALL tigre
StartedAt: 2024-03-27 19:46:12 -0000 (Wed, 27 Mar 2024)
EndedAt: 2024-03-27 19:46:40 -0000 (Wed, 27 Mar 2024)
EllapsedTime: 27.8 seconds
RetCode: 0
Status:   OK  

Command output

##############################################################################
##############################################################################
###
### Running command:
###
###   /home/biocbuild/R/R-4.4-devel-2024.03.20/bin/R CMD INSTALL tigre
###
##############################################################################
##############################################################################


* installing to library ‘/home/biocbuild/R/R-4.4-devel-2024.03.20/site-library’
* installing *source* package ‘tigre’ ...
** using staged installation
** libs
using C compiler: ‘gcc (GCC) 10.3.1’
gcc -I"/home/biocbuild/R/R-4.4-devel-2024.03.20/include" -DNDEBUG   -I/usr/local/include    -fPIC  -g -O2  -Wall -c miscCFunctions.c -o miscCFunctions.o
gcc -shared -L/home/biocbuild/R/R-4.4-devel-2024.03.20/lib -L/usr/local/lib -o tigre.so miscCFunctions.o -L/home/biocbuild/R/R-4.4-devel-2024.03.20/lib -lR
installing to /home/biocbuild/R/R-4.4-devel-2024.03.20/site-library/00LOCK-tigre/00new/tigre/libs
** R
** data
** inst
** byte-compile and prepare package for lazy loading
** help
*** installing help indices
** building package indices
** installing vignettes
** testing if installed package can be loaded from temporary location
** checking absolute paths in shared objects and dynamic libraries
** testing if installed package can be loaded from final location
** testing if installed package keeps a record of temporary installation path
* DONE (tigre)