Back to Multiple platform build/check report for BioC 3.20:   simplified   long
[A]BCDEFGHIJKLMNOPQRSTUVWXYZ

This page was generated on 2024-05-15 13:46:26 -0400 (Wed, 15 May 2024).

HostnameOSArch (*)R versionInstalled pkgs
nebbiolo2Linux (Ubuntu 22.04.3 LTS)x86_644.4.0 RC (2024-04-16 r86468) -- "Puppy Cup" 4663
kunpeng2Linux (openEuler 22.03 LTS-SP1)aarch644.4.0 beta (2024-04-15 r86425) -- "Puppy Cup" 4480
Click on any hostname to see more info about the system (e.g. compilers)      (*) as reported by 'uname -p', except on Windows and Mac OS X

Package 54/2230HostnameOS / ArchINSTALLBUILDCHECKBUILD BIN
AllelicImbalance 1.43.0  (landing page)
Jesper R Gadin
Snapshot Date: 2024-05-13 14:05:07 -0400 (Mon, 13 May 2024)
git_url: https://git.bioconductor.org/packages/AllelicImbalance
git_branch: devel
git_last_commit: 5cc7bec
git_last_commit_date: 2024-04-30 10:33:42 -0400 (Tue, 30 Apr 2024)
nebbiolo2Linux (Ubuntu 22.04.3 LTS) / x86_64  OK    OK    OK  UNNEEDED, same version is already published
kunpeng2Linux (openEuler 22.03 LTS-SP1) / aarch64  OK    OK    OK  
kjohnson1macOS 13.6.6 Ventura / arm64see weekly results here

BUILD results for AllelicImbalance on kunpeng2


To the developers/maintainers of the AllelicImbalance package:
- Allow up to 24 hours (and sometimes 48 hours) for your latest push to git@git.bioconductor.org:packages/AllelicImbalance.git to reflect on this report. See Troubleshooting Build Report for more information.
- Use the following Renviron settings to reproduce errors and warnings.
- If 'R CMD check' started to fail recently on the Linux builder(s) over a missing dependency, add the missing dependency to 'Suggests:' in your DESCRIPTION file. See Renviron.bioc for more information.
- See Martin Grigorov's blog post for how to debug Linux ARM64 related issues on a x86_64 host.

raw results


Summary

Package: AllelicImbalance
Version: 1.42.0
Command: /home/biocbuild/R/R-beta-2024-04-15_r86425/bin/R CMD build --keep-empty-dirs --no-resave-data AllelicImbalance
StartedAt: 2024-05-08 22:16:44 -0000 (Wed, 08 May 2024)
EndedAt: 2024-05-08 22:19:52 -0000 (Wed, 08 May 2024)
EllapsedTime: 188.3 seconds
RetCode: 0
Status:   OK  
PackageFile: AllelicImbalance_1.42.0.tar.gz
PackageFileSize: 758.3 KiB

Command output

##############################################################################
##############################################################################
###
### Running command:
###
###   /home/biocbuild/R/R-beta-2024-04-15_r86425/bin/R CMD build --keep-empty-dirs --no-resave-data AllelicImbalance
###
##############################################################################
##############################################################################


* checking for file ‘AllelicImbalance/DESCRIPTION’ ... OK
* preparing ‘AllelicImbalance’:
* checking DESCRIPTION meta-information ... OK
* installing the package to build vignettes
* creating vignettes ... OK
* checking for LF line-endings in source and make files and shell scripts
* checking for empty or unneeded directories
* building ‘AllelicImbalance_1.42.0.tar.gz’