Back to Multiple platform build/check report for BioC 3.17:   simplified   long
A[B]CDEFGHIJKLMNOPQRSTUVWXYZ

This page was generated on 2023-02-08 11:05:32 -0500 (Wed, 08 Feb 2023).

HostnameOSArch (*)R versionInstalled pkgs
nebbiolo1Linux (Ubuntu 22.04.1 LTS)x86_64R Under development (unstable) (2023-01-10 r83596) -- "Unsuffered Consequences" 4484
palomino3Windows Server 2022 Datacenterx64R Under development (unstable) (2023-01-10 r83596 ucrt) -- "Unsuffered Consequences" 4250
merida1macOS 10.14.6 Mojavex86_64R Under development (unstable) (2023-01-10 r83596) -- "Unsuffered Consequences" 4273
Click on any hostname to see more info about the system (e.g. compilers)      (*) as reported by 'uname -p', except on Windows and Mac OS X

BUILD BIN results for bigmelon on palomino3


To the developers/maintainers of the bigmelon package:
- Please allow up to 24 hours (and sometimes 48 hours) for your latest push to git@git.bioconductor.org:packages/bigmelon.git to
reflect on this report. See How and When does the builder pull? When will my changes propagate? for more information.
- Make sure to use the following settings in order to reproduce any error or warning you see on this page.

raw results

Package 149/2164HostnameOS / ArchINSTALLBUILDCHECKBUILD BIN
bigmelon 1.25.1  (landing page)
Tyler J. Gorrie-Stone
Snapshot Date: 2023-02-07 14:00:21 -0500 (Tue, 07 Feb 2023)
git_url: https://git.bioconductor.org/packages/bigmelon
git_branch: master
git_last_commit: 83428d7
git_last_commit_date: 2022-12-13 06:26:43 -0500 (Tue, 13 Dec 2022)
nebbiolo1Linux (Ubuntu 22.04.1 LTS) / x86_64  OK    OK    OK  UNNEEDED, same version is already published
palomino3Windows Server 2022 Datacenter / x64  OK    OK    OK    OK  UNNEEDED, same version is already published
merida1macOS 10.14.6 Mojave / x86_64  OK    OK    OK    OK  UNNEEDED, same version is already published

Summary

Package: bigmelon
Version: 1.25.1
Command: rm -rf bigmelon.buildbin-libdir && mkdir bigmelon.buildbin-libdir && F:\biocbuild\bbs-3.17-bioc\R\bin\R.exe CMD INSTALL --build --library=bigmelon.buildbin-libdir bigmelon_1.25.1.tar.gz
StartedAt: 2023-02-08 07:58:42 -0500 (Wed, 08 Feb 2023)
EndedAt: 2023-02-08 07:59:49 -0500 (Wed, 08 Feb 2023)
EllapsedTime: 67.9 seconds
RetCode: 0
Status:   OK  
PackageFile: bigmelon_1.25.1.zip
PackageFileSize: 1.177 MiB

Command output

##############################################################################
##############################################################################
###
### Running command:
###
###   rm -rf bigmelon.buildbin-libdir && mkdir bigmelon.buildbin-libdir && F:\biocbuild\bbs-3.17-bioc\R\bin\R.exe CMD INSTALL --build --library=bigmelon.buildbin-libdir bigmelon_1.25.1.tar.gz
###
##############################################################################
##############################################################################


* installing *source* package 'bigmelon' ...
** using staged installation
** R
** data
** inst
** byte-compile and prepare package for lazy loading
No methods found in package 'RSQLite' for request: 'dbListFields' when loading 'lumi'
Creating a new generic function for 'fot' in package 'bigmelon'
** help
*** installing help indices
** building package indices
** installing vignettes
** testing if installed package can be loaded from temporary location
No methods found in package 'RSQLite' for request: 'dbListFields' when loading 'lumi'
** testing if installed package can be loaded from final location
No methods found in package 'RSQLite' for request: 'dbListFields' when loading 'lumi'
** testing if installed package keeps a record of temporary installation path
* MD5 sums
packaged installation of 'bigmelon' as bigmelon_1.25.1.zip
* DONE (bigmelon)