Back to Multiple platform build/check report for BioC 3.19:   simplified   long
ABCDEFGHIJKLMNOPQR[S]TUVWXYZ

This page was generated on 2024-03-28 11:37:09 -0400 (Thu, 28 Mar 2024).

HostnameOSArch (*)R versionInstalled pkgs
nebbiolo1Linux (Ubuntu 22.04.3 LTS)x86_64R Under development (unstable) (2024-03-18 r86148) -- "Unsuffered Consequences" 4708
palomino3Windows Server 2022 Datacenterx64R Under development (unstable) (2024-03-16 r86144 ucrt) -- "Unsuffered Consequences" 4446
lconwaymacOS 12.7.1 Montereyx86_64R Under development (unstable) (2024-03-18 r86148) -- "Unsuffered Consequences" 4471
kunpeng2Linux (openEuler 22.03 LTS-SP1)aarch64R Under development (unstable) (2024-03-19 r86153) -- "Unsuffered Consequences" 4426
Click on any hostname to see more info about the system (e.g. compilers)      (*) as reported by 'uname -p', except on Windows and Mac OS X

Package 2052/2270HostnameOS / ArchINSTALLBUILDCHECKBUILD BIN
standR 1.7.4  (landing page)
Ning Liu
Snapshot Date: 2024-03-27 14:00:18 -0400 (Wed, 27 Mar 2024)
git_url: https://git.bioconductor.org/packages/standR
git_branch: devel
git_last_commit: 23da1fa
git_last_commit_date: 2024-03-25 19:34:03 -0400 (Mon, 25 Mar 2024)
nebbiolo1Linux (Ubuntu 22.04.3 LTS) / x86_64  OK    OK    OK  UNNEEDED, same version is already published
palomino3Windows Server 2022 Datacenter / x64  OK    OK    OK    OK  UNNEEDED, same version is already published
lconwaymacOS 12.7.1 Monterey / x86_64  OK    OK    OK    OK  UNNEEDED, same version is already published
kunpeng2Linux (openEuler 22.03 LTS-SP1) / aarch64  OK    OK    OK  

INSTALL results for standR on nebbiolo1


To the developers/maintainers of the standR package:
- Allow up to 24 hours (and sometimes 48 hours) for your latest push to git@git.bioconductor.org:packages/standR.git to reflect on this report. See Troubleshooting Build Report for more information.
- Use the following Renviron settings to reproduce errors and warnings.
- If 'R CMD check' started to fail recently on the Linux builder(s) over a missing dependency, add the missing dependency to 'Suggests:' in your DESCRIPTION file. See Renviron.bioc for more information.

raw results


Summary

Package: standR
Version: 1.7.4
Command: /home/biocbuild/bbs-3.19-bioc/R/bin/R CMD INSTALL standR
StartedAt: 2024-03-27 15:34:27 -0400 (Wed, 27 Mar 2024)
EndedAt: 2024-03-27 15:34:52 -0400 (Wed, 27 Mar 2024)
EllapsedTime: 24.5 seconds
RetCode: 0
Status:   OK  

Command output

##############################################################################
##############################################################################
###
### Running command:
###
###   /home/biocbuild/bbs-3.19-bioc/R/bin/R CMD INSTALL standR
###
##############################################################################
##############################################################################


* installing to library ‘/home/biocbuild/bbs-3.19-bioc/R/site-library’
* installing *source* package ‘standR’ ...
** using staged installation
** R
** data
** inst
** byte-compile and prepare package for lazy loading
in method for ‘drawPCA’ with signature ‘"DGEList"’: no definition for class “DGEList”
in method for ‘drawPCA’ with signature ‘"SpatialExperiment"’: no definition for class “SpatialExperiment”
in method for ‘plotDR’ with signature ‘"SpatialExperiment","ANY"’: no definition for class “SpatialExperiment”
in method for ‘plotMDS’ with signature ‘"DGEList","ANY","ANY","ANY"’: no definition for class “DGEList”
in method for ‘plotMDS’ with signature ‘"SpatialExperiment"’: no definition for class “SpatialExperiment”
in method for ‘plotRLExpr’ with signature ‘"DGEList","ANY"’: no definition for class “DGEList”
** help
*** installing help indices
*** copying figures
** building package indices
** installing vignettes
** testing if installed package can be loaded from temporary location
** testing if installed package can be loaded from final location
** testing if installed package keeps a record of temporary installation path
* DONE (standR)